Workbook

Sheet L2. MANAJEMEN 19
A1: Instrumen Penghitungan Kinerja Administrasi dan Manajemen Puskesmas Tahun 2025
A3: No | B3: Jenis Variabel | C3: Definisi Operasional | D3: Skala | H3: Nilai
D4: Nilai 0 | E4: Nilai 4 | F4: Nilai 7 | G4: Nilai 10
A5: (1) | B5: (2) | C5: (3) | D5: (4) | E5: (5) | F5: (6) | G5: (7) | H5: (8)
A6: 1.Manajemen Umum
B7: Penyusunan Profil Puskesmas
B8: 1.Rencana 5 (lima) tahunan ( RBA 5 tahunan bagi puskesmas BLUD) | C8: Rencana 5 (lima) tahunan sesuai visi, misi, tugas pokok dan fungsi Puskesmas bedasarkan pada analisis kebutuhan masyarakat akan pelayanan kesehatan sebagai upaya untuk meningkatkan derajat kesehatan masyarakat secara optimal | D8: Tidak ada rencana 5 (lima) tahunan | E8: Ada, tidak sesuai visi, misi, tugas pokok dan fungsi Puskesmas, tidak berdasarkan pada analisis kebutuhan masyarakat | F8: Ada, sesuai visi, misi, tugas pokok dan fungsi Puskesmas, tidak berdasarkan pada analisis kebutuhan masyarakat | G8: Ada, sesuai visi, misi, tugas pokok dan fungsi Puskesmas bedasarkan pada analisis kebutuhan masyarakat | H8: 10
B9: 2. RUK Tahun (N+1) | C9: RUK (Rencana Usulan Kegiatan) Puskesmas untuk tahun yad ( N+1) dibuat berdasarkan analisa situasi, kebutuhan dan harapan masyarakat dan hasil capaian kinerja, prioritas serta data 2 ( dua) tahun yang lalu dan data survei, disahkan oleh Kepala Puskesmas | D9: Tidak ada | E9: Ada , tidak sesuai visi, misi, tugas pokok dan fungsi Puskesmas,tidak berdasarkan pada analisis kebutuhan masyarakat dan kinerja | F9: Ada, sesuai visi, misi, tugas pokok dan fungsi Puskesmas, tidak berdasarkan pada analisis kebutuhan masyarakat dan kinerja | G9: Ada , sesuai visi, misi, tugas pokok dan fungsi Puskesmas, bedasarkan pada analisis kebutuhan masyarakat dan kinerja , ada pengesahan kepala Puskesmas | H9: 10
B10: 3.RPK/POA bulanan/tahunan | C10: Dokumen Rencana Pelaksanaan Kegiatan (RPK), sebagai acuan pelaksanaan kegiatan yang akan dijadwalkan selama 1 (satu) tahun dengan memperhatikan visi misi dan tata nilai Puskesmas | D10: Tidak ada Ada dokumen RPK | E10: dokumen RPK tidak sesuai RUK, Tidak ada pembahasan dengan LP maupun LS, dalam penentuan jadwal | F10: dokumen RPK sesuai RUK, tidak ada pembahasan dengan LP maupun LS dalam penentuan jadwal | G10: dokumen RPK sesuai RUK, ada pembahasan dengan LP maupun LS dalam penentuan jadwal | H10: 10
B11: 4.Lokakarya Mini bulanan (lokmin bulanan) | C11: Rapat Lintas Program (LP) membahas review kegiatan, permasalahan LP,rencana tindak lanjut (corrective action) , beserta tindak lanjutnyasecara lengkap. Dokumen lokmin awal tahun memuat penyusunan POA, briefing penjelasan program dari Kapus dan detail pelaksanaan program (target, strategi pelaksana) dan kesepakatan pegawai Puskesmas. Notulen memuat evaluasi bulanan pelaksanaan kegiatan dan langkah koreksi. | D11: Tidak ada dokumen | E11: Ada, dokumen tidak memuat evaluasi bulanan pelaksanaan kegiatan dan langkah koreksi | F11: Ada, dokumen corrective action,dafar hadir, notulen hasil lokmin,undangan rapat lokmin tiap bulan lengkap | G11: Ada, dokumen yang menindaklanjuti hasil lokmin bulan sebelumnya | H11: 10
B12: 5.Lokakarya Mini tribulanan (lokmin tribulanan) | C12: Rapat lintas program dan Lintas Sektor (LS) membahas review kegiatan, permasalahan LP, corrective action, beserta tindak lanjutnya secara lengkap tindak lanjutnya. Dokumen memuat evaluasi kegiatan yang memerlukan peran LS | D12: Tidak ada dokumen | E12: Ada, dokumen tidak memuat evaluasi bulanan pelaksanaan kegiatan dan langkah koreksi | F12: Ada Dokumen corrective action,dafar hadir, notulen hasil lokmin,undangan rapat lokmin lengkap | G12: Ada, dokumen yang menindaklanjuti hasil lokmin yang melibatkan peran serta LS | H12: 10
B13: 6. Survei Keluarga Sehat (12 Indikator Keluarga Sehat) | C13: Survei meliputi: 1. KB 2. Persalinan di faskes 3. Bayi dengan imunisasi dasar lengkap, bayi dengan ASI eksklusif 4. Balita ditimbang 5. Penderita TB, hipertensi dan gangguan jiwa mendapat pengobatan, tidak merokok, JKN, air bersih dan jamban sehat yang dilakukan oleh Puskesmas dan jaringannya | D13: survei kurang dari 30% | E13: Dilakukan survei >30%, dilakukan intervensi awal dan dilakukan entri data aplikasi | F13: Dilakukan survei >30%,dilakukan intervensi awal, dilakukakan entri data apalikasi dan dilakukan analisis hasil survei | G13: Dilakukan survei minimal lebih dari 30%, telah dilakukan intervensi awal, dilakukan entri data aplikasi, dilakukan analisis data dan dilakukan intervensi lanjut` | H13: 10
B14: 7.Survei Mawas Diri (SMD) | C14: Kegiatan mengenali keadaan dan masalah yang dihadapi masyarakat serta potensi yang dimiliki masyarakat untuk mengatasi masalah tersebut.Hasil identifikasi dianalisis untuk menyusun upaya, selanjutnya masyarakat dapat digerakkan untuk berperan serta aktif untuk memperkuat upaya perbaikannya sesuai batas kewenangannya.. | D14: Tidak dilakukan | E14: Ada dokumen KA dan SOP SMD tapi belum dilaksanakan | F14: Ada dokumen KA dan SOP SMD, dilaksanakan SMD, ada rekapan hasil SMD, tidak ada analisis dan jenis kegiatan yang dibutuhkan masyarakat | G14: Ada SOP SMD, kerangka acuan, pelaksanaan, rekapan, analisis dan jenis kegiatan yang dibutuhkan masyarakat dari hasil SMD. | H14: 10
B15: 8. Pertemuan dengan masyarakat dalam rangka pemberdayaan Individu, Keluarga dan Kelompok | C15: Pertemuan dengan masyarakat dalam rangka pemberdayaan (meliputi keterlibatan dalam perencanaan, pelaksanaan dan evaluasi kegiatan) Individu, Keluarga dan Kelompok. | D15: Tidak ada pertemuan | E15: Ada pertemuan minimal 2 kali setahun | F15: ada pertemuan minimal 2 kali setahun, ada hasil pembahasan untuk pemberdayaan masyarakat | G15: ada pertemuan minimal 2 kali setahun, ada hasil pembahasan pemberdayaan masyarakat, ada tindaklanjut pemberdayaan | H15: 10
B16: 9.SK Tim mutu dan uraian tugas | C16: Surat Keputusan Kepala Puskesmas dan uraian tugas Tim Mutu (UKM Essensial, UKM pengembangan , UKP, Administrasi Manajemen, Mutu, PPI, Keselamatan Pasien serta Audit Internal), serta dilaksanakan evaluasi terhadap pelaksanaan uraian tugas minimal sekali setahun | D16: Tidak ada SK Tim, uraian tugas serta evaluasi pelaksanaan uraian tugas | E16: Ada SK Tim Mutu, tidak ada uraian tugas dan evaluasi pelaksanaan uraian tugas | F16: Ada SK Tim Mutu dan uraian tugas, tidak ada evaluasi pelaksanaan uraian tugas | G16: Ada SK Tim Mutu dan uraian tugas serta evaluasi pelaksanaan uraian tugas | H16: 10
B17: 10.Rencana program mutu dan keselamatan pasien | C17: Rencana kegiatan perbaikan/peningkatan mutu dan keselamatan pasien lengkap dengan sumber dana dan sumber daya, jadwal audit internal,kerangka acuan kegiatan dan notulen serta bukti pelaksanaan serta evaluasinya | D17: Tidak ada dokumen rencana program mutu dan keselamatan pasien | E17: Ada rencana pelaksanaan kegiatan perbaikan dan peningkatan mutu, tidak ada bukti pelaksanaan dan evaluasinya | F17: Ada sebagian dokumen rencana pelaksanaan kegiatan perbaikan dan peningkatan mutu dan bukti pelaksanaan dan evaluasi belum dilakukan | G17: Ada dokumen rencana program mutu dan keselamatan pasien lengkap dengan sumber dana, sumber daya serta bukti pelaksanaan dan evaluasinya | H17: 10
B18: 11.Pengelolaan risiko di Puskesmas | C18: Melakukan identifikasi risiko dan membuat register risiko Admin, UKM dan UKP, membuat laporan insiden KTD, KPC, KTC,KNC ,melakukan analisa, melakukan tindak lanjut dan evaluasi ,membuat pelaporan ke Dinkes Kab/Kota | D18: Tidak ada dokumen identifikasi risiko, register risiko admin, UKM dan UKP, laporan insiden KTD, KPC, KTC,KNC ,analisa, rencana tindak lanjut, tindak lanjut dan evaluasi serta pelaporan ke Dinkes Kab/Kota | E18: Ada identifikasi risiko, register risiko Admin, UKM dan UKP, tidak ada laporan insiden , analisa, rencana tindak lanjut, tindak lanjut dan evaluasi serta pelaporan ke Dinkes Kab/Kota | F18: Ada identifikasi risiko dan membuat register risiko admin, UKM dan UKP, laporan insiden KTD, KPC, KTC,KNC , tidak ada analisa, rencana tindak lanjut tindak lanjut , evaluasi dan pelaporan ke Dinkes Kab/Kota | G18: Ada identifikasi risiko dan membuat register risiko admin, UKM dan UKP, laporan insiden KTD, KPC, KTC,KNC , analisa, rencana tindak lanjut, tindak lanjut dan evaluasi serta pelaporan ke Dinkes Kab/Kota | H18: 10
B19: 12.Pengelolaan Pengaduan Pelanggan | C19: Pengelolaan pengaduan meliputi menyediakan media pengaduan, mencatat pengaduan (dari Kotak saran, sms, email, wa, telpon dll), melakukan analisa, membuat rencana tindak lanjut, tindak lanjut dan evaluasi | D19: tidak ada media pengaduan, data ada, analisa lengkap dengan rencana tindak lanjut, tindak lanjut dan evaluasi | E19: Media dan data tidak lengkap, ada analisa , rencana tindak lanjut , tindak lanjut dan evaluasi belum ada | F19: Media dan data ata lengkap,analisa sebagian ada , rencana tindak lanjut, tindak lanjut dan evaluasi belum ada . | G19: Media dan data ada, analisa lengkap dengan rencana tindak lanjut, tindak lanjut dan evaluasi | H19: 10
... B24: 17.Profil kesehatan Puskesmas | C24: Jumlah tabel yang terisi lengkap yang disertai analisa dalam satu buku /dokumen laporan profil puskesmas | D24: 0 - 35 tabel terisi lengkap | E24: 36 - 48 tabel terisi lengkap belum ada analisa | F24: 49 - 71 tabel terisi lengkap disertai analisa | G24: 72 tabel terisi lengkap disertai analisa dalam satu buku/dokumen profil | H24: 10
B25: Jumlah Nilai Manajemen Umum Puskesmas (I) | H25: total semua
H26: =SUM(H8:H24)/17 -> 10
A27: 2. Manajemen Peralatan dan Sarana Prasarana
B28: 1.Updating data Aplikasi Sarana, Prasarana dan Alat Kesehatan (ASPAK) | C28: Pembaharuan data ASPAK yang dilakukan secara berkala paling sedikit 2 (dua) kali dalam setahun setiap tanggal 30 Juni dan 31 Desember di tahun berjalan. Data ASPAK sesuai dengan kondisi riil di Puskesmas. Isian data lengkap apabila rincian keterangan data Sarana, Prasarana, Alat Kesehatan diisi lengkap, contoh : nomer seri, merek, tipe tahun pengadaan alkes dsb diisi lengkap | D28: Belum pernah dilakukan updating data | E28: Data diupdate 1 kali setahun, isian data tidak lengkap | F28: Data diupdate 1 kali setahun, Isian data lengkap | G28: Data telah di update minimal 2 kali setahun. Isian data lengkap. | H28: 10
B29: 2.Analisis data ASPAK dan rencana tindak lanjut | C29: Analisis data ASPAK berisi ketersediaan Sarana , Prasarana dan alkes (SPA) di masing-masing ruangan dan kebutuhan SPA yang belum terpenuhi.Tindak lanjut berisi upaya yang akan dilakukan dalam pemenuhan kebutuhan SPA. | D29: Tidak ada analisis data | E29: Ada analisis data , rencana tindak lanjut , tindak lanjut dan evaluasi belum ada | F29: Ada analisis data SPA , rencana tindak lanjut, tidak ada tindak lanjut dan evaluasi | G29: Ada analisis data lengkap dengan rencana tindak lanjut, tindak lanjut dan evaluasi | H29: 10
B30: 3.Pemeliharaan prasarana Puskesmas | C30: Pemeliharaan prasarana terjadwal serta dilakukan, dilengkapi dengan jadwal dan bukti pelaksanaan | D30: Tidak ada jadwal pemeliharaan prasarana dan tidak dilakukan pemeliharaan | E30: Ada jadwal pemeliharaan dan tidak dilakukan pemeliharaan | F30: Ada jadwal pemeliharaan dan dilakukan pemeliharaan. Tidak ada bukti pelaksanaan. | G30: Ada jadwal pemeliharaan dan dilakukan pemeliharaan. Ada bukti pelaksanaan. | H30: 10
B31: 4.Kalibrasi alat kesehatan | C31: Kalibrasi alkes dilakukan sesuai dengan daftar peralatan yang perlu dikalibrasi, ada jadwal, dan bukti pelaksanaan kalibrasi. | D31: Tidak ada jadwal kalibrasi dan tidak dilakukan kalibrasi | E31: Ada jadwal kalibrasi dan tidak dilakukan kalibrasi | F31: Ada jadwal kalibrasi dan dilakukan kalibrasiTidak ada bukti pelaksanaan. | G31: Ada jadwal kalibrasi dan dilakukan kalibrasi Ada bukti pelaksanaan. | H31: 10
B32: 5.Perbaikan dan pemeliharaan peralatan medis dan non medis | C32: Perbaikan dan pemeliharaan peralatan medis dan non medis terjadwal dan sudah dilakukan yang dibuktikan dengan adanya jadwal dan bukti pelaksanaan | D32: Tidak ada jadwal pemeliharaan peralatan dan tidak dilakukan pemeliharaan | E32: Ada jadwal pemeliharaan dan tidak dilakukan pemeliharaan | F32: Ada jadwal pemeliharaan dan dilakukan pemeliharaan. Tidak ada bukti pelaksanaan. | G32: Ada jadwal pemeliharaan dan dilakukan pemeliharaan. Ada bukti pelaksanaan. | H32: 10
B33: Jumlah Nilai Manajemen Peralatan dan Sarana Prasarana (II) | H33: total
H34: =SUM(H28:H32)/5 -> 10
A35: 3. Manajemen Keuangan
B36: 1.Data realisasi keuangan | C36: Realisasi capaian keuangan yang disertai bukti | D36: Tidak ada data | E36: Data/laporan tidak lengkap, belum di lakukan analisa, rencana tindak lanjut, tindak lanjut dan evaluasi | F36: Data/laporan lengkap, ada sebagian analisa, belum ada rencana tindak lanjut, tindak lanjut dan evaluasi | G36: Ada data/laporan keuangan, analisa lengkap dengan rencana tindak lanjut, tindak lanjut dan evaluasi | H36: 10
B37: 2.Data keuangan dan laporan pertanggung jawaban | C37: Data pencatatan pelaporan pertanggung jawaban keuangan ke Dinkes Kab/Kota,penerimaan dan pengeluaran , realisasi capaian keuangan yang disertai bukti | D37: Tidak ada data | E37: Data dan laporan tidak lengkap, belum ada analisa, rencana tindak lanjut, tindak lanjut dan evaluasi | F37: Data/laporan lengkap,analisa sebagian ada , rencana tindak lanjut, tindak lanjut dan evaluasi belum ada | G37: Data /laporan ada, analisa lengkap dengan rencana tindak lanjut, tindak lanjut dan evaluasi | H37: 10
B38: BLUD Puskesmas
B39: 3. Tersedia dokumen administratif ( RBA,SPM,Tata Kelola, CALK/catatan akhir laporan keuangan, Surat pernyataan Kesanggupan, SK penetapan Kepala daerah) | C39: Data pencatatan pelaporan pertanggung jawaban pelaksanaan BLUD puskesmas disertai Dokumentasi administratif BLUD dan bukti pelaksanaan | D39: Tidak ada dokumen | E39: Ada dokumen administratif RBA,SPMa,surat pernyataan kesanggupan,SK penetapan kepala daerah belum diserta analisa dan bukti pencatatan keuangan serta dokumentasi | F39: Ada dokumen administratif RBA,SPM,tata kelola,surat pernyataan kesanggupan,SK penetapan kepala daerah belum diserta bukti dan analisa masalah pencatatan keuangan dan dokumentasi | G39: Dokumen administratif lengkap RBA,SPM,tata kelola,surat pernyataan kesanggupan,SK penetapan kepala daerah diserta bukti dan analisa masalah pencatatan keuangan dan dokumentasi | H39: 10
B40: Jumlah Nilai Kinerja Manajemen Keuangan ( III) | H40: total
H41: =SUM(H36:H39)/3 -> 10
A42: 4.Manajemen Sumber Daya Manusia
B43: 1. Rencana Kebutuhan Tenaga (Renbut) | C43: Metode Penghitungan Kebutuhan SDM Kesehatan secara riil sesuai kompetensinya berdasarkan beban kerja sesuai aplikasi kemenkes | D43: Tidak ada dokumen | E43: Ada dokumen renbut, dengan hasil < 4 jenis nakes dari 9 nakes sesuai kebutuhan | F43: Ada dokumen renbut, dengan hasil < 7 jenis nakes (termasuk dokter, dokter gigi, bidan dan perawat) dari 9 nakes sesuai kebutuhan | G43: Ada dokumen renbut, dengan hasil < 9 jenis nakes (termasuk dokter, dokter gigi, bidan dan perawat) sesuai kebutuhan | H43: 10
B44: 2.SK, uraian tugas pokok (tanggung jawab dan wewenang ) serta uraian tugas integrasi /tambahan | C44: Surat Keputusan Penanggung Jawab dengan uraian tugas pokok dan tugas tambahan jabatan karyawan | D44: Tidak ada SK tentang Penanggung jawab dan uraian tugas | E44: Ada SK Penanggung Jawab dan uraian tugas 50% karyawan | F44: Ada SK Penanggung Jawab dan uraian tugas 75% karyawan | G44: Ada SK Penanggung Jawab dan uraian tugas seluruh karyawan | H44: 10
B45: 3. Data kepegawaian | C45: data kepegawaian meliputi dokumentasi STR/SIP/SIPP/SIB/SIK/SIPA dan hasil pengembangan SDM ( sertifikat,Pelatihan, seminar, workshop, dll),a nalisa pemenuhan standar jumlah dan kompetensi SDM di Puskesmas, rencana tindak lanjut, tindak lanjut dan evaluasi nya | D45: Tidak ada data | E45: Data tidak lengkap, tidak ada analisa , rencana tindak lanjut, tindak lanjut dan evaluasi | F45: Data lengkap,analisa sebagian ada , rencana tindak lanjut, tindak lanjut dan evaluasi belum ada | G45: Data lengkap, analisa lengkap dengan rencana tindak lanjut, tindak lanjut dan evaluasi | H45: 10
...

Sheet ESENSIAL
B2: PENGHITUNGAN PENILAIAN KINERJA UPAYA KESEHATAN MASYARAKAT ESENSIAL PUSKESMAS TAHUN 2025
A3: NO | B3: JENIS KEGIATAN | D3: DEFINISI OPRESIONAL | E3: CARA PERHITUNGAN | G3: SATUAN | H3: SASARAN | I3: TERGET SASARAN (T) | K3: Target Per Bulan | L3: PENCAPAIAN PER BULAN | X3: PENCAPAIAN TOTAL (H) | Y3: CAKUPAN | AA3: KETERANGAN (Tercapai / Tidak Tercapai | AB3: MASALAH | AC3: ANALISA MASALAH | AD3: RTL
E4: PEMBILANG | F4: PENYEBUT | I4: Abs | J4: % | L4: 1 | M4: 2 | N4: 3 | O4: 4 | P4: 5 | Q4: 6 | R4: 7 | S4: 8 | T4: 9 | U4: 10 | V4: 11 | W4: 12 | X4: Abs | Y4: SUBVARIABEL (%) | Z4: VARIABEL (%)
A5: 1 | B5: 2 | D5: 3 | E5: 4 | F5: 5 | G5: 6 | H5: 7 | I5: 8 | J5: 9 | L5: 10 | X5: 11 | Y5: 12 =(10/8) | Z5: 13
A6: UPAYA KESEHATAN MASYARAKAT ESENSIAL
A7: I | B7: PELAYANAN PROMOSI KESEHATAN | Z7: =(Z8+Z12+Z17+Z20+Z23)/5 -> 0.23333333
B8: 1.1. Tatanan Sehat | Z8: =SUM(Y9:Y11)/3 -> 0
B9: 1 | C9: Rumah Tangga Sehat yang memenuhi 10 indikator PHBS | D9: Rumah Tangga (RT) yang dikaji/dilaksanakan survey PHBS tatanan RT di wilayah kerja Puskesmas dan memenuhi 10 indikator PHBS pada kurun waktu satu tahun | E9: Jumlah Rumah Tangga yang memenuhi 10 indikator PHBS | F9: Jumlah sasaran Rumah Tangga yang dikaji/dilaksanakan survey PHBS dikali 100% | G9: rumah tangga | H9: 400 | I9: =H9*J9 -> 280 | J9: 0.7 | K9: =I9/12 -> 23.333333 | L9: 0 | M9: 0 | N9: 0 | O9: 0 | P9: 0 | Q9: 0 | R9: 0 | S9: 0 | T9: 0 | U9: 0 | V9: 0 | W9: 0 | X9: =SUM(L9:W9) -> 0 | Y9: =X9/H9 -> 0
B10: 2 | C10: Institusi Pendidikan yang memenuhi 8 indikator PHBS | D10: Institusi Pendidikan (SD/MI, SMP/MTs,) yang dikaji/dilaksanakan survey PHBS tatanan Instistusi Pendidikan di wilayah kerja Puskesmas dan memenuhi 8 indikator PHBS pada kurun waktu satu tahun | E10: Jumlah Institusi Pendidikan yang memenuhi 8 indikator PHBS | F10: Jumlah sasaran Institusi Pendidikan yang dikaji/dilaksanakan survey PHBS dikali 100% | G10: institusi pendidikan | H10: 16 | I10: =H10*J10 -> 9.6 | J10: 0.6 | K10: =I10/12 -> 0.8 | L10: 0 | M10: 0 | N10: 0 | O10: 0 | P10: 0 | Q10: 0 | R10: 0 | S10: 0 | T10: 0 | U10: 0 | V10: 0 | W10: 0 | X10: =SUM(L10:W10) -> 0 | Y10: =X10/H10 -> 0
B11: 3 | C11: Pondok Pesantren yang memenuhi 16-18 indikator PHBS Pondok Pesantren | D11: Pondok Pesantren yang dikaji/dilaksanakan survey PHBS tatanan Pondok Pesantren di wilayah kerja Puskesmas dan memenuhi 16-18 indikator PHBS Pondok Pesantren pada kurun waktu satu tahun | E11: Jumlah Pondok Pesantren yang memenuhi 16-18 indikator PHBS | F11: Jumlah sasaran Pondok Pesantren yang dikaji/dilaksanakan survey PHBS di kali 100% | G11: ponpes | H11: 3 | I11: =H11*J11 -> 1.8 | J11: 0.6 | K11: =I11/12 -> 0.15 | L11: 0 | M11: 0 | N11: 0 | O11: 0 | P11: 0 | Q11: 0 | R11: 0 | S11: 0 | T11: 0 | U11: 0 | V11: 0 | W11: 0 | X11: =SUM(L11:W11) -> 0 | Y11: =X11/H11 -> 0 | AC11: Banyaknya Kegiatan Yang Berbenturan di Waktu yang bersamaan | AD11: Mengorganisir waktu agar semua target tercapai
B12: 1.2. Intervensi/Penyuluhan | Z12: =SUM(Y15:Y16)/2 -> 1
K13: =I13/12 -> 0 | L13: 0 | M13: 0 | N13: 0 | O13: 0 | P13: 0 | Q13: 0 | R13: 0 | S13: 0 | T13: 0 | U13: 0 | V13: 0 | W13: 0 | X13: =SUM(L13:W13) -> 0 | Y13: =X13/H13 -> #DIV/0!
B14: 1 | C14: Kegiatan intervensi pada Kelompok Rumah Tangga | D14: Kelompok rumah tangga yang telah diintervensi terkait 10 indikator PHBS baik dengan penyuluhan kelompok dan atau bentuk intervensi lain (dengan metode apapun) oleh petugas Puskemas setiap bulan | E14: Jumlah intervensi/penyuluhan pada rumah tangga yang disurvey PHBS | F14: Jumlah intervensi/penyuluhan pada seluruh rumah tangga dikali 100% | G14: kali | H14: 15 | I14: =H14*J14 -> 15 | J14: 1 | K14: =I14/12 -> 1.25 | L14: 0 | M14: 0 | N14: 0 | O14: 0 | P14: 0 | Q14: 0 | R14: 0 | S14: 0 | T14: 0 | U14: 15 | V14: 0 | W14: 0 | X14: =SUM(L14:W14) -> 15 | Y14: =X14/H14 -> 1
B15: 4 | C15: Kegiatan intervensi pada Institusi Pendidikan | D15: Institusi Pendidikan (SD/MI, SMP/MTs) yang telah diintervensi terkait 8 indikator PHBS baik dengan penyuluhan dan atau bentuk intervensi lain (dengan metode apapun) oleh petugas Puskesmas setiap bulan | E15: Jumlah intervensi/penyuluhan pada institusi pendidikan yang disurvei PHBS | F15: Jumlah intervensi/penyuluhan pada seluruh institusi pendidikan dikali 100% | G15: institusi pendidikan | H15: 16 | I15: =H15*J15 -> 16 | J15: 1 | K15: =I15/12 -> 1.3333333 | L15: 0 | M15: 5 | N15: 5 | O15: 0 | P15: 0 | Q15: 0 | R15: 0 | S15: 0 | T15: 0 | U15: 6 | V15: 0 | W15: 0 | X15: =SUM(L15:W15) -> 16 | Y15: =X15/H15 -> 1
B16: 5 | C16: Kegiatan intervensi pada Pondok Pesantren | D16: Pondok Pesantren yang telah diintervensi terkait PHBS baik dengan penyuluhan dan atau bentuk intervensi lain (dengan metode apapun) oleh petugas Puskesmas di setiap bulan | E16: Jumlah intervensi/penyuluhan pada pondok pesantren yang disurvei PHBS | F16: Jumlah intervensi/penyuluhan pada seluruh pondok pesantren dikali 100% | G16: pondok pesantren | H16: 3 | I16: =H16*J16 -> 3 | J16: 1 | K16: =I16/12 -> 0.25 | L16: 0 | M16: 0 | N16: 0 | O16: 0 | P16: 0 | Q16: 0 | R16: 0 | S16: 0 | T16: 0 | U16: 3 | V16: 0 | W16: 0 | X16: =SUM(L16:W16) -> 3 | Y16: =X16/H16 -> 1 | AC16: Banyaknya Kegiatan Yang Berbenturan di Waktu yang bersamaan | AD16: Mengorganisir waktu agar semua target tercapai
B17: 1.3. Pengembangan UKBM | Z17: =SUM(Y18:Y19)/3 -> 0.055555556
B18: 1 | C18: Posyandu PURI (Purnama Mandiri) | D18: Posyandu yang berstrata Purnama dan Mandiri di wilayah kerja Puskesmas dalam waktu 1 tahun | E18: Jumlah Posyandu Purnama dan Mandiri | F18: Jumlah Posyandu dikali 100% | G18: Posyandu | H18: 21 | I18: =H18*J18 -> 14.7 | J18: 0.7 | K18: =I18/12 -> 1.225 | L18: 0 | M18: 0 | N18: 0 | O18: 0 | P18: 0 | Q18: 0 | R18: 0 | S18: 0 | T18: 0 | U18: 0 | V18: 0 | W18: 0 | X18: =SUM(L18:W18) -> 0 | Y18: =X18/H18 -> 0 | AD18: Pembinaan Posyandu Tiap Bulan
B19: 3 | C19: Posyandu Aktif | D19: Posyandu melakukan kegiatan minimal 10 kali/ Tahun, Memiliki Minimal 5 kader, 3 dari 4 layanan ( KIA, GIZI, Imunisasi, KB ) Memenuhi cakupan 50% sebanyak 10 Bulan dalam satu tahun, Meliki Peralatan Pertumbuhan dan Perkemabangan, ada kegiatan Pengemabangan minila 1 kegiatan ( Misalnya Pos PAUD, Kesehatan Reprodusi Remaja, Kesehatan Usia Kerja, Kesehatan Lansia, Toga, Pengendalian Penyakit dan Kesehatan Lingkungan ) | E19: Jumlah Posyandu Aktif | F19: Jumlah sasaran Posyandu di Wilayah Puskesmas dikali 100% | G19: Posyandu | H19: 21 | I19: =H19*J19 -> 10.5 | J19: 0.5 | K19: =I19/12 -> 0.875 | L19: 21 | M19: 21 | N19: 0 | O19: 0 | P19: 0 | Q19: 0 | R19: 0 | S19: 0 | T19: 0 | U19: 0 | V19: 0 | W19: 0 | X19: =SUM(L19:W19)/12 -> 3.5 | Y19: =X19/H19 -> 0.16666667 | AC19: Dibulan April bertepatan dengan Lebaran Idul Fitri ada 5 posyandu yang meliburkan posyandunya
B20: 1.4. Pengembangan Desa siaga Aktif | Z20: =SUM(Y21:Y23)/3 -> 0
B21: 1 | C21: Kelurahan Siaga Aktif | D21: Kelurahan Siaga Aktif dengan Strata Pratama, Madya, Purnama dan Mandiri di wilayah kerja Puskesmas pada kurun waktu satu tahun | E21: Jumlah Kelurahan Siaga Aktif dengan Strata Pratama, Madya, Purnama dan Mandiri | F21: Jumlah total kelurahan dikali 100% | G21: kelurahan | H21: 3 | I21: =H21*J21 -> 2.1 | J21: 0.7 | K21: =I21/12 -> 0.175 | L21: 0 | M21: 0 | N21: 0 | O21: 0 | P21: 0 | Q21: 0 | R21: 0 | S21: 0 | T21: 0 | U21: 0 | V21: 0 | W21: 0 | X21: =SUM(L21:W21) -> 0 | Y21: =X21/H21 -> 0 | AC21: Kelurahan hanya memiliki SK saja, hanya saja tidak melaksanakan kegiatan kelurahan siaga aktif
B22: 4 | C22: Mendampingi pelaksanaan Survei Mawas Diri dan Musyawarah Masyarakat Desa tentang kesehatan | D22: Jumlah kelurahan yang didampingi pelaksanaan SMD dan MMD pada kurun waktu satu tahun | E22: Jumlah kelurahan yang didampingi | F22: Jumlah total kelurahan dikali 100% | G22: kelurahan | H22: 3 | I22: =H22*J22 -> 3 | J22: 1 | K22: =I22/12 -> 0.25 | L22: 0 | M22: 0 | N22: 0 | O22: 0 | P22: 0 | Q22: 0 | R22: 0 | S22: 0 | T22: 0 | U22: 0 | V22: 0 | W22: 0 | X22: =SUM(L22:W22) -> 0 | Y22: =X22/H22 -> 0
B23: 1.5. Promosi Kesehatan dan Pemberdayaan Masyarakat | Z23: =SUM(Y24:Y26)/3 -> 0.11111111
B24: 1 | C24: Pelaksanaan GERMAS (Gerakan Masyarakat Hidup Sehat) | D24: Promosi Kesehatan program GERMAS yang dilaksanakan di dalam gedung maupun luar gedung Puskesmas minimal 12 (dua belas) kali setiap tahun | E24: Jumlah kegiatan promosi kesehatan pelaksanaan GERMAS di dalam gedung dan luar gedung Puskesmas | F24: Jumlah promosi kesehatan yang dilakukan di dalam gedung dan luar gedung Puskesmas dikali 100% | G24: kali | H24: 12 | I24: =H24*J24 -> 12 | J24: 1 | K24: =I24/12 -> 1 | L24: 1 | M24: 1 | N24: 0 | O24: 0 | P24: 0 | Q24: 0 | R24: 0 | S24: 0 | T24: 0 | U24: 0 | V24: 0 | W24: 0 | X24: =SUM(L24:W24) -> 2 | Y24: =X24/H24 -> 0.16666667
B25: 2 | C25: Pelaksanaan GERMAS minimal 5 (lima) tema | D25: Promosi Kesehatan program GERMAS yang dilaksanakan di dalam gedung maupun luar gedung Puskesmas minimal 5 (lima) tema setiap tahun | E25: Jumlah tema promosi kesehatan pelaksanaan GERMAS di dalam gedung dan luar gedung Puskesmas | F25: Jumlah tema promosi kesehatan yang dilakukan di dalam gedung dan luar gedung Puskesmas dikali 100% | G25: tema | H25: 12 | I25: =H25*J25 -> 12 | J25: 1 | K25: =I25/12 -> 1 | L25: 1 | M25: 1 | N25: 0 | O25: 0 | P25: 0 | Q25: 0 | R25: 0 | S25: 0 | T25: 0 | U25: 0 | V25: 0 | W25: 0 | X25: =SUM(L25:W25) -> 2 | Y25: =X25/H25 -> 0.16666667
B26: 3 | C26: Penggalangan dukungan Ormas/dunia usaha/kelompok potensial dalam pelaksanaan GERMAS | D26: Ormas/dunia usaha/kelompok potensial yang berperan serta dalam pelaksanaan GERMAS minimal 1 (satu) ormas/dunia usaha/kelompok potensial setiap tahun | E26: Jumlah ormas/dunia usaha/kelompok potensial yang berperan serta dalam pelaksanaan GERMAS | F26: Jumlah ormas/dunia usaha/kelompok potensial di wilayah kerja puskesmas dikali 100% | G26: ormas/dunia usaha/kelompok potensial | H26: 3 | I26: =H26*J26 -> 3 | J26: 1 | K26: =I26/12 -> 0.25 | L26: 0 | M26: 0 | N26: 0 | O26: 0 | P26: 0 | Q26: 0 | R26: 0 | S26: 0 | T26: 0 | U26: 0 | V26: 0 | W26: 0 | X26: =SUM(L26:W26) -> 0 | Y26: =X26/H26 -> 0
B27: 4 | C27: Penggalangan kerja sama dan peningkatan kapasitas Saka Bhakti Husada (SBH) | D27: Pembinaan dan pelaksanaan kegiatan yang dilakukan oleh petugas Puskesmas dan Saka Bhakti Husada (SBH) minimal 30 kali dalam satu tahun | E27: Jumlah pembinaan dan kegiatan oleh Puskesmas dan SBH | F27: jumlah pembinaan dan kegiatan oleh puskesmas dikali 100% | G27: kali | H27: 0 | I27: =H27*J27 -> 0 | J27: 0.2 | K27: =I27/12 -> 0 | L27: 0 | M27: 0 | N27: 0 | O27: 0 | P27: 0 | Q27: 0 | R27: 0 | S27: 0 | T27: 0 | U27: 0 | V27: 0 | W27: 0 | X27: =SUM(L27:W27) -> 0 | Y27: =X27/H27 -> #DIV/0! | AB27: Tidak Adanya SBH di Wilayah Kerja
A28: II | B28: PELAYANAN KESEHATAN LINGKUNGAN | Z28: =(Z29+Z33+Z36+Z39+Z42+Z46)/6 -> 0
B29: 2.1.Penyehatan Air | Z29: =SUM(Y30:Y32)/3 -> 0
B30: 1 | C30: Pengawasan Sarana Air Bersih ( SAB ) | D30: Monitoring/ Inspeksi Sanitasi/ IS terhadap Sarana Air Bersih (SAB),yaitu jaringan perpipaan, (PDAM, sambungan rumah, hidran umum, kran umum), sumur (sumur pompa tangan, sumur bor dengan pompa, sumur gali terlindung, sumur gali dengan pompa), Perlindungan Mata Air (PMA), Penampungan Air Hujan (PAH) yang disebut sebagai sistim penyediaan air bersih (SPAM) di wilayah kerja Puskesmas selama kurun waktu tertentu. | E30: Jumlah SAB yang di IS | F30: Jumlah SAB yang ada dikali 100 % | G30: SAB | H30: 3 | I30: 3 | J30: 0.15 | K30: =I30/12 -> 0.25 | L30: 0 | M30: 0 | N30: 0 | O30: 0 | P30: 0 | Q30: 0 | R30: 0 | S30: 0 | T30: 0 | U30: 0 | V30: 0 | W30: 0 | X30: =SUM(L30:W30) -> 0 | Y30: =X30/I30 -> 0
B31: 2 | C31: SAB yang memenuhi syarat kesehatan | D31: SAB dimana hasil Inspeksi Sanitasi (IS) secara teknis sudah memenuhi syarat kesehatan (kategori resiko rendah dan sedang), sehingga aman untuk dipakai kebutuhan sehari-hari (termasuk untuk kebutuhan makan dan minum) di wilayah kerja Puskesmas pada kurun waktu tertentu | E31: Jumlah SAB yang di IS dan memenuhi syarat kesehatan | F31: Jumlah SAB yang di inspeksi Sanitasi dikali 100 % | G31: SAB | H31: 3 | I31: 3 | J31: 0.83 | K31: =I31/12 -> 0.25 | L31: 0 | M31: 0 | N31: 0 | O31: 0 | P31: 0 | Q31: 0 | R31: 0 | S31: 0 | T31: 0 | U31: 0 | V31: 0 | W31: 0 | X31: =SUM(L31:W31) -> 0 | Y31: =X31/I31 -> 0
B32: 3 | C32: Rumah tangga yang memiliki akses terhadap SAB | D32: RT yang memiliki akses terhadap SAB (mudah mendapatkan air bersih yang berasal dari SAB terdekat, tidak harus memiliki SAB sendiri, bisa dari SAB umum, kerabat dekat, tetangga dll) di wilayah kerja Puskesmas pada kurun waktu tertentu | E32: Jumlah RT yang memiliki akses SAB | F32: Jumlah RT yang ada dikali 100 % | G32: KK | H32: 5214 | I32: =H32*J32 -> 4431.9 | J32: 0.85 | K32: =I32/12 -> 369.325 | L32: 0 | M32: 0 | N32: 0 | O32: 0 | P32: 0 | Q32: 0 | R32: 0 | S32: 0 | T32: 0 | U32: 0 | V32: 0 | W32: 0 | X32: =SUM(L32:W32) -> 0 | Y32: =X32/I32 -> 0
B33: 2.2.Penyehatan Makanan dan Minuman | Z33: =SUM(Y34:Y35)/2 -> 0
B34: 1 | C34: Pembinaan Tempat Pengelolaan Makanan ( TPM ) | D34: Monitoring/ Inspeksi Kesehatan Lingkungan (IKL) Tempat Pengelolaan Makanan (TPM) minimal 1 kali setahun dengan sasaran : 1. Jasa Boga / Katering; 2. Rumah Makan / Restoran 3. DAM (Depot Air Minum) 4. Kantin / sentra makanan jajanan 5. Makanan Jajanan pada kurun waktu tertentu | E34: Jumlah TPM yang di IKL | F34: Jumlah TPM yang ada dikali 100 % | G34: TPM | H34: 53 | I34: =H34*J34 -> 42.4 | J34: 0.8 | K34: =I34/12 -> 3.5333333 | L34: 0 | M34: 0 | N34: 0 | O34: 0 | P34: 0 | Q34: 0 | R34: 0 | S34: 0 | T34: 0 | U34: 0 | V34: 0 | W34: 0 | X34: =SUM(L34:W34) -> 0 | Y34: =X34/I34 -> 0
B35: 2 | C35: TPM yang memenuhi syarat kesehatan | D35: TPM yang dari segi fisik (sanitasi), penjamah, kualitas makanan memenuhi syarat tidak berpotensi menimbulkan kontaminasi atau dampak negatif kesehatan, lebih valid apabila disertai dengan bukti hasil Inspeksi sanitasi dan sertifikat laik hygiene sanitasi selama di wilayah kerja Puskesmas pada kurun waktu tertentu | E35: Jumlah TPM yang memenuhi syarat kesehatan | F35: Jumlah TPM yang dibina dikali 100 % | G35: TPM | H35: 53 | I35: =H35*J35 -> 45.05 | J35: 0.85 | K35: =I35/12 -> 3.7541667 | L35: 0 | M35: 0 | N35: 0 | O35: 0 | P35: 0 | Q35: 0 | R35: 0 | S35: 0 | T35: 0 | U35: 0 | V35: 0 | W35: 0 | X35: =SUM(L35:W35) -> 0 | Y35: =X35/I35 -> 0
B36: 2.3. Penyehatan Perumahan dan Sanitasi Dasar | Z36: =SUM(Y37:Y38)/2 -> 0
B37: 1 | C37: Pembinaan sanitasi perumahan | D37: Monitoring/ Inspeksi Sanitasi/Inspeksi Kesehatan Lingkungan (IS/IKL) rumah yang terindikasi tidak memenuhi syarat kesehatan wilayah kerja Puskesmas pada kurun waktu tertentu. | E37: Jumlah rumah yang tidak memenuhi syarat yang di IS | F37: Jumlah seluruh rumah yang tidak memenuhi syarat kesehatan dikali 100 % | G37: Rumah | H37: 5214 | I37: =H37*J37 -> 4564.857 | J37: 0.8755 | K37: =I37/12 -> 380.40475 | L37: 0 | M37: 0 | N37: 0 | O37: 0 | P37: 0 | Q37: 0 | R37: 0 | S37: 0 | T37: 0 | U37: 0 | V37: 0 | W37: 0 | X37: =SUM(L37:W37) -> 0 | Y37: =X37/I37 -> 0
B38: 2 | C38: Rumah yang memenuhi syarat kesehatan | D38: Kondisi rumah yang memenuhi syarat kesehatan sesuai standart yang ditentukan meliputi media atau parameter : air, udara, pangan, tanah, sarana, bangunan dan vektor penyakit | E38: Jumlah rumah yang memenuhi syarat kesehatan tahun sebelumnya ditambah rumah yang memenuhi syarat hasil IS/IKL tahun ini | F38: Jumlah rumah yang ada dikali 100 % | G38: Rumah | H38: 5214 | I38: =H38*J38 -> 3180.54 | J38: 0.61 | K38: =I38/12 -> 265.045 | L38: 0 | M38: 0 | N38: 0 | O38: 0 | P38: 0 | Q38: 0 | R38: 0 | S38: 0 | T38: 0 | U38: 0 | V38: 0 | W38: 0 | X38: =SUM(L38:W38) -> 0 | Y38: =X38/I38 -> 0
B39: 2.4.Pembinaan Tempat-Tempat Umum ( TTU ) | Z39: =SUM(Y40:Y41)/2 -> 0
B40: 1 | C40: Pembinaan sarana TTU Prioritas | D40: Monitoring /Inspeksi Sanitasi dan pembinaan yang meliputi rekomendasi teknis, dll terhadap penanggung jawab dan petugas. TTU Prioritas (Puskesmas, SD, SLTP) di wilayah kerja Puskesmas pada kurun waktu tertentu. | E40: Jumlah TTU Prioritas yang dibina | F40: Jumlah TTU Prioritas yang ada dikali 100 % | G40: TTU | H40: 22 | I40: =H40*J40 -> 19.14 | J40: 0.87 | K40: =I40/12 -> 1.595 | L40: 0 | M40: 0 | N40: 0 | O40: 0 | P40: 0 | Q40: 0 | R40: 0 | S40: 0 | T40: 0 | U40: 0 | V40: 0 | W40: 0 | X40: =SUM(L40:W40) -> 0 | Y40: =X40/I40 -> 0
B41: 2 | C41: TTU Prioritas yang memenuhi syarat kesehatan | D41: TTU prioritas yang memenuhi syarat kesehatan sesuai dengan pedoman yang ada, dimana secara teknis cukup aman untuk dipergunakan dan tidak memiliki resiko negatif terhadap pengguna, petugas dan lingkungan sekitar di wilayah kerja Puskesmas pada kurun waktu tertentu | E41: Jumlah TTU Prioritas yang memenuhi syarat kesehatan dibagi jumlah TTU Prioritas yang dibina/ yang diperiksa dikali 100 % | F41: Jumlah TTU Prioritas yang memenuhi syarat kesehatan dibagi jumlah TTU Prioritas yang dibina/ yang diperiksa dikali 100 % | G41: TTU | H41: 22 | I41: =H41*J41 -> 12.98 | J41: 0.59 | K41: =I41/12 -> 1.0816667 | L41: 0 | M41: 0 | N41: 0 | O41: 0 | P41: 0 | Q41: 0 | R41: 0 | S41: 0 | T41: 0 | U41: 0 | V41: 0 | W41: 0 | X41: =SUM(L41:W41) -> 0 | Y41: =X41/I41 -> 0
...

Sheet  chart mutu
B2: KINERJA MUTU PELAYANAN | C2: Target | D2: Capaian
A3: 1 | B3: Kinerja Sasaran Keselamatan Pasien | C3: 1 | D3: ='mutu pelayanan'!L7 -> 0.83333333
A4: 2 | B4: Kinerja PPI | C4: 1 | D4: ='mutu pelayanan'!L21 -> #DIV/0!
A5: 3 | B5: Indikator Nasional Mutu | C5: 1 | D5: ='mutu pelayanan'!L63 -> #DIV/0!

Sheet PENGEMBANGAN
A2: PENILAIAN KINERJA UPAYA KESEHATAN MASYARAKAT PENGEMBANGAN PUSKESMAS TAHUN 2025
A4: NO | B4: JENIS KEGIATAN | D4: DEFINISI OPRESIONAL | E4: CARA PERHITUNGAN | G4: SATUAN | H4: SASARAN | I4: TERGET SASARAN (T) | K4: PENCAPAIAN (H) | X4: CAKUPAN
E5: PEMBILANG | F5: PENYEBUT | I5: Abs | J5: % | K5: Abs | W5: TOTAL | X5: SUB VARIABEL(SV) (%) | Y5: VARIABEL (%)
A6: 1 | B6: 2 | D6: 3 | E6: 4 | F6: 5 | G6: 6 | H6: 7 | I6: 8 | J6: 9 | K6: 10 | X6: 11 =(10/8) | Y6: 12
K7: 1 | L7: 2 | M7: 3 | N7: 4 | O7: 5 | P7: 6 | Q7: 7 | R7: 8 | S7: 9 | T7: 10 | U7: 11 | V7: 12
A8: UPAYA KESEHATAN MASYARAKAT PENGEMBANGAN
A9: I | B9: PELAYANAN KESEHATAN TRADISIONAL KOMPLEMENTER | Y9: =SUM(X10:X12)/3 -> 0
B10: 1 | C10: Akupuntur | D10: pelayanan akupuntur di wilayah kerja puskesmas | E10: Jumlah pasien yang mendapatkan pelayanan akupuntur | F10: Jumlah pasien yang membutuhkan pelayanan akupuntur | G10: pasien | H10: 0 | I10: 0 | J10: 1 | K10: 0 | L10: 0 | M10: 0 | W10: =K10+L10+M10+N10+O10+P10+Q10+R10+S10+T10+U10+V10 -> 0 | Y10: 0
B11: 2 | C11: Akupresur | D11: pelayanan akupresur di wilayah puskesmas | E11: Jumlah pasien yang mendapatkan pelayanan akupresur | F11: Jumlah pasien yang membutuhkan pelayanan akupresur | G11: pasien | H11: 0 | I11: 0 | J11: 1 | K11: 0 | L11: 0 | M11: 0 | W11: =K11+L11+M11+N11+O11+P11+Q11+R11+S11+T11+U11+V11 -> 0 | Y11: 0
B12: 3 | C12: Herbal/ Ramuan | D12: pelayanan pasien dengan pengobatan herbal di wilayah kerja puskesmas | E12: Jumlah pasien yang mendapatkan pengobatan herbal di wilayah kerja | F12: jumlah pasien yang membutuhkan pengobatan herbal di wilayah kerja puskesmas | G12: pasien | H12: 0 | I12: 0 | J12: 1 | K12: 0 | L12: 0 | M12: 0 | W12: =K12+L12+M12+N12+O12+P12+Q12+R12+S12+T12+U12+V12 -> 0 | Y12: 0
B13: 4 | C13: Konseling Asman | D13: pembinaan kelompok asuhan mandiri di wilayah kerja puskemas | E13: jumlah kelompok asuhan mandiri yang mendapatkan pembinaan di wilayah kerja puskesmas | F13: jumlah kelompok asuhan mandiri di wilayah kerja puskesmas | G13: kelompok | H13: 0 | I13: 0 | J13: 1 | K13: 0 | L13: 0 | M13: 0 | W13: =K13+L13+M13+N13+O13+P13+Q13+R13+S13+T13+U13+V13 -> 0 | Y13: 0
B14: 5 | C14: Pendataan Hattra | D14: Pengumpulan data pelayanan kesehatan tradisional, fasilitas registerisasi/perizinan dan bimbingan teknis serta pemantauan yankestradkom | E14: Jumlah penyehat tradisional yang didata memiliki STPT | F14: Jumlah seluruh Penyehat tradisional di wilayah kerja puskesmas | G14: Kelurahan Sungai Siring, Kelurahan Tanah Merah, Kelurahan Pampang | H14: 3 | I14: 3 | J14: 1 | K14: 0 | L14: 0 | M14: 0 | W14: =K14+L14+M14+N14+O14+P14+Q14+R14+S14+T14+U14+V14 -> 0 | Y14: 0
A15: II | B15: PELAYANAN KESEHATAN GIGI MASYARAKAT (UKGM) | Y15: =SUM(X16:X17)/2 -> 0.31362007
B16: 1 | C16: UKGM | D16: UKGM adalah suatu pendekatan edukatif yang bertujuan untuk meningkatkan kemampuan dan peran serta masyarakat dalam pemeliharaan kesehatan gigi, dengan mengintegrasikan upaya promotif, preventif kesehatan gigi pada berbagai Upaya Kesehatan Bersumber Daya Masyarakat yang berlandaskan pendekatan Primary Health Care (Posyandu, Bina Keluarga Balita, Polindes, ponstren, Taman Kanak-Kanak dsb). | E16: posyandu balita/posyandu lansia yang dilakukan pemeriksaan Kesgilut oleh petugas pada kurun waktu tertentu | F16: Jumlah seluruh posyandu balita dan lansia di wilayah kerja dalam kurun waktu tertentu | G16: posyandu | H16: Balita, masyarakat umum dan lansia | I16: 27 | J16: 1 | K16: 0 | L16: 3 | W16: =K16+L16+M16+N16+O16+P16+Q16+R16+S16+T16+U16+V16 -> 3 | X16: =W16/I16 -> 0.11111111 | Y16: =W16/I16 -> 0.11111111
B17: 2 | C17: UKGS | D17: UKGS adalah upaya kesehatan masyarakat yang ditujukan untuk memelihara, meningkatkan kesehatan gigi dan mulut seluruh peserta didik di sekolah binaan yang ditunjang dengan upaya kesehatan perorangan berupa upaya promotif dan preventif bagi peserta didik yang memerlukan perawatan kesehatan gigi dan mulut. | E17: Sekolah yang dilakukan pemeriksaan kesgilut dalam kurun waktu tertentu | F17: Jumlah seluruh sekolah di wilayah kerja dalam kurun waktu tertentu. | G17: sekolah | H17: Siswa TK dan siswa kelas SD, SMP, SMU | I17: 31 | J17: 1 | K17: 0 | L17: 16 | W17: =K17+L17+M17+N17+O17+P17+Q17+R17+S17+T17+U17+V17 -> 16 | X17: =W17/I17 -> 0.51612903 | Y17: =W17/I17 -> 0.51612903
A19: III | B19: PELAYANAN KESEHATAN KERJA | Y19: =SUM(X20:X29)/10 -> 0.016522989
B20: 1 | C20: Penyuluhan Kesehatan di tempat kerja | D20: Jumlah penyuluhan (kali) dalam 1 tahun di masing -masing tempat kerja sektor Informal di wil kerja | E20: Jumlah penyuluhan (kali) dalam 1 tahun di tempat kerja sektor informal di wil kerja | F20: Jumlah tempat kerja sektor informal yang ada diwilayah kerja pusk. | G20: Pekerja Sektor informal | H20: 0 | I20: 0 | J20: 1 | K20: 0 | L20: 0 | M20: 0 | X20: 0 | Y20: 0
B21: 2 | C21: Cakupan Pembinaan Pos Upaya Kesehatan Kerja (UKK) | D21: Persentase Pos UKK yang mendapatkan pembinaan kesehatan kerja dari petugas Puskesmas di wilayah kerja Puskesmas dalam kurun waktu satu tahun. | E21: Jumlah Pos UKK yang mendapat pembinaan kesehatan kerja dari petugas Puskesmas | F21: Jumlah Pos UKK yang ada di wilayah kerja Puskesmas dalam kurun waktu satu tahun di Kali 100% | G21: Pos UKK | H21: 0 | I21: 0 | J21: 1 | K21: 0 | L21: 0 | M21: 0 | X21: 0 | Y21: 0
B22: 3 | C22: Puskesmas yang menyelenggarakan Kesehatan Kerja Dasar | W22: =K22+L22+M22+N22+O22+P22+Q22+R22+S22+T22+U22+V22 -> 0 | X22: 0
B23: 3a. | C23: Pekerja sektor Informal Sakit yang dilayani | D23: Prosentase Pekerja Sektor Informal Sakit yang dilayani dalam kurun waktu satu tahun | E23: Jumlah Pekerja Sektor Informal sakit yang dilayani di puskesmas | F23: Jumlah Pekerja Sakit yang dilayani di kali 100% | G23: Pekerja | H23: 0 | I23: 0 | J23: 1 | K23: 0 | L23: 0 | M23: 0 | W23: =K23+L23+M23+N23+O23+P23+Q23+R23+S23+T23+U23+V23 -> 0 | X23: 0 | Y23: 0
B24: 3b. | C24: Kasus Penyakit Akibat Kerja yang dilayani | D24: Jumlah kasus Penyakit Akibat Kerja dalam kurun waktu satu tahun | G24: pekerja | H24: 0 | I24: 0 | J24: 1 | K24: 0 | L24: 0 | M24: 0 | W24: =K24+L24+M24+N24+O24+P24+Q24+R24+S24+T24+U24+V24 -> 0 | X24: 0 | Y24: 0
B25: 3c | C25: Kasus Kecelakaan Akibat Kerja yang dilayani | D25: Jumlah kasus Kecelakaan Kerja dalam kurun waktu satu tahun | G25: pekerja | H25: 0 | I25: 0 | J25: 1 | K25: 0 | L25: 0 | M25: 0 | W25: =K25+L25+M25+N25+O25+P25+Q25+R25+S25+T25+U25+V25 -> 0 | X25: 0 | Y25: 0
B26: 3d | C26: Prosentase Pekerja Perempuan yang di layani kesehatan dasar | D26: Prosentase Pekerja Perempuan (Formal/Informal) yang dilayani kesehatan dasar dalam kurun waktu satu tahun | E26: Prosentase Pekerja Perempuan (Formal/Informal) yang dilayani kesehatan dasar | F26: Jumlah Pekerja Perempuan yang ada terdaftar x 100% | G26: pekerja perempuan | H26: Pekerja Formal dan Informal | I26: 0 | J26: 1 | K26: 0 | L26: 0 | M26: 0 | W26: =K26+L26+M26+N26+O26+P26+Q26+R26+S26+T26+U26+V26 -> 0 | X26: 0 | Y26: 0
B27: 4 | C27: Keselamatan dan Kesehatan Kerja di Puskesmas | W27: =K27+L27+M27+N27+O27+P27+Q27+R27+S27+T27+U27+V27 -> 0 | X27: 0
B28: 4a | C28: Prosentase Puskesmas yang melaksanakan K3 di Puskesmas | G28: Petugas Puskesmas | H28: Puskesmas Sungai Siring | I28: 12 | J28: 1 | K28: 1 | L28: 1 | M28: 1 | W28: =K28+L28+M28+N28+O28+P28+Q28+R28+S28+T28+U28+V28 -> 3 | X28: 0 | Y28: =W28/I28 -> 0.25
B29: 4b | C29: Prosentase Petugas Puskesmas yang memakai Alat Pelindung Diri (APD) | D29: Prosentase Petugas yang memakai APD pada saat bekerja | E29: jumlah Petugas yang mematuhi pemakaian APD | F29: Jumlah petugas yang ada di Puskesmas dikali 100% | G29: orang | H29: Pegawai Puskesmas | I29: 696 | J29: 1 | K29: 58 | L29: 57 | W29: =K29+L29+M29+N29+O29+P29+Q29+R29+S29+T29+U29+V29 -> 115 | X29: =W29/I29 -> 0.16522989 | Y29: =W29/I29 -> 0.16522989
A31: IV | B31: PELAYANAN KESEHATAN OLAH RAGA | Y31: =SUM(X32:X36)/3 -> #DIV/0!
B32: 1 | C32: Pembinaan Kelompok /Klub OR | J32: 1 | W32: =K32+L32+M32+N32+O32+P32+Q32+R32+S32+T32+U32+V32 -> 0
C33: Pemeriksaan Kesehatan | D33: Pemeriksaan kesehatan secara menyeluruh yang bertujuan untuk memastikan kondisi kesehatan dan mengantisipasi gangguan yg timbul pada diri kita sendiri . | E33: Jumlah orang yang melakukan pemeriksaan kesehatan | F33: Jumlah orang yang membutuhkan pemeriksaan kesehatan | G33: orang | H33: Petugas Puskesmas | I33: 60 | J33: 1 | K33: 0 | L33: 0 | M33: 0 | W33: =K33+L33+M33+N33+O33+P33+Q33+R33+S33+T33+U33+V33 -> 0 | X33: =W33/I33 -> 0 | Y33: =W33/I33 -> 0
C34: Penyuluhan Kesehatan | D34: Kegiatan penambahan pengetahuan yg diperuntukan bagi masyarakat melalui penyebaran pesan . Untuk mencapai tujuan hidup sehat dengan cara mempengaruhi perilaku masyarakat baik secara individu ataupu kelompok dengan penyampaian pesan | E34: Jumlah orang yang mendapatkan penyuluhan kesehatan | F34: Jumlah orang yang membutuhkan penyuluhan kesehatan | G34: orang | H34: Masyarakat umum | I34: 0 | J34: 1 | K34: 0 | L34: 0 | M34: 0 | X34: =W34/I34 -> #DIV/0! | Y34: 0
B35: 2 | C35: Pendataan Kel Olah Raga
C36: Kelompok Kelas Ibu Hamil | D36: jumlah peserta kelas ibu hamil diwilayah kerja puskesmas dalam bentuk kelompok belajar untuk meningkatkan pengetahuan dan merubah sikap | E36: jumlah kelompok ibu hamil yg melaksanakan senam | F36: jumlah ibu hamil yg datang dan melakukan senam | G36: 0 | H36: 0 | I36: 0 | J36: 1 | K36: 0 | L36: 0 | M36: 0 | W36: =K36+L36+M36+N36+O36+P36+Q36+R36+S36+T36+U36+V36 -> 0 | X36: =W36/I36 -> #DIV/0! | Y36: 0
C37: Kelompok sekolah melalui UKS | D37: Membina dan mengembangkan kebiasaan hidup sehat yg dilakukan secara terpadu melamui program pendidikan dan pelayanan kesehatan olahraga dilingkungan sekolah | E37: jumlah kelompok sekolah yg melaksanakan senam/ aktifitas fisik setiap 5- 10 menit | F37: jumlah Sekolah yg sudah melaksanakan aktifitas fisik setiap hari | G37: Sekolah | H37: 5 sekolah (3 di Kelurahan Tanah Merah, 2 di Kelurahan Sungai Siring) | I37: 5 | J37: 1 | K37: 0 | L37: 0 | M37: 0 | W37: =K37+L37+M37+N37+O37+P37+Q37+R37+S37+T37+U37+V37 -> 0 | X37: =W37/I37 -> 0 | Y37: 0
C38: Kelompok lanjut Usia | D38: Seseorang yg sudah memasuki tahapan akhir dari fase kehidupan, menjadi tua yang merupakan proses alamiah yg berarti sesorang telah melalui tiga tahap kehidupan dari anak,dewasa dan tua. | E38: jumlah kelompok lanjut usia yang terdaftar diwilayah nya | F38: Jumlah kelompok lanjut usia yang melakukan aktifitas fisik | G38: kelompok | H38: 6 kelompok (2 kelompok di Kelurahan Sungai Siring, 2 kelompok di Kelurahan Tanah Merah dan 2 kelompok di Kelurahan Pampang) | I38: 1166 | J38: 1 | K38: 87 | L38: 78 | M38: 0 | W38: =K38+L38+M38+N38+O38+P38+Q38+R38+S38+T38+U38+V38 -> 165 | X38: =W38/I38 -> 0.14150943 | Y38: 0
C39: Pelayanan Kesehatan Olah Raga
C40: Pengukuran Kebugaran Jasmani | D40: kemampuan seseorang dalam melakukan aktivitas keseharian tanpa mengalami kelelahan yg berarti dan masih mempunyai cadangan sisa tenaga utk melakukan aktifitas yg lain. | E40: jumlah kelompok olahraga yg terdaftar diwilayahnya | F40: Jumlah kelompok olahraga yg melakukan pengukuran kebugaran | G40: kelompok | H40: Pegawai Puskesmas, Pegawai Kelurahan (Kel. Sungai Siring, Kel. Tanah Merah, Kel. Pampang) dan Sekolah Menengah Atas di Wilayah Kerja | I40: 9 | J40: 1 | K40: 0 | L40: 0 | M40: 0 | X40: =W40/I40 -> 0 | Y40: =W40/I40 -> 0
B41: DST
C43: Total Nilai Kinerja UpayaKesehatan Pengembangan | Y43: =SUM(Y9:Y31) -> #DIV/0!
C44: Rata-rata Kinerja Upaya Kesehatan Pengembangan | Y44: =Y43/4 -> #DIV/0!
C45: Hasil rata-rata tingkat kinerja puskesmas:
...

Sheet mutu pelayanan
A1: PENGHITUNGAN PENILAIAN MUTU PELAYANAN PUSKESMAS TAHUN 2025
A3: No | B3: JENIS KEGIATAN | C3: Definisi Operasional | D3: Pembilang | E3: Penyebut | F3: Satuan | G3: Sasaran | H3: TERGET SASARAN (T) | J3: PENCAPAIAN (H) | K3: CAKUPAN
H4: Abs | I4: % | J4: Abs | K4: SUBVARIABEL (%) | L4: VARIABEL (%)
A5: 1 | B5: 2 | C5: 3 | D5: 4 | E5: 5 | F5: 6 | G5: 7 | H5: 8 | I5: 9 | J5: 10 | K5: 11 =(10/8) | L5: 12
A6: MUTU PELAYANAN PUSKESMAS
A7: I | B7: SASARAN KESELAMATAN PASIEN | L7: =SUM(L8:L20)/6 -> 0.83333333
B8: 1. Identifikasi Pasien dengan benar | L8: =K9 -> 1
B9: Kepatuhan petugas melakukan indentifikasi dengan menggunakan minimal dua penanda identitas yang relatif tidak berubah seperti nama lengkap, tanggal lahir,nomor rekam medis, NIK . | C9: identifikasi pasien secara benar adalah proses identifikasi yang dilakukan pemberi pelayanan dengan menggunakan minimal dua penanda identitas seperti: nama lengkap, tanggal lahir, nomor rekam medik, NIK sesuai dengan yang ditetapkan di Puskesmas, yang dilakukan pada saat :a) Tindakanpemberian obat, pemberian cairan IV b). Prosedur tindakan c). Prosedur diagnostik d). Pengambilan sampel. Identifikasi dapat dilakukan secaravisual ataupun verbal | D9: Jumlah pemberi pelayanan yang melakukan identifikasi secara benar dalam periode observasi ---inm | E9: Jumlah pemberi pelayanan yang diobservasi dalam periode observasi | F9: petugas | G9: 46 | H9: 46 | I9: 1 | J9: 46 | K9: =J9/H9 -> 1
B10: 2. Komunikasi efektif dalam pelayanan | L10: =SUM(K11:K12)/2 -> 1
B11: a. Kepatuhan petugas melakukan komunikasi efektif TBK (TulisBaca Konfirmasi )pada rawat inap dan atau rawat jalan | C11: Kepatuhan petugas melaksanaan TBK ( Tulis Baca Konfirmasi) pada saat melakukan konsultasi on call atau melaporkan hasil lab kritis kepada dokter pada periode observasi | D11: Jumlah petugas yang melakukan TBK pada saat konsultasi on caal atau pelaporan hasil lab kritis pada periode observasi | E11: Jumlah seluruh petugas pemberi pelayanan pada periode observasi | F11: petugas | G11: =7+12+1+6+3+9+20+11 -> 69 | H11: =7+12+1+6+3+9+20+11 -> 69 | I11: 1 | J11: =7+12+1+6+3+9+20+11 -> 69 | K11: =J11/H11 -> 1
B12: b. Kepatuhan petugas melakukan komunikasi efektif metode SBAR (Situastion, Background, Assesment,Recommendation)pada saat serah terima pasien pergantian shift di rawat inap | C12: Kepatuhan petugas melakukan komunikasi efektif metode SBAR (Situastion, Background, Assesment,Recommendation)pada saat serah terima pasien pergantian shift di rawat inap oada periode observasi | D12: Jumlah petugas pemberi pelayanan yang melakukan komunikasi SBAR pada saat terima pasien pergantiaan shift di rawatinap pada periode observasi | E12: Jumlah seluruh petugas pemberi pelayanan yang ditetapkan melakukan komunikasi SBAR pada saat terima pasien pergantiaan shift di rawatinap pada periode observasi | F12: Kali | G12: =7+12+1+6+3+9+20+11 -> 69 | H12: =7+12+1+6+3+9+20+11 -> 69 | I12: 1 | J12: =7+12+1+6+3+9+20+11 -> 69 | K12: =J12/H12 -> 1
B13: 3. Keamanan obat yang perlu diwaspadai | L13: =K14 -> 1
B14: Pelaksanaan pengelolaan obat LASA dan high alert di ruang farmasi dan gudang obat | C14: Pelaksanaan identifikasi, penyimpanan dan pelabelan obat LASA dan Obat Hight Alert di ruang farmasi dan gudang obat di Puskesmas | D14: Jumlah obatLASA dan high alert yang dikelola pada periode observasi | E14: Jumlah seluruh obat LASA dan high alert diruang farmasi dangudang obat pada periode observasi | F14: item | G14: 5 | H14: 5 | I14: 1 | J14: 5 | K14: =J14/H14 -> 1
B15: 4. Memastikan lokasi pembedahan yang benar, prosedur yang benar, pembedahan pada pasien yang benar (penetapan di puskesmas jenis tindakan yang akan dimonitor) | L15: =K16 -> 1
B16: Kepatuhan petugas melakukan 'Surgical Check List' pada saat melakukan tindakan pembedahan di puskesmas (dilakukan inventarisasi tindakan pembedahan yang dilayani dipuskesmas) | C16: Kepatuhan petugas melakukan 'Surgical Check List' pada saat melakukan tindakan pembedahan di puskesmas (dilakukan inventarisasi tindakan pembedahan yang dilayani dipuskesmas) | D16: Jumlah petugas yang melaksanakan surgical check list pada saat melakukan tindakan pembedahan pada periode observasi | E16: Jumlah seluruh petugas yang melaksanakan tindakan pembedahan sesuai kompetensi pada periode observasi | F16: petugas | G16: 21 | H16: 21 | I16: 1 | J16: 21 | K16: =J16/H16 -> 1
B17: 5. Kepatuhan Kebersihan Tangan | L17: =K18 -> 0
B18: Kepatuhan petugas melakukan kebersihan tangan | C18: Kepatuhan petugas melakukanan kebersihan tangan yang dilakukan dengan cara monitoring kepatuhan petugas pada 5 moment untuk cuci tangan yaitu : sebelum kontak dengan pasien,sesudah kontak dengan pasien, sebelum melakukan prosedur aseptik, setelah bersentuhan dengan cairan tubuh pasien dan setelah bersentuhan dengan lingkungan pasien , dengan metode 6 langkah cuci tangan menurut WHO | D18: Jumlah tindakan kebersihan tangan | E18: Jumlah total peluang kebersihan tangan yang seharusnya dilakukan dalam periode observasi | F18: org | G18: 2400 | H18: 1920 | I18: 0.8 | K18: =J18/H18 -> 0
B19: 6. Mengurangi risiko cedera pasien akibat terjatuh | L19: =K20 -> 1
B20: Kepatuhan petugas melakukan asesmen jatuh pada pasien rawat inap dan rawat jalan | C20: Kepatuhan petugas melakukan assesment resiko jatuh pada pasien yang beresiko jatuh dengan menggunakan metode yang ditetapkan puskesmas. Penetapan kasus resiko jatuh ditetapkan oleh Puskesmas | D20: Jumlah petugas yang melakukan identifikasi risiko jatuh pada periode observasi | E20: Jumlah seluruh petugas yang memberikan pelayanan kepada pasien pada periode observasi | F20: petugas | G20: 13 | H20: 13 | I20: 1 | J20: 13 | K20: =J20/H20 -> 1
A21: II | B21: PPI (PENCEGAHAN DAN PENGENDALIAN INFEKSI) | L21: =L22+L41+L50+L52+L55+L58+L61/7 -> #DIV/0!
A22: a | B22: Kewaspadaan standar | L22: =SUM(L23:L40)/8 -> 0.375
B23: 1. Kebersihan tangan | L23: =SUM(K24:K25)/2 -> 0
B24: a. Dilakukan sosialisas cara cuci tangan yang benar minimal 1 kali/thn baik pada petugas dan pengunjung | C24: Pelaksanaan sosialisasi cuci tangan kepada petugas dan pengunjung puskesmas minimal 1 kali/thn | D24: Jumlah pelaksanaan sosialisasi cara cuci tangan yang benar kepada petugas dan pengunjung puskesmas minimal 1 kali /thn | F24: kali | G24: 1 | H24: 1 | I24: 1 | J24: 0 | K24: =J24/H24 -> 0
B25: Kepatuhan petugas melakukan kebersihan tangan | C25: Kepatuhan petugas melakukanan kebersihan tangan yang dilakukan dengan cara monitoring kepatuhan petugas pada 5 moment untuk cuci tangan yaitu : sebelum kontak dengan pasien,sesudah kontak dengan pasien, sebelum melakukan prosedur aseptik, setelah bersentuhan dengan cairan tubuh pasien dan setelah bersentuhan dengan lingkungan pasien , dengan metode 6 langkah cuci tangan menurut WHO | D25: Jumlah tindakan kebersihan tangan yang dilakukan oleh petugas | E25: Jumlah total peluang kebersihan tangan yang seharusnya dilakukan dalam periode observasi | F25: petugas | G25: 2400 | H25: 2400 | I25: 1 | K25: =J25/H25 -> 0 | M25: idem dengan SKP 5
B26: 2. Penerapan PPI kewaspadaan standar Penggunaan APD | L26: =K27 -> 0
B27: a. Dilakukan pemantauan kepatuhan petugas terhadap pemakaian APD minimal setiap 3 bulan sekali | C27: Pelaksanaan pemantauan kepatuhan petugas terhadap pemakaian APD (Alat Pelindung Diri) pada kondisi yang ditetapkan Puskesmas memerlukan pemakaian APD sesuai PMK 27 tahun 2017 | D27: Jumlah petugas yang patuh terhadap pemakaian APD pada kondisi yang telah ditetapkan Puskesmas memerlukan pemakaian APD yang dipantau minimal 3 bulan sekali | E27: Jumlah petugas yang berada pada kondisi yang mengharuskan pemakaian APD yang telah ditetapkan Puskesmas memerlukan pemakaian APD yang dipantau minimal 3 bulan sekali | F27: petugas | G27: 612 | H27: 612 | I27: 1 | K27: =J27/H27 -> 0
B28: 3. Penerapan PPI kewaspadaan standar Dekontaminasi Peralatan Standar Perawatan Pasien | L28: =K29 -> 0.5
B29: a. kepatuhan petugas terhadap prosedur sterilisasi peralatan minimal setiap 3 bulan sekali | C29: kepatuhan petugas terhadap prosedur sterilisasi peralatan secara berkala dan dievaluasi maksimal 3 bulan sekali. | D29: Kepatuhan petugas terhadap prosedur sterilisasi peralatan pada kurun waktu tertentu | F29: petugas | G29: 12 | H29: 12 | I29: 1 | J29: 6 | K29: =J29/H29 -> 0.5
B30: 4. Penerapan PPI kewaspadaan standar Pengendalian Lingkungan | L30: =K31 -> 0.5
B31: Kepatuhan petugas melakukan pembersihan, desinfeksi permukaan lingkungan di sekitar pengguna dan pemberi layanan dari kemungkinan kontaminasi darah, produk darah atau cairan tubuh | C31: Pelaksanaan penilaian kepatuhan petugas melakukan desinfeksi permukaan lingkungan minimal 2 kali sehari di sekitar pengguna dan pemberi layanan dari kemungkinan kontaminasi darah, produk darah atau cairan tubuh | D31: Jumlah moment pelaksanaan pembersihan, desinfeksi permukaan lingkungan sekitar pengguna dan pemberi layanan yang kemungkinan kontaminasi darah,produk darah dan cairan tubuh minimal 2 kali sehari | E31: Jumlah seluruh moment kemungkinan diperlukan pembersihan,desinfeksi permukaan lingkungan dalam sehari | F31: petugas | G31: 612 | H31: 612 | I31: 1 | J31: 306 | K31: =J31/H31 -> 0.5
B32: 5. Pengelolaan Limbah | L32: =K33 -> 0.5
B33: a. Dilakukan pemantauan pemilahan limbah infeksius dan non infeksius setiap bulan sekali | C33: Pelaksanaan pemantauan pemilahan limbah infeksius dan non infeksius di masing -masing ruangan pelayanan | D33: Jumlah ruangan yang patuh melakukan pemilahan limbah infeksius dan non infeksius pada kurun waktu tertentu | E33: Jumlah seluruh ruangan puskesmas yang mengharuskan dilakukan pemilahan limbah infkesius dan non infeksius | F33: ruangan | G33: 60 | H33: 60 | I33: 1 | J33: 30 | K33: =J33/H33 -> 0.5
B34: 6. Pengelolaan linen | L34: =K35 -> 0.5
B35: a. kepatuhan petugas terhadap prosedur pengelolaan linen | C35: Pelaksanaan pemantauan prosedur terhadap prosedur pengelolaan liner secara berkala | D35: Kepatuhan petugas terhadap prosedur pengelolaan linen dalam masa observasi | F35: petugas | G35: 24 | H35: 24 | I35: 1 | J35: 12 | K35: =J35/H35 -> 0.5
B36: 7. Penerapan PPI kewaspadaan standar Etika batuk dan bersin | L36: =SUM(K37:K38)/2 -> 0.75
B37: b. Dilakukan sosialisasi etika batuk dan bersin pada pasien/pengunjung minimal 4 kali dalam setahun | C37: Pelaksanaan sosialisasi etika batuk dan bersin pada pasien/pengunjung minimal 4 kali dalam setahun | D37: Jumlah pelaksanaan sosialisasi etika batuk dan bersin pada pasien/pengunjung | E37: Jumlah pelaksanaan sosialisasi etika batuk dan bersin pada pasien/ pengunjung 4 kali dalam satu tahun di kali 100 % | F37: Kali | G37: 4 | H37: 4 | I37: 1 | J37: 2 | K37: =J37/H37 -> 0.5
B38: b. Tersedia poster etika batuk dan bersin minimal 2 poster di ruang tunggu pelayanan | C38: Pemasangan poster etika batuk minimal 2 poster di ruang tunggu pelayanan | D38: Jumlah poster etika batuk di ruang tunggu pelayanan Puskesmas dibagia 2, dikali 100% | F38: buah | G38: 2 | H38: 2 | I38: 1 | J38: 2 | K38: =J38/H38 -> 1
B39: 8. Penerapan PPI kewaspadaan standar Penempatan Pasien | L39: =SUM(K40)/2 -> 0.25
B40: a. Dilakukan pemantauan pelaksanaan pemilahan pasien di bagian pendaftaran untuk pasien yang infeksius tertentu dan non infeksius,contoh : kasus susp TB, varicella, sakit mata,dll (penetapan kasus infeksius dilakukan oleh puskesmas dari hasil kesepakatan dalam rapat PPI) | C40: Pelaksanaan monitroing kepatuhan petugas terhadap pemilahan pasin di bagian pendaftaran untuk pasien yang infeksius tertetnu dan non infkesius, dimonitor berkala | D40: Kepatuhan petugas terhadap prosedur pemilahan pasien infeksius dan non infeksiu di bagian pendaftaran dalam masa observasi | F40: petugas | G40: 12 | H40: 12 | I40: 1 | J40: 6 | K40: =J40/H40 -> 0.5
A41: b | B41: Kewaspadaan berdasarkan transmisi | L41: =SUM(L42:L49)/3 -> 0.38888889
...

Sheet  chart manajemen
A2: No | B2: KINERJA MUTU MANAJEMEN | C2: Target | D2: capaian
A3: 1 | B3: Manajemen Umum | C3: 10 | D3: ='L2. MANAJEMEN 19'!H26 -> 10
A4: 2 | B4: Manajemen Peralatan dan Sarana Prasarana | C4: 10 | D4: ='L2. MANAJEMEN 19'!H34 -> 10
A5: 3 | B5: Manajemen Keuangan | C5: 10 | D5: ='L2. MANAJEMEN 19'!H42
A6: 4 | B6: Manajemen Sumber Daya Manusia | C6: 10 | D6: ='L2. MANAJEMEN 19'!H47 -> 10
A7: 5 | B7: Manajemen Pelayanan Kefarmasian | C7: 10 | D7: ='L2. MANAJEMEN 19'!H53 -> 10
A8: 6 | B8: Manajemen Pengelolaan Data dan Informasi di Puskesmas (Puskesmas sebagai bank data) | C8: 10 | D8: ='L2. MANAJEMEN 19'!H61 -> 8.75
O22: 10 | P22: ='L2. MANAJEMEN 19'!H26 -> 10
O23: 10 | P23: ='L2. MANAJEMEN 19'!H34 -> 10
O24: 10 | P24: ='L2. MANAJEMEN 19'!H41 -> 10
O25: 10 | P25: ='L2. MANAJEMEN 19'!H47 -> 10
O26: 10 | P26: ='L2. MANAJEMEN 19'!H53 -> 10
O27: 10 | P27: ='L2. MANAJEMEN 19'!H61 -> 8.75

Sheet  chart UKM esen
B1: SPIDER CHART
B2: PKP PUSKESMAS | E2: No | F2: KINERJA UKM ESENSIAL | G2: Target | H2: Capaian
B3: TAHUN 2024 | E3: 1 | F3: Promosi Kesehatan | G3: 1 | H3: =ESENSIAL!Z7 -> 0.23333333
E4: 2 | F4: Kesehatan Lingkungan | G4: 1 | H4: =ESENSIAL!Z28 -> 0
E5: 3 | F5: Pencegahan dan Pengendalian Penyakit | G5: 1 | H5: =ESENSIAL!Z51 -> #DIV/0!
E6: 4 | F6: Pelayanan Kesehatan keluarga | G6: 1 | H6: =ESENSIAL!Z110 -> 0.043313535
E7: 5 | F7: pelayanan Gizi | G7: 1 | H7: =ESENSIAL!Z136 -> #DIV/0!
E8: 6 | F8: Perkesmas | G8: 1 | H8: =ESENSIAL!Z152 -> 0

Sheet chart pengembangan
B2: KINERJA UKM PENGEMBANGAN | C2: Target | D2: capaian
A3: 1 | B3: pelayanan kesehatan tradisional | C3: 1 | D3: =PENGEMBANGAN!#REF! -> #ERROR!
A4: 2 | B4: pelayanan kesehatan gigi | C4: 1 | D4: =PENGEMBANGAN!#REF! -> #ERROR!
A5: 3 | B5: pelayanan kesehatan kerja | C5: 1 | D5: =PENGEMBANGAN!#REF! -> #ERROR!

Sheet UKP
Y1: PENILAIAN KINERJA UPAYA KESEHATAN PERSEORANGAN (UKP) PUSKESMAS TAHUN 2023
A3: NO | B3: JENIS KEGIATAN | D3: DEFINISI OPRESIONAL | E3: CARA PERHITUNGAN | G3: SATUAN | H3: SASARAN | I3: TARGET SASARAN (T) | K3: PENCAPAIAN PER BULAN(H) | W3: CAKUPAN
E4: PEMBILANG | F4: PENYEBUT | I4: Abs | J4: % | K4: 1 | L4: 2 | M4: 3 | N4: 4 | O4: 5 | P4: 6 | Q4: 7 | R4: 8 | S4: 9 | T4: 10 | U4: 11 | V4: 12 | W4: SUBVARIABEL (%) | X4: VARIABEL (%)
A5: 1 | B5: 2 | D5: 3 | E5: 4 | F5: 5 | G5: 6 | H5: 7 | I5: 8 | J5: 9 | K5: 10 | W5: 11 =(10/8) | X5: 12
A6: UPAYA KESEHATAN PERORANGAN
A7: 1 | B7: RAWAT JALAN | X7: =SUM(W8:W15)/7 -> 0.72927145
B8: 1 | C8: Kelengkapan pengisian rekam medik | D8: Pelaksanaan monitoring kelengkapan rekam medik | E8: Jumkah rekam medik yg lengkap pengisianya | F8: Jumkah rekam medik yang diperiksa pada kurun waktu tertentu | G8: RM | H8: 100 | I8: 100 | J8: 1 | K8: 100 | L8: 100 | M8: 100 | N8: 100 | O8: 100 | P8: 100 | Q8: 100 | R8: 100 | S8: 100 | T8: 100 | U8: 100 | V8: 100 | W8: =(AVERAGE(K8:V8))/I8 -> 1
