Workbook

Sheet L2. MANAJEMEN 19
A1: Instrumen Penghitungan Kinerja Administrasi dan Manajemen Puskesmas Tahun 2025
A3: No | B3: Jenis Variabel | C3: Definisi Operasional | D3: Skala | H3: Nilai
D4: Nilai 0 | E4: Nilai 4 | F4: Nilai 7 | G4: Nilai 10
A5: (1) | B5: (2) | C5: (3) | D5: (4) | E5: (5) | F5: (6) | G5: (7) | H5: (8)
A6: 1.Manajemen Umum
B7: Penyusunan Profil Puskesmas
B8: 1.Rencana 5 (lima) tahunan ( RBA 5 tahunan bagi puskesmas BLUD) | C8: Rencana 5 (lima) tahunan sesuai visi, misi, tugas pokok dan fungsi Puskesmas bedasarkan pada analisis kebutuhan masyarakat akan pelayanan kesehatan sebagai upaya untuk meningkatkan derajat kesehatan masyarakat secara optimal | D8: Tidak ada rencana 5 (lima) tahunan | E8: Ada, tidak sesuai visi, misi, tugas pokok dan fungsi Puskesmas, tidak berdasarkan pada analisis kebutuhan masyarakat | F8: Ada, sesuai visi, misi, tugas pokok dan fungsi Puskesmas, tidak berdasarkan pada analisis kebutuhan masyarakat | G8: Ada, sesuai visi, misi, tugas pokok dan fungsi Puskesmas bedasarkan pada analisis kebutuhan masyarakat | H8: 10
B9: 2. RUK Tahun (N+1) | C9: RUK (Rencana Usulan Kegiatan) Puskesmas untuk tahun yad ( N+1) dibuat berdasarkan analisa situasi, kebutuhan dan harapan masyarakat dan hasil capaian kinerja, prioritas serta data 2 ( dua) tahun yang lalu dan data survei, disahkan oleh Kepala Puskesmas | D9: Tidak ada | E9: Ada , tidak sesuai visi, misi, tugas pokok dan fungsi Puskesmas,tidak berdasarkan pada analisis kebutuhan masyarakat dan kinerja | F9: Ada, sesuai visi, misi, tugas pokok dan fungsi Puskesmas, tidak berdasarkan pada analisis kebutuhan masyarakat dan kinerja | G9: Ada , sesuai visi, misi, tugas pokok dan fungsi Puskesmas, bedasarkan pada analisis kebutuhan masyarakat dan kinerja , ada pengesahan kepala Puskesmas | H9: 10
B10: 3.RPK/POA bulanan/tahunan | C10: Dokumen Rencana Pelaksanaan Kegiatan (RPK), sebagai acuan pelaksanaan kegiatan yang akan dijadwalkan selama 1 (satu) tahun dengan memperhatikan visi misi dan tata nilai Puskesmas | D10: Tidak ada Ada dokumen RPK | E10: dokumen RPK tidak sesuai RUK, Tidak ada pembahasan dengan LP maupun LS, dalam penentuan jadwal | F10: dokumen RPK sesuai RUK, tidak ada pembahasan dengan LP maupun LS dalam penentuan jadwal | G10: dokumen RPK sesuai RUK, ada pembahasan dengan LP maupun LS dalam penentuan jadwal | H10: 10
B11: 4.Lokakarya Mini bulanan (lokmin bulanan) | C11: Rapat Lintas Program (LP) membahas review kegiatan, permasalahan LP,rencana tindak lanjut (corrective action) , beserta tindak lanjutnyasecara lengkap. Dokumen lokmin awal tahun memuat penyusunan POA, briefing penjelasan program dari Kapus dan detail pelaksanaan program (target, strategi pelaksana) dan kesepakatan pegawai Puskesmas. Notulen memuat evaluasi bulanan pelaksanaan kegiatan dan langkah koreksi. | D11: Tidak ada dokumen | E11: Ada, dokumen tidak memuat evaluasi bulanan pelaksanaan kegiatan dan langkah koreksi | F11: Ada, dokumen corrective action,dafar hadir, notulen hasil lokmin,undangan rapat lokmin tiap bulan lengkap | G11: Ada, dokumen yang menindaklanjuti hasil lokmin bulan sebelumnya | H11: 10
B12: 5.Lokakarya Mini tribulanan (lokmin tribulanan) | C12: Rapat lintas program dan Lintas Sektor (LS) membahas review kegiatan, permasalahan LP, corrective action, beserta tindak lanjutnya secara lengkap tindak lanjutnya. Dokumen memuat evaluasi kegiatan yang memerlukan peran LS | D12: Tidak ada dokumen | E12: Ada, dokumen tidak memuat evaluasi bulanan pelaksanaan kegiatan dan langkah koreksi | F12: Ada Dokumen corrective action,dafar hadir, notulen hasil lokmin,undangan rapat lokmin lengkap | G12: Ada, dokumen yang menindaklanjuti hasil lokmin yang melibatkan peran serta LS | H12: 10
B13: 6. Survei Keluarga Sehat (12 Indikator Keluarga Sehat) | C13: Survei meliputi: 1. KB 2. Persalinan di faskes 3. Bayi dengan imunisasi dasar lengkap, bayi dengan ASI eksklusif 4. Balita ditimbang 5. Penderita TB, hipertensi dan gangguan jiwa mendapat pengobatan, tidak merokok, JKN, air bersih dan jamban sehat yang dilakukan oleh Puskesmas dan jaringannya | D13: survei kurang dari 30% | E13: Dilakukan survei >30%, dilakukan intervensi awal dan dilakukan entri data aplikasi | F13: Dilakukan survei >30%,dilakukan intervensi awal, dilakukakan entri data apalikasi dan dilakukan analisis hasil survei | G13: Dilakukan survei minimal lebih dari 30%, telah dilakukan intervensi awal, dilakukan entri data aplikasi, dilakukan analisis data dan dilakukan intervensi lanjut` | H13: 10
B14: 7.Survei Mawas Diri (SMD) | C14: Kegiatan mengenali keadaan dan masalah yang dihadapi masyarakat serta potensi yang dimiliki masyarakat untuk mengatasi masalah tersebut.Hasil identifikasi dianalisis untuk menyusun upaya, selanjutnya masyarakat dapat digerakkan untuk berperan serta aktif untuk memperkuat upaya perbaikannya sesuai batas kewenangannya.. | D14: Tidak dilakukan | E14: Ada dokumen KA dan SOP SMD tapi belum dilaksanakan | F14: Ada dokumen KA dan SOP SMD, dilaksanakan SMD, ada rekapan hasil SMD, tidak ada analisis dan jenis kegiatan yang dibutuhkan masyarakat | G14: Ada SOP SMD, kerangka acuan, pelaksanaan, rekapan, analisis dan jenis kegiatan yang dibutuhkan masyarakat dari hasil SMD. | H14: 10
B15: 8. Pertemuan dengan masyarakat dalam rangka pemberdayaan Individu, Keluarga dan Kelompok | C15: Pertemuan dengan masyarakat dalam rangka pemberdayaan (meliputi keterlibatan dalam perencanaan, pelaksanaan dan evaluasi kegiatan) Individu, Keluarga dan Kelompok. | D15: Tidak ada pertemuan | E15: Ada pertemuan minimal 2 kali setahun | F15: ada pertemuan minimal 2 kali setahun, ada hasil pembahasan untuk pemberdayaan masyarakat | G15: ada pertemuan minimal 2 kali setahun, ada hasil pembahasan pemberdayaan masyarakat, ada tindaklanjut pemberdayaan | H15: 10
B16: 9.SK Tim mutu dan uraian tugas | C16: Surat Keputusan Kepala Puskesmas dan uraian tugas Tim Mutu (UKM Essensial, UKM pengembangan , UKP, Administrasi Manajemen, Mutu, PPI, Keselamatan Pasien serta Audit Internal), serta dilaksanakan evaluasi terhadap pelaksanaan uraian tugas minimal sekali setahun | D16: Tidak ada SK Tim, uraian tugas serta evaluasi pelaksanaan uraian tugas | E16: Ada SK Tim Mutu, tidak ada uraian tugas dan evaluasi pelaksanaan uraian tugas | F16: Ada SK Tim Mutu dan uraian tugas, tidak ada evaluasi pelaksanaan uraian tugas | G16: Ada SK Tim Mutu dan uraian tugas serta evaluasi pelaksanaan uraian tugas | H16: 10
B17: 10.Rencana program mutu dan keselamatan pasien | C17: Rencana kegiatan perbaikan/peningkatan mutu dan keselamatan pasien lengkap dengan sumber dana dan sumber daya, jadwal audit internal,kerangka acuan kegiatan dan notulen serta bukti pelaksanaan serta evaluasinya | D17: Tidak ada dokumen rencana program mutu dan keselamatan pasien | E17: Ada rencana pelaksanaan kegiatan perbaikan dan peningkatan mutu, tidak ada bukti pelaksanaan dan evaluasinya | F17: Ada sebagian dokumen rencana pelaksanaan kegiatan perbaikan dan peningkatan mutu dan bukti pelaksanaan dan evaluasi belum dilakukan | G17: Ada dokumen rencana program mutu dan keselamatan pasien lengkap dengan sumber dana, sumber daya serta bukti pelaksanaan dan evaluasinya | H17: 10
B18: 11.Pengelolaan risiko di Puskesmas | C18: Melakukan identifikasi risiko dan membuat register risiko Admin, UKM dan UKP, membuat laporan insiden KTD, KPC, KTC,KNC ,melakukan analisa, melakukan tindak lanjut dan evaluasi ,membuat pelaporan ke Dinkes Kab/Kota | D18: Tidak ada dokumen identifikasi risiko, register risiko admin, UKM dan UKP, laporan insiden KTD, KPC, KTC,KNC ,analisa, rencana tindak lanjut, tindak lanjut dan evaluasi serta pelaporan ke Dinkes Kab/Kota | E18: Ada identifikasi risiko, register risiko Admin, UKM dan UKP, tidak ada laporan insiden , analisa, rencana tindak lanjut, tindak lanjut dan evaluasi serta pelaporan ke Dinkes Kab/Kota | F18: Ada identifikasi risiko dan membuat register risiko admin, UKM dan UKP, laporan insiden KTD, KPC, KTC,KNC , tidak ada analisa, rencana tindak lanjut tindak lanjut , evaluasi dan pelaporan ke Dinkes Kab/Kota | G18: Ada identifikasi risiko dan membuat register risiko admin, UKM dan UKP, laporan insiden KTD, KPC, KTC,KNC , analisa, rencana tindak lanjut, tindak lanjut dan evaluasi serta pelaporan ke Dinkes Kab/Kota | H18: 10
B19: 12.Pengelolaan Pengaduan Pelanggan | C19: Pengelolaan pengaduan meliputi menyediakan media pengaduan, mencatat pengaduan (dari Kotak saran, sms, email, wa, telpon dll), melakukan analisa, membuat rencana tindak lanjut, tindak lanjut dan evaluasi | D19: tidak ada media pengaduan, data ada, analisa lengkap dengan rencana tindak lanjut, tindak lanjut dan evaluasi | E19: Media dan data tidak lengkap, ada analisa , rencana tindak lanjut , tindak lanjut dan evaluasi belum ada | F19: Media dan data ata lengkap,analisa sebagian ada , rencana tindak lanjut, tindak lanjut dan evaluasi belum ada . | G19: Media dan data ada, analisa lengkap dengan rencana tindak lanjut, tindak lanjut dan evaluasi | H19: 10
... B24: 17.Profil kesehatan Puskesmas | C24: Jumlah tabel yang terisi lengkap yang disertai analisa dalam satu buku /dokumen laporan profil puskesmas | D24: 0 - 35 tabel terisi lengkap | E24: 36 - 48 tabel terisi lengkap belum ada analisa | F24: 49 - 71 tabel terisi lengkap disertai analisa | G24: 72 tabel terisi lengkap disertai analisa dalam satu buku/dokumen profil | H24: 10
B25: Jumlah Nilai Manajemen Umum Puskesmas (I) | H25: total semua
H26: =SUM(H8:H24)/17 -> 10
A27: 2. Manajemen Peralatan dan Sarana Prasarana
B28: 1.Updating data Aplikasi Sarana, Prasarana dan Alat Kesehatan (ASPAK) | C28: Pembaharuan data ASPAK yang dilakukan secara berkala paling sedikit 2 (dua) kali dalam setahun setiap tanggal 30 Juni dan 31 Desember di tahun berjalan. Data ASPAK sesuai dengan kondisi riil di Puskesmas. Isian data lengkap apabila rincian keterangan data Sarana, Prasarana, Alat Kesehatan diisi lengkap, contoh : nomer seri, merek, tipe tahun pengadaan alkes dsb diisi lengkap | D28: Belum pernah dilakukan updating data | E28: Data diupdate 1 kali setahun, isian data tidak lengkap | F28: Data diupdate 1 kali setahun, Isian data lengkap | G28: Data telah di update minimal 2 kali setahun. Isian data lengkap. | H28: 10
B29: 2.Analisis data ASPAK dan rencana tindak lanjut | C29: Analisis data ASPAK berisi ketersediaan Sarana , Prasarana dan alkes (SPA) di masing-masing ruangan dan kebutuhan SPA yang belum terpenuhi.Tindak lanjut berisi upaya yang akan dilakukan dalam pemenuhan kebutuhan SPA. | D29: Tidak ada analisis data | E29: Ada analisis data , rencana tindak lanjut , tindak lanjut dan evaluasi belum ada | F29: Ada analisis data SPA , rencana tindak lanjut, tidak ada tindak lanjut dan evaluasi | G29: Ada analisis data lengkap dengan rencana tindak lanjut, tindak lanjut dan evaluasi | H29: 10
B30: 3.Pemeliharaan prasarana Puskesmas | C30: Pemeliharaan prasarana terjadwal serta dilakukan, dilengkapi dengan jadwal dan bukti pelaksanaan | D30: Tidak ada jadwal pemeliharaan prasarana dan tidak dilakukan pemeliharaan | E30: Ada jadwal pemeliharaan dan tidak dilakukan pemeliharaan | F30: Ada jadwal pemeliharaan dan dilakukan pemeliharaan. Tidak ada bukti pelaksanaan. | G30: Ada jadwal pemeliharaan dan dilakukan pemeliharaan. Ada bukti pelaksanaan. | H30: 10
B31: 4.Kalibrasi alat kesehatan | C31: Kalibrasi alkes dilakukan sesuai dengan daftar peralatan yang perlu dikalibrasi, ada jadwal, dan bukti pelaksanaan kalibrasi. | D31: Tidak ada jadwal kalibrasi dan tidak dilakukan kalibrasi | E31: Ada jadwal kalibrasi dan tidak dilakukan kalibrasi | F31: Ada jadwal kalibrasi dan dilakukan kalibrasiTidak ada bukti pelaksanaan. | G31: Ada jadwal kalibrasi dan dilakukan kalibrasi Ada bukti pelaksanaan. | H31: 10
B32: 5.Perbaikan dan pemeliharaan peralatan medis dan non medis | C32: Perbaikan dan pemeliharaan peralatan medis dan non medis terjadwal dan sudah dilakukan yang dibuktikan dengan adanya jadwal dan bukti pelaksanaan | D32: Tidak ada jadwal pemeliharaan peralatan dan tidak dilakukan pemeliharaan | E32: Ada jadwal pemeliharaan dan tidak dilakukan pemeliharaan | F32: Ada jadwal pemeliharaan dan dilakukan pemeliharaan. Tidak ada bukti pelaksanaan. | G32: Ada jadwal pemeliharaan dan dilakukan pemeliharaan. Ada bukti pelaksanaan. | H32: 10
B33: Jumlah Nilai Manajemen Peralatan dan Sarana Prasarana (II) | H33: total
H34: =SUM(H28:H32)/5 -> 10
A35: 3. Manajemen Keuangan
B36: 1.Data realisasi keuangan | C36: Realisasi capaian keuangan yang disertai bukti | D36: Tidak ada data | E36: Data/laporan tidak lengkap, belum di lakukan analisa, rencana tindak lanjut, tindak lanjut dan evaluasi | F36: Data/laporan lengkap, ada sebagian analisa, belum ada rencana tindak lanjut, tindak lanjut dan evaluasi | G36: Ada data/laporan keuangan, analisa lengkap dengan rencana tindak lanjut, tindak lanjut dan evaluasi | H36: 10
B37: 2.Data keuangan dan laporan pertanggung jawaban | C37: Data pencatatan pelaporan pertanggung jawaban keuangan ke Dinkes Kab/Kota,penerimaan dan pengeluaran , realisasi capaian keuangan yang disertai bukti | D37: Tidak ada data | E37: Data dan laporan tidak lengkap, belum ada analisa, rencana tindak lanjut, tindak lanjut dan evaluasi | F37: Data/laporan lengkap,analisa sebagian ada , rencana tindak lanjut, tindak lanjut dan evaluasi belum ada | G37: Data /laporan ada, analisa lengkap dengan rencana tindak lanjut, tindak lanjut dan evaluasi | H37: 10
B38: BLUD Puskesmas
B39: 3. Tersedia dokumen administratif ( RBA,SPM,Tata Kelola, CALK/catatan akhir laporan keuangan, Surat pernyataan Kesanggupan, SK penetapan Kepala daerah) | C39: Data pencatatan pelaporan pertanggung jawaban pelaksanaan BLUD puskesmas disertai Dokumentasi administratif BLUD dan bukti pelaksanaan | D39: Tidak ada dokumen | E39: Ada dokumen administratif RBA,SPMa,surat pernyataan kesanggupan,SK penetapan kepala daerah belum diserta analisa dan bukti pencatatan keuangan serta dokumentasi | F39: Ada dokumen administratif RBA,SPM,tata kelola,surat pernyataan kesanggupan,SK penetapan kepala daerah belum diserta bukti dan analisa masalah pencatatan keuangan dan dokumentasi | G39: Dokumen administratif lengkap RBA,SPM,tata kelola,surat pernyataan kesanggupan,SK penetapan kepala daerah diserta bukti dan analisa masalah pencatatan keuangan dan dokumentasi | H39: 10
B40: Jumlah Nilai Kinerja Manajemen Keuangan ( III) | H40: total
H41: =SUM(H36:H39)/3 -> 10
A42: 4.Manajemen Sumber Daya Manusia
B43: 1. Rencana Kebutuhan Tenaga (Renbut) | C43: Metode Penghitungan Kebutuhan SDM Kesehatan secara riil sesuai kompetensinya berdasarkan beban kerja sesuai aplikasi kemenkes | D43: Tidak ada dokumen | E43: Ada dokumen renbut, dengan hasil < 4 jenis nakes dari 9 nakes sesuai kebutuhan | F43: Ada dokumen renbut, dengan hasil < 7 jenis nakes (termasuk dokter, dokter gigi, bidan dan perawat) dari 9 nakes sesuai kebutuhan | G43: Ada dokumen renbut, dengan hasil < 9 jenis nakes (termasuk dokter, dokter gigi, bidan dan perawat) sesuai kebutuhan | H43: 10
B44: 2.SK, uraian tugas pokok (tanggung jawab dan wewenang ) serta uraian tugas integrasi /tambahan | C44: Surat Keputusan Penanggung Jawab dengan uraian tugas pokok dan tugas tambahan jabatan karyawan | D44: Tidak ada SK tentang Penanggung jawab dan uraian tugas | E44: Ada SK Penanggung Jawab dan uraian tugas 50% karyawan | F44: Ada SK Penanggung Jawab dan uraian tugas 75% karyawan | G44: Ada SK Penanggung Jawab dan uraian tugas seluruh karyawan | H44: 10
B45: 3. Data kepegawaian | C45: data kepegawaian meliputi dokumentasi STR/SIP/SIPP/SIB/SIK/SIPA dan hasil pengembangan SDM ( sertifikat,Pelatihan, seminar, workshop, dll),a nalisa pemenuhan standar jumlah dan kompetensi SDM di Puskesmas, rencana tindak lanjut, tindak lanjut dan evaluasi nya | D45: Tidak ada data | E45: Data tidak lengkap, tidak ada analisa , rencana tindak lanjut, tindak lanjut dan evaluasi | F45: Data lengkap,analisa sebagian ada , rencana tindak lanjut, tindak lanjut dan evaluasi belum ada | G45: Data lengkap, analisa lengkap dengan rencana tindak lanjut, tindak lanjut dan evaluasi | H45: 10
B46: Jumlah Nilai Kinerja Manajemen Sumber Daya Manusia ( IV) | H46: total
H47: =SUM(H43:H45)/3 -> 10
A48: 5. Manajemen Pelayanan Kefarmasian
B49: 1. SOP Pelayanan Kefarmasian | C49: SOP pengelolaan sediaan farmasi (perencanaan, permintaan/pengadaan, penerimaan, penyimpanan, distribusi, pencatatan dan pelaporan, dll) dan pelayanan farmasi klinik (penyiapan obat, penyerahan obat, pemberian informasi obat, konseling, evaluasi penggunaan obat, pemantauan terapi obat, dll) | D49: Tidak ada SOP | E49: Ada SOP, tidak lengkap | F49: Ada SOP, lengkap | G49: Ada SOP, lengkap, ada dokumentasi pelaksanaan SOP | H49: 10
B50: 2. Sarana Prasarana Pelayanan Kefarmasian | C50: Sarana prasarana yang terstandar dalam pengelolaan sediaan farmasi (adanya pallet, rak obat, lemari obat, lemari narkotika psikotropika, lemari es untuk menyimpan obat, APAR, pengatur suhu, thermohigrometer, kartu stok, dll) dan sarana pendukung farmasi klinik ( alat peracikan obat, perkamen, etiket, dll) | D50: Tidak ada sarana prasarana | E50: Ada sarana prasarana, tidak lengkap sesuai kebutuhan | F50: Ada sarana prasarana, lengkap sesuai kebutuhan | G50: Ada sarana prasarana, lengkap sesuai kebutuhan, penggunaan sesuai SOP (kondisi terawat, bersih) | H50: 10
B51: 3. Data dan informasi Pelayanan Kefarmasian | C51: Data dan informasi terkait pengelolaan sediaan farmasi (pencatatan kartu stok/sistem informasi data stok obat, laporan narkotika/psikotropika, LPLPO, laporan ketersediaan obat) maupun pelayanan farmasi klinik (dokumentasi PIO, Konseling, EPO, PTO, MESO, laporan POR, kesesuaian obat dengan Fornas) secara lengkap, rutin dan tepat waktu | D51: Tidak ada data | E51: Data tidak lengkap, tidak ada analisa, tidak terarsip dengan baik, rencana tindak lanjut dan evaluasi belum ada | F51: Data lengkap, terarsip dengan baik, tidak ada analisa, tidak ada tindak lanjut dan evaluasi | G51: Data ada, terarsip dengan baik, analisa lengkap dengan rencana tindak lanjut dan evaluasi | H51: 10
H52: total
B53: Jumlah Nilai Kinerja Manajemen Pelayanan Kefarmasian ( V) | H53: =SUM(H49:H51)/3 -> 10
A55: 1.6. Manajemen Pengelolaan Data dan Informasi di Puskesmas (Puskesmas sebagai bank data)
A56: 1 | B56: 1. Tersedia Tim KBK dan uraian tugas | C56: Tersedia SK Tim KBK dan Urain tugas lengkap | D56: Tidak ada Tim KBK | E56: Tersedia Tim KBK belum ada uraian tugas | F56: Tersedia Tim KBK dan uraian tugas | G56: Tersedia lengkap SK Tim KBK beserta Uraian tugasnya | H56: 10
B57: 2. Dilakukan monitoring capaiak KBK setiap bulan minimal 1 kali dalam sebulan | C57: Monev KBK dilakukan setiap bulan dalam kurun waktu 12 bulan | D57: Tidak di lakukan | E57: Dilakukan 1 - 5 kali dalam satu tahun | F57: Dilakukan 6-11 kali dalam satu tahun | G57: Dilakukan 12 Kali dalam satu tahun | H57: 5
B58: 3.Pelaporan INM melalui aplikasi Kemenkes | C58: Pelaporan data capaian INM ( Indikator Nasional Mutu) melalui Aplikasi Mutu Fasyankes Kemenkes sesuai jadwal pelaporanmasing-masing indikator | D58: Tidak ada data dan belum dilaporkan | E58: Ada data tidak lengkap , tidak sesuai jadwal yang ditentukan | F58: Ada data lengkap dengan analisa,dilaporkan tidak sesuai jadwal | G58: Ada data , lengkap dengan analisa, dilaporkan sesuai jadwal | H58: 10
B59: 4. Pelaporan IKP melalui aplikasi Kemenkes | C59: Pelaporan data IKP (InsidenKeselamatan Pasien) melalui Aplikasi Mutu Fasyankes Kemenkes setiap bulan | D59: Tidak ada data dan belum dilaporkan | E59: Ada data tidak lengkap , tidak sesuai jadwal yang ditentukan | F59: Ada data lengkap dengan analisa,dilaporkan tidak sesuai jadwal | G59: Ada data , lengkap dengan analisa, dilaporkan sesuai jadwal | H59: 10
H60: total
B61: Jumlah Nilai Kinerja Manajemen Pengelolaan data dan informasi (VI) | H61: =SUM(H56:H59)/4 -> 8.75
B62: Total Nilai Kinerja Administrasi dan Manajemen (I- VI) | H62: =H26+H34+H41+H47+H53+H61 -> 58.75
B63: Rata-rata Kinerja Administrasi dan Manajemen | H63: =H62/6 -> 9.7916667
A65: Cara perhitungan :
A66: 1. | B66: Mengisi pada kolom nilai hasil sesuai dengan kondisi manajemen dengan nilai yang sesuai pada skala penilaian
A67: 2. | B67: Hasil akhir adalah rata-rata dari penjumlahan nilai hasil variabel manajemen
A68: 3. | B68: Hasil rata-rata dikelompokan menjadi :
B69: Baik = Nilai rata-rata > 8,5
B70: Sedang = Nilai rata-rata 5,5 - 8,4
B71: Kurang = Nilai rata-rata < 5,5

Sheet ESENSIAL
B2: PENGHITUNGAN PENILAIAN KINERJA UPAYA KESEHATAN MASYARAKAT ESENSIAL PUSKESMAS TAHUN 2025
A3: NO | B3: JENIS KEGIATAN | D3: DEFINISI OPRESIONAL | E3: CARA PERHITUNGAN | G3: SATUAN | H3: SASARAN | I3: TERGET SASARAN (T) | K3: Target Per Bulan | L3: PENCAPAIAN PER BULAN | X3: PENCAPAIAN TOTAL (H) | Y3: CAKUPAN | AA3: KETERANGAN (Tercapai / Tidak Tercapai | AB3: MASALAH | AC3: ANALISA MASALAH | AD3: RTL
E4: PEMBILANG | F4: PENYEBUT | I4: Abs | J4: % | L4: 1 | M4: 2 | N4: 3 | O4: 4 | P4: 5 | Q4: 6 | R4: 7 | S4: 8 | T4: 9 | U4: 10 | V4: 11 | W4: 12 | X4: Abs | Y4: SUBVARIABEL (%) | Z4: VARIABEL (%)
A5: 1 | B5: 2 | D5: 3 | E5: 4 | F5: 5 | G5: 6 | H5: 7 | I5: 8 | J5: 9 | L5: 10 | X5: 11 | Y5: 12 =(10/8) | Z5: 13
A6: UPAYA KESEHATAN MASYARAKAT ESENSIAL
A7: I | B7: PELAYANAN PROMOSI KESEHATAN | Z7: =(Z8+Z12+Z17+Z20+Z23)/5 -> 0.23333333
B8: 1.1. Tatanan Sehat | Z8: =SUM(Y9:Y11)/3 -> 0
B9: 1 | C9: Rumah Tangga Sehat yang memenuhi 10 indikator PHBS | D9: Rumah Tangga (RT) yang dikaji/dilaksanakan survey PHBS tatanan RT di wilayah kerja Puskesmas dan memenuhi 10 indikator PHBS pada kurun waktu satu tahun | E9: Jumlah Rumah Tangga yang memenuhi 10 indikator PHBS | F9: Jumlah sasaran Rumah Tangga yang dikaji/dilaksanakan survey PHBS dikali 100% | G9: rumah tangga | H9: 400 | I9: =H9*J9 -> 280 | J9: 0.7 | K9: =I9/12 -> 23.333333 | L9: 0 | M9: 0 | N9: 0 | O9: 0 | P9: 0 | Q9: 0 | R9: 0 | S9: 0 | T9: 0 | U9: 0 | V9: 0 | W9: 0 | X9: =SUM(L9:W9) -> 0 | Y9: =X9/H9 -> 0
B10: 2 | C10: Institusi Pendidikan yang memenuhi 8 indikator PHBS | D10: Institusi Pendidikan (SD/MI, SMP/MTs,) yang dikaji/dilaksanakan survey PHBS tatanan Instistusi Pendidikan di wilayah kerja Puskesmas dan memenuhi 8 indikator PHBS pada kurun waktu satu tahun | E10: Jumlah Institusi Pendidikan yang memenuhi 8 indikator PHBS | F10: Jumlah sasaran Institusi Pendidikan yang dikaji/dilaksanakan survey PHBS dikali 100% | G10: institusi pendidikan | H10: 16 | I10: =H10*J10 -> 9.6 | J10: 0.6 | K10: =I10/12 -> 0.8 | L10: 0 | M10: 0 | N10: 0 | O10: 0 | P10: 0 | Q10: 0 | R10: 0 | S10: 0 | T10: 0 | U10: 0 | V10: 0 | W10: 0 | X10: =SUM(L10:W10) -> 0 | Y10: =X10/H10 -> 0
B11: 3 | C11: Pondok Pesantren yang memenuhi 16-18 indikator PHBS Pondok Pesantren | D11: Pondok Pesantren yang dikaji/dilaksanakan survey PHBS tatanan Pondok Pesantren di wilayah kerja Puskesmas dan memenuhi 16-18 indikator PHBS Pondok Pesantren pada kurun waktu satu tahun | E11: Jumlah Pondok Pesantren yang memenuhi 16-18 indikator PHBS | F11: Jumlah sasaran Pondok Pesantren yang dikaji/dilaksanakan survey PHBS di kali 100% | G11: ponpes | H11: 3 | I11: =H11*J11 -> 1.8 | J11: 0.6 | K11: =I11/12 -> 0.15 | L11: 0 | M11: 0 | N11: 0 | O11: 0 | P11: 0 | Q11: 0 | R11: 0 | S11: 0 | T11: 0 | U11: 0 | V11: 0 | W11: 0 | X11: =SUM(L11:W11) -> 0 | Y11: =X11/H11 -> 0 | AC11: Banyaknya Kegiatan Yang Berbenturan di Waktu yang bersamaan | AD11: Mengorganisir waktu agar semua target tercapai
B12: 1.2. Intervensi/Penyuluhan | Z12: =SUM(Y15:Y16)/2 -> 1
K13: =I13/12 -> 0 | L13: 0 | M13: 0 | N13: 0 | O13: 0 | P13: 0 | Q13: 0 | R13: 0 | S13: 0 | T13: 0 | U13: 0 | V13: 0 | W13: 0 | X13: =SUM(L13:W13) -> 0 | Y13: =X13/H13 -> #DIV/0!
B14: 1 | C14: Kegiatan intervensi pada Kelompok Rumah Tangga | D14: Kelompok rumah tangga yang telah diintervensi terkait 10 indikator PHBS baik dengan penyuluhan kelompok dan atau bentuk intervensi lain (dengan metode apapun) oleh petugas Puskemas setiap bulan | E14: Jumlah intervensi/penyuluhan pada rumah tangga yang disurvey PHBS | F14: Jumlah intervensi/penyuluhan pada seluruh rumah tangga dikali 100% | G14: kali | H14: 15 | I14: =H14*J14 -> 15 | J14: 1 | K14: =I14/12 -> 1.25 | L14: 0 | M14: 0 | N14: 0 | O14: 0 | P14: 0 | Q14: 0 | R14: 0 | S14: 0 | T14: 0 | U14: 15 | V14: 0 | W14: 0 | X14: =SUM(L14:W14) -> 15 | Y14: =X14/H14 -> 1
B15: 4 | C15: Kegiatan intervensi pada Institusi Pendidikan | D15: Institusi Pendidikan (SD/MI, SMP/MTs) yang telah diintervensi terkait 8 indikator PHBS baik dengan penyuluhan dan atau bentuk intervensi lain (dengan metode apapun) oleh petugas Puskesmas setiap bulan | E15: Jumlah intervensi/penyuluhan pada institusi pendidikan yang disurvei PHBS | F15: Jumlah intervensi/penyuluhan pada seluruh institusi pendidikan dikali 100% | G15: institusi pendidikan | H15: 16 | I15: =H15*J15 -> 16 | J15: 1 | K15: =I15/12 -> 1.3333333 | L15: 0 | M15: 5 | N15: 5 | O15: 0 | P15: 0 | Q15: 0 | R15: 0 | S15: 0 | T15: 0 | U15: 6 | V15: 0 | W15: 0 | X15: =SUM(L15:W15) -> 16 | Y15: =X15/H15 -> 1
B16: 5 | C16: Kegiatan intervensi pada Pondok Pesantren | D16: Pondok Pesantren yang telah diintervensi terkait PHBS baik dengan penyuluhan dan atau bentuk intervensi lain (dengan metode apapun) oleh petugas Puskesmas di setiap bulan | E16: Jumlah intervensi/penyuluhan pada pondok pesantren yang disurvei PHBS | F16: Jumlah intervensi/penyuluhan pada seluruh pondok pesantren dikali 100% | G16: pondok pesantren | H16: 3 | I16: =H16*J16 -> 3 | J16: 1 | K16: =I16/12 -> 0.25 | L16: 0 | M16: 0 | N16: 0 | O16: 0 | P16: 0 | Q16: 0 | R16: 0 | S16: 0 | T16: 0 | U16: 3 | V16: 0 | W16: 0 | X16: =SUM(L16:W16) -> 3 | Y16: =X16/H16 -> 1 | AC16: Banyaknya Kegiatan Yang Berbenturan di Waktu yang bersamaan | AD16: Mengorganisir waktu agar semua target tercapai
B17: 1.3. Pengembangan UKBM | Z17: =SUM(Y18:Y19)/3 -> 0.055555556
B18: 1 | C18: Posyandu PURI (Purnama Mandiri) | D18: Posyandu yang berstrata Purnama dan Mandiri di wilayah kerja Puskesmas dalam waktu 1 tahun | E18: Jumlah Posyandu Purnama dan Mandiri | F18: Jumlah Posyandu dikali 100% | G18: Posyandu | H18: 21 | I18: =H18*J18 -> 14.7 | J18: 0.7 | K18: =I18/12 -> 1.225 | L18: 0 | M18: 0 | N18: 0 | O18: 0 | P18: 0 | Q18: 0 | R18: 0 | S18: 0 | T18: 0 | U18: 0 | V18: 0 | W18: 0 | X18: =SUM(L18:W18) -> 0 | Y18: =X18/H18 -> 0 | AD18: Pembinaan Posyandu Tiap Bulan
B19: 3 | C19: Posyandu Aktif | D19: Posyandu melakukan kegiatan minimal 10 kali/ Tahun, Memiliki Minimal 5 kader, 3 dari 4 layanan ( KIA, GIZI, Imunisasi, KB ) Memenuhi cakupan 50% sebanyak 10 Bulan dalam satu tahun, Meliki Peralatan Pertumbuhan dan Perkemabangan, ada kegiatan Pengemabangan minila 1 kegiatan ( Misalnya Pos PAUD, Kesehatan Reprodusi Remaja, Kesehatan Usia Kerja, Kesehatan Lansia, Toga, Pengendalian Penyakit dan Kesehatan Lingkungan ) | E19: Jumlah Posyandu Aktif | F19: Jumlah sasaran Posyandu di Wilayah Puskesmas dikali 100% | G19: Posyandu | H19: 21 | I19: =H19*J19 -> 10.5 | J19: 0.5 | K19: =I19/12 -> 0.875 | L19: 21 | M19: 21 | N19: 0 | O19: 0 | P19: 0 | Q19: 0 | R19: 0 | S19: 0 | T19: 0 | U19: 0 | V19: 0 | W19: 0 | X19: =SUM(L19:W19)/12 -> 3.5 | Y19: =X19/H19 -> 0.16666667 | AC19: Dibulan April bertepatan dengan Lebaran Idul Fitri ada 5 posyandu yang meliburkan posyandunya
B20: 1.4. Pengembangan Desa siaga Aktif | Z20: =SUM(Y21:Y23)/3 -> 0
B21: 1 | C21: Kelurahan Siaga Aktif | D21: Kelurahan Siaga Aktif dengan Strata Pratama, Madya, Purnama dan Mandiri di wilayah kerja Puskesmas pada kurun waktu satu tahun | E21: Jumlah Kelurahan Siaga Aktif dengan Strata Pratama, Madya, Purnama dan Mandiri | F21: Jumlah total kelurahan dikali 100% | G21: kelurahan | H21: 3 | I21: =H21*J21 -> 2.1 | J21: 0.7 | K21: =I21/12 -> 0.175 | L21: 0 | M21: 0 | N21: 0 | O21: 0 | P21: 0 | Q21: 0 | R21: 0 | S21: 0 | T21: 0 | U21: 0 | V21: 0 | W21: 0 | X21: =SUM(L21:W21) -> 0 | Y21: =X21/H21 -> 0 | AC21: Kelurahan hanya memiliki SK saja, hanya saja tidak melaksanakan kegiatan kelurahan siaga aktif
B22: 4 | C22: Mendampingi pelaksanaan Survei Mawas Diri dan Musyawarah Masyarakat Desa tentang kesehatan | D22: Jumlah kelurahan yang didampingi pelaksanaan SMD dan MMD pada kurun waktu satu tahun | E22: Jumlah kelurahan yang didampingi | F22: Jumlah total kelurahan dikali 100% | G22: kelurahan | H22: 3 | I22: =H22*J22 -> 3 | J22: 1 | K22: =I22/12 -> 0.25 | L22: 0 | M22: 0 | N22: 0 | O22: 0 | P22: 0 | Q22: 0 | R22: 0 | S22: 0 | T22: 0 | U22: 0 | V22: 0 | W22: 0 | X22: =SUM(L22:W22) -> 0 | Y22: =X22/H22 -> 0
B23: 1.5. Promosi Kesehatan dan Pemberdayaan Masyarakat | Z23: =SUM(Y24:Y26)/3 -> 0.11111111
B24: 1 | C24: Pelaksanaan GERMAS (Gerakan Masyarakat Hidup Sehat) | D24: Promosi Kesehatan program GERMAS yang dilaksanakan di dalam gedung maupun luar gedung Puskesmas minimal 12 (dua belas) kali setiap tahun | E24: Jumlah kegiatan promosi kesehatan pelaksanaan GERMAS di dalam gedung dan luar gedung Puskesmas | F24: Jumlah promosi kesehatan yang dilakukan di dalam gedung dan luar gedung Puskesmas dikali 100% | G24: kali | H24: 12 | I24: =H24*J24 -> 12 | J24: 1 | K24: =I24/12 -> 1 | L24: 1 | M24: 1 | N24: 0 | O24: 0 | P24: 0 | Q24: 0 | R24: 0 | S24: 0 | T24: 0 | U24: 0 | V24: 0 | W24: 0 | X24: =SUM(L24:W24) -> 2 | Y24: =X24/H24 -> 0.16666667
B25: 2 | C25: Pelaksanaan GERMAS minimal 5 (lima) tema | D25: Promosi Kesehatan program GERMAS yang dilaksanakan di dalam gedung maupun luar gedung Puskesmas minimal 5 (lima) tema setiap tahun | E25: Jumlah tema promosi kesehatan pelaksanaan GERMAS di dalam gedung dan luar gedung Puskesmas | F25: Jumlah tema promosi kesehatan yang dilakukan di dalam gedung dan luar gedung Puskesmas dikali 100% | G25: tema | H25: 12 | I25: =H25*J25 -> 12 | J25: 1 | K25: =I25/12 -> 1 | L25: 1 | M25: 1 | N25: 0 | O25: 0 | P25: 0 | Q25: 0 | R25: 0 | S25: 0 | T25: 0 | U25: 0 | V25: 0 | W25: 0 | X25: =SUM(L25:W25) -> 2 | Y25: =X25/H25 -> 0.16666667
B26: 3 | C26: Penggalangan dukungan Ormas/dunia usaha/kelompok potensial dalam pelaksanaan GERMAS | D26: Ormas/dunia usaha/kelompok potensial yang berperan serta dalam pelaksanaan GERMAS minimal 1 (satu) ormas/dunia usaha/kelompok potensial setiap tahun | E26: Jumlah ormas/dunia usaha/kelompok potensial yang berperan serta dalam pelaksanaan GERMAS | F26: Jumlah ormas/dunia usaha/kelompok potensial di wilayah kerja puskesmas dikali 100% | G26: ormas/dunia usaha/kelompok potensial | H26: 3 | I26: =H26*J26 -> 3 | J26: 1 | K26: =I26/12 -> 0.25 | L26: 0 | M26: 0 | N26: 0 | O26: 0 | P26: 0 | Q26: 0 | R26: 0 | S26: 0 | T26: 0 | U26: 0 | V26: 0 | W26: 0 | X26: =SUM(L26:W26) -> 0 | Y26: =X26/H26 -> 0
B27: 4 | C27: Penggalangan kerja sama dan peningkatan kapasitas Saka Bhakti Husada (SBH) | D27: Pembinaan dan pelaksanaan kegiatan yang dilakukan oleh petugas Puskesmas dan Saka Bhakti Husada (SBH) minimal 30 kali dalam satu tahun | E27: Jumlah pembinaan dan kegiatan oleh Puskesmas dan SBH | F27: jumlah pembinaan dan kegiatan oleh puskesmas dikali 100% | G27: kali | H27: 0 | I27: =H27*J27 -> 0 | J27: 0.2 | K27: =I27/12 -> 0 | L27: 0 | M27: 0 | N27: 0 | O27: 0 | P27: 0 | Q27: 0 | R27: 0 | S27: 0 | T27: 0 | U27: 0 | V27: 0 | W27: 0 | X27: =SUM(L27:W27) -> 0 | Y27: =X27/H27 -> #DIV/0! | AB27: Tidak Adanya SBH di Wilayah Kerja
A28: II | B28: PELAYANAN KESEHATAN LINGKUNGAN | Z28: =(Z29+Z33+Z36+Z39+Z42+Z46)/6 -> 0
B29: 2.1.Penyehatan Air | Z29: =SUM(Y30:Y32)/3 -> 0
B30: 1 | C30: Pengawasan Sarana Air Bersih ( SAB ) | D30: Monitoring/ Inspeksi Sanitasi/ IS terhadap Sarana Air Bersih (SAB),yaitu jaringan perpipaan, (PDAM, sambungan rumah, hidran umum, kran umum), sumur (sumur pompa tangan, sumur bor dengan pompa, sumur gali terlindung, sumur gali dengan pompa), Perlindungan Mata Air (PMA), Penampungan Air Hujan (PAH) yang disebut sebagai sistim penyediaan air bersih (SPAM) di wilayah kerja Puskesmas selama kurun waktu tertentu. | E30: Jumlah SAB yang di IS | F30: Jumlah SAB yang ada dikali 100 % | G30: SAB | H30: 3 | I30: 3 | J30: 0.15 | K30: =I30/12 -> 0.25 | L30: 0 | M30: 0 | N30: 0 | O30: 0 | P30: 0 | Q30: 0 | R30: 0 | S30: 0 | T30: 0 | U30: 0 | V30: 0 | W30: 0 | X30: =SUM(L30:W30) -> 0 | Y30: =X30/I30 -> 0
B31: 2 | C31: SAB yang memenuhi syarat kesehatan | D31: SAB dimana hasil Inspeksi Sanitasi (IS) secara teknis sudah memenuhi syarat kesehatan (kategori resiko rendah dan sedang), sehingga aman untuk dipakai kebutuhan sehari-hari (termasuk untuk kebutuhan makan dan minum) di wilayah kerja Puskesmas pada kurun waktu tertentu | E31: Jumlah SAB yang di IS dan memenuhi syarat kesehatan | F31: Jumlah SAB yang di inspeksi Sanitasi dikali 100 % | G31: SAB | H31: 3 | I31: 3 | J31: 0.83 | K31: =I31/12 -> 0.25 | L31: 0 | M31: 0 | N31: 0 | O31: 0 | P31: 0 | Q31: 0 | R31: 0 | S31: 0 | T31: 0 | U31: 0 | V31: 0 | W31: 0 | X31: =SUM(L31:W31) -> 0 | Y31: =X31/I31 -> 0
B32: 3 | C32: Rumah tangga yang memiliki akses terhadap SAB | D32: RT yang memiliki akses terhadap SAB (mudah mendapatkan air bersih yang berasal dari SAB terdekat, tidak harus memiliki SAB sendiri, bisa dari SAB umum, kerabat dekat, tetangga dll) di wilayah kerja Puskesmas pada kurun waktu tertentu | E32: Jumlah RT yang memiliki akses SAB | F32: Jumlah RT yang ada dikali 100 % | G32: KK | H32: 5214 | I32: =H32*J32 -> 4431.9 | J32: 0.85 | K32: =I32/12 -> 369.325 | L32: 0 | M32: 0 | N32: 0 | O32: 0 | P32: 0 | Q32: 0 | R32: 0 | S32: 0 | T32: 0 | U32: 0 | V32: 0 | W32: 0 | X32: =SUM(L32:W32) -> 0 | Y32: =X32/I32 -> 0
B33: 2.2.Penyehatan Makanan dan Minuman | Z33: =SUM(Y34:Y35)/2 -> 0
B34: 1 | C34: Pembinaan Tempat Pengelolaan Makanan ( TPM ) | D34: Monitoring/ Inspeksi Kesehatan Lingkungan (IKL) Tempat Pengelolaan Makanan (TPM) minimal 1 kali setahun dengan sasaran : 1. Jasa Boga / Katering; 2. Rumah Makan / Restoran 3. DAM (Depot Air Minum) 4. Kantin / sentra makanan jajanan 5. Makanan Jajanan pada kurun waktu tertentu | E34: Jumlah TPM yang di IKL | F34: Jumlah TPM yang ada dikali 100 % | G34: TPM | H34: 53 | I34: =H34*J34 -> 42.4 | J34: 0.8 | K34: =I34/12 -> 3.5333333 | L34: 0 | M34: 0 | N34: 0 | O34: 0 | P34: 0 | Q34: 0 | R34: 0 | S34: 0 | T34: 0 | U34: 0 | V34: 0 | W34: 0 | X34: =SUM(L34:W34) -> 0 | Y34: =X34/I34 -> 0
B35: 2 | C35: TPM yang memenuhi syarat kesehatan | D35: TPM yang dari segi fisik (sanitasi), penjamah, kualitas makanan memenuhi syarat tidak berpotensi menimbulkan kontaminasi atau dampak negatif kesehatan, lebih valid apabila disertai dengan bukti hasil Inspeksi sanitasi dan sertifikat laik hygiene sanitasi selama di wilayah kerja Puskesmas pada kurun waktu tertentu | E35: Jumlah TPM yang memenuhi syarat kesehatan | F35: Jumlah TPM yang dibina dikali 100 % | G35: TPM | H35: 53 | I35: =H35*J35 -> 45.05 | J35: 0.85 | K35: =I35/12 -> 3.7541667 | L35: 0 | M35: 0 | N35: 0 | O35: 0 | P35: 0 | Q35: 0 | R35: 0 | S35: 0 | T35: 0 | U35: 0 | V35: 0 | W35: 0 | X35: =SUM(L35:W35) -> 0 | Y35: =X35/I35 -> 0
B36: 2.3. Penyehatan Perumahan dan Sanitasi Dasar | Z36: =SUM(Y37:Y38)/2 -> 0
B37: 1 | C37: Pembinaan sanitasi perumahan | D37: Monitoring/ Inspeksi Sanitasi/Inspeksi Kesehatan Lingkungan (IS/IKL) rumah yang terindikasi tidak memenuhi syarat kesehatan wilayah kerja Puskesmas pada kurun waktu tertentu. | E37: Jumlah rumah yang tidak memenuhi syarat yang di IS | F37: Jumlah seluruh rumah yang tidak memenuhi syarat kesehatan dikali 100 % | G37: Rumah | H37: 5214 | I37: =H37*J37 -> 4564.857 | J37: 0.8755 | K37: =I37/12 -> 380.40475 | L37: 0 | M37: 0 | N37: 0 | O37: 0 | P37: 0 | Q37: 0 | R37: 0 | S37: 0 | T37: 0 | U37: 0 | V37: 0 | W37: 0 | X37: =SUM(L37:W37) -> 0 | Y37: =X37/I37 -> 0
B38: 2 | C38: Rumah yang memenuhi syarat kesehatan | D38: Kondisi rumah yang memenuhi syarat kesehatan sesuai standart yang ditentukan meliputi media atau parameter : air, udara, pangan, tanah, sarana, bangunan dan vektor penyakit | E38: Jumlah rumah yang memenuhi syarat kesehatan tahun sebelumnya ditambah rumah yang memenuhi syarat hasil IS/IKL tahun ini | F38: Jumlah rumah yang ada dikali 100 % | G38: Rumah | H38: 5214 | I38: =H38*J38 -> 3180.54 | J38: 0.61 | K38: =I38/12 -> 265.045 | L38: 0 | M38: 0 | N38: 0 | O38: 0 | P38: 0 | Q38: 0 | R38: 0 | S38: 0 | T38: 0 | U38: 0 | V38: 0 | W38: 0 | X38: =SUM(L38:W38) -> 0 | Y38: =X38/I38 -> 0
B39: 2.4.Pembinaan Tempat-Tempat Umum ( TTU ) | Z39: =SUM(Y40:Y41)/2 -> 0
B40: 1 | C40: Pembinaan sarana TTU Prioritas | D40: Monitoring /Inspeksi Sanitasi dan pembinaan yang meliputi rekomendasi teknis, dll terhadap penanggung jawab dan petugas. TTU Prioritas (Puskesmas, SD, SLTP) di wilayah kerja Puskesmas pada kurun waktu tertentu. | E40: Jumlah TTU Prioritas yang dibina | F40: Jumlah TTU Prioritas yang ada dikali 100 % | G40: TTU | H40: 22 | I40: =H40*J40 -> 19.14 | J40: 0.87 | K40: =I40/12 -> 1.595 | L40: 0 | M40: 0 | N40: 0 | O40: 0 | P40: 0 | Q40: 0 | R40: 0 | S40: 0 | T40: 0 | U40: 0 | V40: 0 | W40: 0 | X40: =SUM(L40:W40) -> 0 | Y40: =X40/I40 -> 0
B41: 2 | C41: TTU Prioritas yang memenuhi syarat kesehatan | D41: TTU prioritas yang memenuhi syarat kesehatan sesuai dengan pedoman yang ada, dimana secara teknis cukup aman untuk dipergunakan dan tidak memiliki resiko negatif terhadap pengguna, petugas dan lingkungan sekitar di wilayah kerja Puskesmas pada kurun waktu tertentu | E41: Jumlah TTU Prioritas yang memenuhi syarat kesehatan dibagi jumlah TTU Prioritas yang dibina/ yang diperiksa dikali 100 % | F41: Jumlah TTU Prioritas yang memenuhi syarat kesehatan dibagi jumlah TTU Prioritas yang dibina/ yang diperiksa dikali 100 % | G41: TTU | H41: 22 | I41: =H41*J41 -> 12.98 | J41: 0.59 | K41: =I41/12 -> 1.0816667 | L41: 0 | M41: 0 | N41: 0 | O41: 0 | P41: 0 | Q41: 0 | R41: 0 | S41: 0 | T41: 0 | U41: 0 | V41: 0 | W41: 0 | X41: =SUM(L41:W41) -> 0 | Y41: =X41/I41 -> 0
B42: 2.5.Yankesling (Klinik Sanitasi) | Z42: =SUM(Y43:Y45)/3 -> 0
B43: 1 | C43: Konseling Sanitasi | D43: Pelayanan berupa konseling sanitasi yang diberikan kepada pasien/penderita Penyakit yang Berbasis Lingkungan (PBL), yaitu ISPA, TBC, DBD, malaria, chikungunya, flu burung, filariasis, kecacingan, diare, kulit, keracunan makanan dan peptisida di wilayah kerja Puskesmas pada kurun waktu tertentu. | E43: Jumlah pasien PBL yang dikonseling | F43: Jumlah Pasien PBL di wilayah Puskesmas pada bulan yang sama dikali 100 % . | G43: Pasien | H43: 120 | I43: =H43*J43 -> 60 | J43: 0.5 | K43: =I43/12 -> 5 | L43: 0 | M43: 0 | N43: 0 | O43: 0 | P43: 0 | Q43: 0 | R43: 0 | S43: 0 | T43: 0 | U43: 0 | V43: 0 | W43: 0 | X43: =SUM(L43:W43) -> 0 | Y43: =X43/I43 -> 0
B44: 2 | C44: Inspeksi Sanitasi PBL | D44: Inspeksi Sanitasi/Inspeksi Kesehatan Lingkungan terhadap sarana pasien PBL yang telah dikonseling | E44: Jumlah IS sarana pasien PBL yang dikonseling | F44: Jumlah pasien yang dikonseling dikali 100% | G44: pasien | H44: 120 | I44: =H44*J44 -> 48 | J44: 0.4 | K44: =I44/12 -> 4 | L44: 0 | M44: 0 | N44: 0 | O44: 0 | P44: 0 | Q44: 0 | R44: 0 | S44: 0 | T44: 0 | U44: 0 | V44: 0 | W44: 0 | X44: =SUM(L44:W44) -> 0 | Y44: =X44/I44 -> 0
B45: 3 | C45: Intervensi terhadap pasien PBL yang di IS | D45: Pasien PBL menindaklanjuti hasil inspeksi | E45: Jumlah pasien PBL yang menindaklanjuti hasil inspeksi | F45: Jumlah pasien PBL yang di IS dikali 100% | G45: Pasien | H45: 120 | I45: =H45*J45 -> 48 | J45: 0.4 | K45: =I45/12 -> 4 | L45: 0 | M45: 0 | N45: 0 | O45: 0 | P45: 0 | Q45: 0 | R45: 0 | S45: 0 | T45: 0 | U45: 0 | V45: 0 | W45: 0 | X45: =SUM(L45:W45) -> 0 | Y45: =X45/I45 -> 0
B46: 2.6. Sanitasi Total Berbasis Masyarakat ( STBM ) = Pemberdayaan Masyarakat | Z46: =SUM(Y47:Y50)/4 -> 0
B47: 1 | C47: KK memiliki Akses terhadap jamban sehat | D47: Kepala Keluarga (KK) yang memiliki akses jamban sehat apabila KK tersebut dengan mudah dapat menjangkau dan memanfaatkan jamban terdekat /mengakses terhadap jamban sehat di wilayah kerja Puskesmas dalam waktu 1 (satu) tahun berjalan | E47: Jumlah KK yang memiliki akses jamban sehat | F47: Jumlah KK yang ada dikali 100 % | G47: KK | H47: 5988 | I47: =H47*J47 -> 5329.32 | J47: 0.89 | K47: =I47/12 -> 444.11 | L47: 0 | M47: 0 | N47: 0 | O47: 0 | P47: 0 | Q47: 0 | R47: 0 | S47: 0 | T47: 0 | U47: 0 | V47: 0 | W47: 0 | X47: =SUM(L47:W47) -> 0 | Y47: =X47/I47 -> 0
B48: 2 | C48: Desa/kelurahan yang sudah ODF | D48: Desa/Kelurahan yang masyarakatnya sudah tidak ada yang berperilaku buang air besar di sembarangan tempat tetapi sudah buang air besar di tempat yang terpusat/jamban sehat pada kurun waktu tertentu. Setiap Puskesmas minimal bisa menciptakan 1 (satu) desa ODF (Open Defecation Free) setiap tahunnya | E48: Jumlah Desa/Kelurahan yang sudah ODF | F48: Jumlah desa/kelurahan yang ada dikali 100 % | G48: Desa/Kel | H48: 0 | I48: =H48*J48 -> 0 | J48: 0.89 | K48: =I48/12 -> 0 | L48: 0 | M48: 0 | N48: 0 | O48: 0 | P48: 0 | Q48: 0 | R48: 0 | S48: 0 | T48: 0 | U48: 0 | V48: 0 | W48: 0 | X48: =SUM(L48:W48) -> 0 | Y48: 0
B49: 3 | C49: Jamban Sehat | D49: Jamban yang: dapat mencegah kontaminasi ke badan air, dapat mencegah kontak antara manusia dan tinja, tinja di tempat yang tertutup, dapat mengurangi resiko terjadinya penularan penyakit akibat terjadinya kontaminasi terhadap lingkungan sekitar, tidak berbau dan mudah dibersihkan, lubang kloset tidak berhubungan langsung dengan kotoran (sistem leher angsa, ada septic tank dll) | E49: Jumlah jamban sehat yang memenuhi syarat kesehatan | F49: Jumlah rumah yang ada dikali 100 % | G49: Jamban | H49: 2994 | I49: =H49*J49 -> 2664.66 | J49: 0.89 | K49: =I49/12 -> 222.055 | L49: 0 | M49: 0 | N49: 0 | O49: 0 | P49: 0 | Q49: 0 | R49: 0 | S49: 0 | T49: 0 | U49: 0 | V49: 0 | W49: 0 | X49: =SUM(L49:W49) -> 0 | Y49: =X49/I49 -> 0
B50: 4 | C50: Pelaksanaan Kegiatan STBM di Puskesmas | D50: Kegiatan pemberdayaan masyarakat desa/kelurahan dengan pendekatan STBM 5 Pilar yaitu : 1. Tidak buang air besar di sembarang tempat, 2. Cuci tangan pakai sabun, 3. Mengelola air minum dan makanan yang aman, 4. Mengelola sampah dengan benar; 5. Mengelola limbah cair rumah tangga dengan aman | E50: Jumlah Desa/ Kelurahan yang melakssanakan STBM 5 Pilar | F50: Jumlah Desa/ Kelurahan yang ada dikali 100 % | G50: Desa/Kel | H50: 3 | I50: 3 | J50: 0.75 | K50: =I50/12 -> 0.25 | L50: 0 | M50: 0 | N50: 0 | O50: 0 | P50: 0 | Q50: 0 | R50: 0 | S50: 0 | T50: 0 | U50: 0 | V50: 0 | W50: 0 | X50: =SUM(L50:W50) -> 0 | Y50: =X50/I50 -> 0
A51: III | B51: PELAYANAN PENCEGAHAN DAN PENGENDALIAN PENYAKIT | Z51: =(Z52+Z72+Z108)/3 -> #DIV/0!
B52: A | C52: PENYAKIT MENULAR | Z52: =SUM(Z53:Z70)/8 -> #DIV/0!
B53: 1 | C53: KUSTA | Z53: =SUM(Y54:Y55)/2 -> 1.1111111
C54: RFT penderita Kusta | D54: Release From Treatment (RFT) bila penderita baru tipe PB 1 (satu) tahun sebelumnya dan tipe MB 2 (dua) tahun sebelumnya menyelesaikan pengobatan tepat waktu di wilayah kerja Puskesmas pada kurun waktu tertentu | E54: Jumlah penderita baru PB 1 (satu) tahun sebelumnya dan MB (dua) tahun sebelumnya menyelesaikan pengobatan tepat waktu dibagi | F54: Jumlah penderit baru ( PB ) 1 tahun sebelumnya dan MB 2 tahun sebelumnya yang mulai pengebotan di kali 100% | G54: Kasus | H54: 1 | I54: =H54*J54 -> 0.9 | J54: 0.9 | K54: =I54/12 -> 0.075 | L54: 1 | M54: 1 | N54: 0 | O54: 0 | P54: 0 | Q54: 0 | R54: 0 | S54: 0 | T54: 0 | U54: 0 | V54: 0 | W54: 0 | X54: =SUM(L54:W54) -> 2 | Y54: =X54/I54 -> 2.2222222
C55: Pemeriksaan kontak dari kasus kusta baru | D55: Pemeriksaan kontak serumah dan tetangga sejumlah lebih kurang 10 (sepuluh) rumah disekitar penderita Kusta baru yang diperiksa. Dengan asumsi jumlah kontak yang ada disekitar penderita sejumlah 25 orang di wilayah kerja Puskesmas pada kurun waktu tertentu | E55: Jumlah kontak dari kasus kusta baru yang diperiksa dalam 1 (satu) tahun dibagi jumlah kontak dari kusta baru seluruhnya dikali 100 % | F55: Jumlah kontak dari kusta baru seluruhnya dikali 100% | G55: kss | H55: 1 | I55: =H55*J55 -> 0.8 | J55: 0.8 | K55: =I55/12 -> 0.066666667 | L55: 0 | M55: 0 | N55: 0 | O55: 0 | P55: 0 | Q55: 0 | R55: 0 | S55: 0 | T55: 0 | U55: 0 | V55: 0 | W55: 0 | X55: =SUM(L55:W55) -> 0 | Y55: 0
B56: 2 | C56: ISPA | Z56: =Y57 -> 0
C57: Pemuan penderita Pneumonia balita | D57: Kasus Pneumonia balita yang ditemukan dan diberikan tatalaksana sesuai standar di wilayah kerja Puskesmas pada kurun waktu tertentu | E57: Jumlah penderita Pneumonia balita yang ditangani | F57: Target balita dikali 100%, Target Balita = 2,86% X ( 10% X jumlah Pendududk ) (112) | G57: Balita | H57: 75 | I57: =H57*J57 -> 63.75 | J57: 0.85 | K57: =I57/12 -> 5.3125 | L57: 0 | M57: 0 | N57: 0 | O57: 0 | P57: 0 | Q57: 0 | R57: 0 | S57: 0 | T57: 0 | U57: 0 | V57: 0 | W57: 0 | X57: =SUM(L57:W57) -> 0 | Y57: =X57/I57 -> 0
B58: 3 | C58: TB PARU (SPM 11) | Z58: =Y59 -> 0.087794433
C59: Terduga TBC yang mendapatkan pelayanan TBC standart | D59: Terduga TBC adalah orang yang mempunyai gejala utama batuk minimal 2 minggu dan atau mendapatkan pemeriksaan penunjang (SPM 11) | E59: Jumlah orang terduga TBC yang mendapatkan pelayanan TBC sesuai standart dalam kurun waktu tertentu | F59: Target orang dengan TBC yang ada di wilayah kerja Puskesmas pada kururn waktu 1 Tahun di kali 100% | G59: Penderita | H59: 467 | I59: 467 | J59: 1 | K59: 25 | L59: 20 | M59: 21 | N59: 0 | O59: 0 | P59: 0 | Q59: 0 | R59: 0 | S59: 0 | T59: 0 | U59: 0 | V59: 0 | W59: 0 | X59: =SUM(L59:W59) -> 41 | Y59: =X59/I59 -> 0.087794433
B60: 4 | C60: DBD | L60: 2 | M60: 0 | N60: 1 | O60: 1 | P60: 1 | Q60: 3 | R60: 3 | S60: 2 | T60: 3 | U60: 2 | V60: 0 | W60: 0 | Z60: =Y61 -> 0.12455833
C61: Angka Bebas Jentik (ABJ) | D61: Rumah yang bebas jentik di wilayah kerja Puskesmas pada kurun waktu tertentu | E61: Jumlah rumah bebas jentik | F61: jumlah rumah yang diperiksa jentiknya dikali 100% | G61: Rumah ( 2200 rumah (30RT) = ABJ >95% | H61: 0 | I61: =H61*J61 -> 0 | J61: 1 | L61: 0.7975 | M61: 0.6972 | N61: 0 | O61: 0 | P61: 0 | Q61: 0 | R61: 0 | S61: 0 | T61: 0 | U61: 0 | V61: 0 | W61: 0 | X61: =AVERAGE(L61:W61) -> 0.12455833 | Y61: =AVERAGE(L61:W61) -> 0.12455833 | AA61: =SUM(L61:T61)/9 -> 0.16607778
B62: 5 | C62: DIARE | Z62: =SUM(Y63:Y65)/3 -> 0.091603053
C63: 1.Penggunaan oralit pada balita diare | D63: Penderita diare balita yang berobat mendapat oralit di sarana kesehatan dan kader di wilayah kerja Puskesmas pada kurun waktu tertentu | E63: Jumlah penderita diare balita yang diberi oralit, minimal pemberian oralit 6 sachet di sarana kesehatan | F63: Total penderita diare balita dikali 100% | G63: Balita | H63: 131 | I63: =H63*J63 -> 131 | J63: 1 | K63: =I63/12 -> 10.916667 | L63: 4 | M63: 8 | N63: 0 | O63: 0 | P63: 0 | Q63: 0 | R63: 0 | S63: 0 | T63: 0 | U63: 0 | V63: 0 | W63: 0 | X63: =SUM(L63:W63) -> 12 | Y63: =X63/I63 -> 0.091603053
C64: 2.Penggunaan Zinc pada balita diare | D64: Penderita diare balita yang diberi tablet Zinc di wilayah kerja Puskesmas pada kurun waktu tertentu | E64: Jumlah penderita diare balita yang diberi tablet Zinc, minimal pemberian zinc 10 tablet di sarana kesehatan | F64: Total penderita diare balita dikali 100% | G64: Balita | H64: 131 | I64: =H64*J64 -> 131 | J64: 1 | K64: =I64/12 -> 10.916667 | L64: 4 | M64: 8 | N64: 0 | O64: 0 | P64: 0 | Q64: 0 | R64: 0 | S64: 0 | T64: 0 | U64: 0 | V64: 0 | W64: 0 | X64: =SUM(L64:W64) -> 12 | Y64: =X64/I64 -> 0.091603053
C65: 3. Pelayanan Kegiatan layanan rehidrasi oral aktif ( LROA ) | D65: LROA aktif bila melakukan minimal 2 (dua) dari 6 kegiatan LROA, yaitu 1. layanan konseling rehidrasi diare/promosi upaya rehidrasi oral dan pemberian Zinc 2. Observasi penderita diare dengan dehidrasi ringan samapai sedang paling sedikit 3 (tiga) jam atau lebih | E65: Kegiatan LROA secara terus menerus dalam 3 bulan terakhir dalam periode pelaporan tahun berjalan | G65: Balita | H65: 131 | I65: =H65*J65 -> 131 | J65: 1 | K65: =I65/12 -> 10.916667 | L65: 4 | M65: 8 | N65: 0 | O65: 0 | P65: 0 | Q65: 0 | R65: 0 | S65: 0 | T65: 0 | U65: 0 | V65: 0 | W65: 0 | X65: =SUM(L65:W65) -> 12 | Y65: =X65/I65 -> 0.091603053
B66: 6 | C66: MALARIA | K66: =I66/12 -> 0 | L66: 0 | M66: 0 | N66: 0 | O66: 0 | P66: 0 | Q66: 0 | R66: 0 | S66: 0 | T66: 0 | U66: 0 | V66: 0 | W66: 0 | X66: =SUM(L66:W66) -> 0 | Z66: =Y67 -> #DIV/0!
C67: MALARIA | D67: Penderita Positif Malaria yang diobati sesuai standar ( ACT ) | E67: Jumlah penderita Malaria yang mendapat pengobatan ACT sesuai jenis Plasmodium | F67: Jumlah kasus malaria di kali 100% | G67: Kasus | H67: 0 | I67: 0 | J67: 1 | K67: =I67/12 -> 0 | L67: 1 | M67: 0 | N67: 0 | O67: 0 | P67: 0 | Q67: 0 | R67: 0 | S67: 0 | T67: 0 | U67: 0 | V67: 0 | W67: 0 | X67: =SUM(L67:W67) -> 1 | Y67: =X67/I67 -> #DIV/0!
B68: 7 | C68: PENCEGAHAN DAN PENANGGULANGAN RABIES | K68: =I68/12 -> 0 | X68: =SUM(L68:W68) -> 0 | Z68: =Y69 -> 0
C69: Orang dengan Kasus Gigitan HPR (Hewan Penular Rabies) yang ditanganani sesuai Standar Tatalaksana Kasus GHPR | D69: Kasus gigitan HPR yang mendapatkan pelayanan sesuai Standar tatalaksana dan atau Vaksinasi Anti Rabies (VAR) di wilayah kerja dan atau luar wilayah kerja Puskesmas pada kurun waktu tertentu | E69: Jumlah orang dengan kasus Gigitan HPR yang mendapat pelayanan sesuai standar tatalasanan kasus gigitan HPR dan atau VAR | F69: Jumlah orang dengan kasus Gigitan HPR DIKALI 100%. Catatan : tidak dihitung sebagai pembagi bila tidak ada kasus rabies | G69: Kasus | H69: 1 | I69: =H69*J69 -> 1 | J69: 1 | K69: =I69/12 -> 0.083333333 | L69: 0 | M69: 0 | N69: 0 | O69: 0 | P69: 0 | Q69: 0 | R69: 0 | S69: 0 | T69: 0 | U69: 0 | V69: 0 | W69: 0 | X69: =SUM(L69:W69) -> 0 | Y69: =X69/I69 -> 0
B70: 8 | C70: HIV/ AIDS | Z70: =Y71 -> 0.064257028
C71: Orang yang beresiko terinfeksi HIV mendapatkan Pelayanan HIV Sesuai standar | D71: Setiap orang yang beresiko terinfeksi HIV ((Ibu Hamil, pasien TBC, pasien IMS, LSL, WPS, Waria, pengguna NAPZA (Penasun), Pasangan testing dan Warga Binaan Pemasyarakatan (WBP)) mendapatkan Pelayanan HIV Sesuai Standar oleh tenaga kesehatan sesuai kewenangannya di puskesmas dan jaringannya serta lapas/rutan narkotika (SPM 12) | E71: Jumlah orang beresiko terinfeksi HIV yang mendapatkan Pelayanan HIV sesuai standar | F71: TARGET Jumlah orang yang beresiko terinfeksi HIV dalam kurun waktu 1 tahun DIKALI 100% | G71: orang | H71: 498 | I71: =H71*J71 -> 498 | J71: 1 | K71: =I71/12 -> 41.5 | L71: 15 | M71: 17 | N71: 0 | O71: 0 | P71: 0 | Q71: 0 | R71: 0 | S71: 0 | T71: 0 | U71: 0 | V71: 0 | W71: 0 | X71: =SUM(L71:W71) -> 32 | Y71: =X71/I71 -> 0.064257028 | AC71: Kurangnya informasi tentang pentingnya skrining HIV pada populasi kunci | AD71: Lanjutkan sosialisasi dan kegiatan skrining HIV pada orang yang beresiko terinfeksi HIV atau populasi kunci
B72: B | C72: PENYAKIT TIDAK MENULAR MENULAR | Z72: =SUM(Z73+Z78+Z85+Z89)/4 -> 0.16581815
B73: 1 | C73: HIPERTENSI (SPM 8) | Z73: =Y74 -> 0
C74: Setiap Penderita hipertensi mendapatkan pelayanan kesehatan sesuai standar | D74: Jumlah penderita hieprtensi yang mendapatkan pelayanan kesehatan sesuai standar di wilayah kerja puskesmas dalam kurun waktu satu tahun. | E74: Jumlah penderita hipertensi usia ≥ 15 tahun di dalam wilayah kerjanya yang mendapatkan pelayanan kesehatan sesuai standar dalam kurun waktu satu tahun | F74: Jumlah estimasi penderita hipertensi usia ≥ 15 tahun yang berada di dalam wilayah kerjanya berdasarkan angka prevalensi kab/kota dalam kurun waktu satu tahun yang sama di kali 100 % | G74: Penderita | H74: 4315 | I74: 4315 | J74: 1 | K74: =I74/12 -> 359.58333 | P74: 0 | Q74: 0 | R74: 0 | S74: 0 | T74: 0 | U74: 0 | V74: 0 | W74: 0 | X74: =SUM(L74:W74) -> 0 | Y74: =X74/I74 -> 0
D75: Pelayanan kesehatan hipertensi adalah pelayanan kesehatan sesuai standar yang meliputi : | E75: Ket : Estimasi Penderita HT sesuai dgn SK Kepala Dinas ttg target Kegiatan Program Kesehatan tahun 2019 | L75: 357 | M75: 260 | N75: 0 | O75: 0
D76: 1. Pengukuran tekakanan darah dilakukan minimal satu kali sebulan di fasilitas pelayanan kesehatan
D77: 2. Edukasi perubahan gaya hidup dan / atau kepatuhan minum obat.
B78: 2 | C78: DIABETES MILITUS (SPM 9) | Z78: =Y79 -> 0.26530612
C79: Setiap penderita Diabetes militus mendapatkan pelayanan kesehatan sesuai standar | D79: Jumlah penderita Diabetes Militus yang mendapatkan pelayanan kesehatan sesuai standar di wilayah kerja puskesmas dalam kurun waktu satu tahun. | E79: Jumlah penderita diabetes militus usia ≥ 15 tahun di dalam wilayah kerjanya yang mendapatkan pelayanan kesehatan sesuia standar dalam kurun waktu satu tahun | F79: Jumlah estimasi penderita diabetes militus usia ≥ 15 yahun yang berada di dalam wilayah kerjanya berdasarkan angka prevalensi kab/kota dalam kurun waktu satu tahun yang sama dikali 100 % | G79: Penderita | H79: 490 | I79: 490 | J79: 1 | K79: =I79/12 -> 40.833333 | L79: 60 | M79: 70 | N79: 0 | O79: 0 | P79: 0 | Q79: 0 | R79: 0 | S79: 0 | T79: 0 | U79: 0 | V79: 0 | W79: 0 | X79: =SUM(L79:W79) -> 130 | Y79: =X79/I79 -> 0.26530612
D80: Pelayanan kesehatan penderita diabetes militus sesuai standar meliputi : | E80: Ket : Estimasi Penderita DM sesuai dgn SK Kepala Dinas ttg target Kegiatan Program Kesehatan tahun 2019
D81: 1. Pengukuran gula darah dilakukan minimal satu kali sebulan di fasilitas pelayanan kesehatan
D82: 2. Edukasi perubahan gaya hidup dan / atau nutrisi
D83: 3. Terapi farmakologi
D84: 4. Melakukan rujukan jika diperlukan
B85: 3 | C85: ODGJ | Z85: =Y86 -> 0.36363636
C86: Setiap penderita ODGJ berat mendapat pelayanan kesehatan sesuai standar | D86: Pelayanan kesehatan Penderita Orang Dengan Gangguan Jiwa Berat ( ODGJ ) Berat dilakukan oleh dokter dan atau perawat terlatih jiwa, yaitu: | E86: Jumlah ODGJ berat diwilayah kerja kab/kota yang mendapat pelayanan kesehatan jiwa sesui standar dalam kurun waktu satu tahun | F86: Jumlah ODGJ berat yang ada diwilayah kerja kab/kota dalam kurun waktu satu tahun yang sama dikali 100 % | G86: Penderita | H86: 22 | I86: 22 | J86: 1 | K86: =I86/12 -> 1.8333333 | L86: 7 | M86: 1 | N86: 0 | O86: 0 | P86: 0 | Q86: 0 | R86: 0 | S86: 0 | T86: 0 | U86: 0 | V86: 0 | W86: 0 | X86: =SUM(L86:W86) -> 8 | Y86: =X86/I86 -> 0.36363636 | AC86: Tidak ada dana untuk kegiatan skrining keswa | AD86: Pengusulan dana untuk kegiatan Keswa
D87: 1. Pemeriksaan kesehatan jiwa meliputi : pemeriksaan status mental dan wawancara | E87: Ket : Estimasi Penderita ODGJ Berat sesuai dgn SK Kepala Dinas ttg target Kegiatan Program Kesehatan tahun 2019
D88: 3. Melakukan rujukan jika diperlukan
B89: 4 | C89: PENCEGAHAN PENYAKIT TIDAK MENULAR | Z89: =SUM(Y90:Y107)/3 -> 0.034330111
C90: 1.Desa/Kelurahan yang melaksanakan kegiatan Posbindu PTM | D90: Desa/Kelurahan melaksanakan kegiatan Pos Binaan Terpadu Penyakit Tidak Menular ( Posbindu PTM )untuk scrining/dekteksi dini, pemantauan, dan tindak lanjut dini faktor risiko PTM antara lain : Hipertensi dan Diabetes Militus. | E90: Jumlah Desa/Kelurahan melaksanakan kegiatan Posbindu PTM | F90: jumlah Desa/Kelurahan yang ada diwilayah kerja Puskesmas dikali 100% | G90: posbindu | H90: 3 | I90: =H90*J90 -> 3 | J90: 1 | K90: =I90/12 -> 0.25 | O90: 0 | P90: 0 | Q90: 0 | R90: 0 | S90: 0 | T90: 0 | U90: 0 | V90: 0 | W90: 0 | X90: =SUM(L90:W90)/12 -> 0 | Y90: =X90/I90 -> 0
C91: 2. Sekolah yang ada di wilayah kerja Puskesmas atau Puskesmas melaksanakan KTR | D91: Semua sekolah yang ada di wilayah Puskesmas melaksanakan Kawasan Tanpa Rokok ( KTR ) ( 100 % bebas asap rokok ), yaitu | E91: Jumlah sekolah yang ada di wilayah Puskesmas melaksanakan KTR | F91: jumlah sekolah diwilayah Puskesmas dikali 100 % | G91: sekolah | H91: 15 | I91: =H91*J91 -> 15 | J91: 1 | K91: =I91/12 -> 1.25 | L91: 0 | M91: 0 | N91: 0 | O91: 0 | P91: 0 | Q91: 0 | R91: 0 | S91: 0 | T91: 0 | U91: 0 | V91: 0 | W91: 0 | X91: =SUM(L91:W91) -> 0 | Y91: 0
D92: 1. Tidak ditemukan orang merokok di dalam gedung
D93: 2. Tidak ditemukan ruang merokok didalam gedung
D94: 3. Tidak tercium bau rokok
D95: 4. Tidak ditemukan puntung rokok
D96: 5. Tidak ditemukan penjualan rokok
D97: 6. Tidak ditemukan asbak atau korek api
D98: 7. Tidak ditemukan iklan atau promosi rokok
C100: 3. Setiap warga negara Indoseia usia 15 - 59 tahun mendapatkan skrining kesehatan sesuai standar ( SPM 6 ) | D100: Skrining kesehatan usia 15-59 tahun dilakukan di Puskesmas dan jaringannya serta fasilitas kesehatan swasta yang bekerjasama dengan pemerintah dan atau BPJS minimal 1 tahun sekali meliputi : | E100: Jumlah penduduk usia 15-59 tahun yang mendapat pelayanan skrining kesehatan sesuai standar dibagi jumlah penduduk usia 15-59 tahun di wilayah kerja puskesmas dikali 100% | G100: Penduduk | H100: 10823 | I100: 11069 | J100: 1 | K100: =I100/12 -> 922.41667 | L100: 560 | M100: 580 | N100: 0 | O100: 0 | P100: 0 | Q100: 0 | R100: 0 | S100: 0 | T100: 0 | U100: 0 | V100: 0 | W100: 0 | X100: =SUM(L100:W100) -> 1140 | Y100: =X100/I100 -> 0.10299033 | AC100: kurangnya kunjungan usia prooduktif ke posbindu karena jadwal posbindu bertepatan dengan jam kerja/kantor
D101: 1. Anamnese perilaku bersiko
D102: 2. Pengukuran tinggi badan,berat badan dan lingkar perut
...

Sheet  chart mutu
B2: KINERJA MUTU PELAYANAN | C2: Target | D2: Capaian
A3: 1 | B3: Kinerja Sasaran Keselamatan Pasien | C3: 1 | D3: ='mutu pelayanan'!L7 -> 0.83333333
A4: 2 | B4: Kinerja PPI | C4: 1 | D4: ='mutu pelayanan'!L21 -> #DIV/0!
A5: 3 | B5: Indikator Nasional Mutu | C5: 1 | D5: ='mutu pelayanan'!L63 -> #DIV/0!

Sheet PENGEMBANGAN
A2: PENILAIAN KINERJA UPAYA KESEHATAN MASYARAKAT PENGEMBANGAN PUSKESMAS TAHUN 2025
A4: NO | B4: JENIS KEGIATAN | D4: DEFINISI OPRESIONAL | E4: CARA PERHITUNGAN | G4: SATUAN | H4: SASARAN | I4: TERGET SASARAN (T) | K4: PENCAPAIAN (H) | X4: CAKUPAN
E5: PEMBILANG | F5: PENYEBUT | I5: Abs | J5: % | K5: Abs | W5: TOTAL | X5: SUB VARIABEL(SV) (%) | Y5: VARIABEL (%)
A6: 1 | B6: 2 | D6: 3 | E6: 4 | F6: 5 | G6: 6 | H6: 7 | I6: 8 | J6: 9 | K6: 10 | X6: 11 =(10/8) | Y6: 12
K7: 1 | L7: 2 | M7: 3 | N7: 4 | O7: 5 | P7: 6 | Q7: 7 | R7: 8 | S7: 9 | T7: 10 | U7: 11 | V7: 12
A8: UPAYA KESEHATAN MASYARAKAT PENGEMBANGAN
A9: I | B9: PELAYANAN KESEHATAN TRADISIONAL KOMPLEMENTER | Y9: =SUM(X10:X12)/3 -> 0
B10: 1 | C10: Akupuntur | D10: pelayanan akupuntur di wilayah kerja puskesmas | E10: Jumlah pasien yang mendapatkan pelayanan akupuntur | F10: Jumlah pasien yang membutuhkan pelayanan akupuntur | G10: pasien | H10: 0 | I10: 0 | J10: 1 | K10: 0 | L10: 0 | M10: 0 | W10: =K10+L10+M10+N10+O10+P10+Q10+R10+S10+T10+U10+V10 -> 0 | Y10: 0
B11: 2 | C11: Akupresur | D11: pelayanan akupresur di wilayah puskesmas | E11: Jumlah pasien yang mendapatkan pelayanan akupresur | F11: Jumlah pasien yang membutuhkan pelayanan akupresur | G11: pasien | H11: 0 | I11: 0 | J11: 1 | K11: 0 | L11: 0 | M11: 0 | W11: =K11+L11+M11+N11+O11+P11+Q11+R11+S11+T11+U11+V11 -> 0 | Y11: 0
B12: 3 | C12: Herbal/ Ramuan | D12: pelayanan pasien dengan pengobatan herbal di wilayah kerja puskesmas | E12: Jumlah pasien yang mendapatkan pengobatan herbal di wilayah kerja | F12: jumlah pasien yang membutuhkan pengobatan herbal di wilayah kerja puskesmas | G12: pasien | H12: 0 | I12: 0 | J12: 1 | K12: 0 | L12: 0 | M12: 0 | W12: =K12+L12+M12+N12+O12+P12+Q12+R12+S12+T12+U12+V12 -> 0 | Y12: 0
B13: 4 | C13: Konseling Asman | D13: pembinaan kelompok asuhan mandiri di wilayah kerja puskemas | E13: jumlah kelompok asuhan mandiri yang mendapatkan pembinaan di wilayah kerja puskesmas | F13: jumlah kelompok asuhan mandiri di wilayah kerja puskesmas | G13: kelompok | H13: 0 | I13: 0 | J13: 1 | K13: 0 | L13: 0 | M13: 0 | W13: =K13+L13+M13+N13+O13+P13+Q13+R13+S13+T13+U13+V13 -> 0 | Y13: 0
B14: 5 | C14: Pendataan Hattra | D14: Pengumpulan data pelayanan kesehatan tradisional, fasilitas registerisasi/perizinan dan bimbingan teknis serta pemantauan yankestradkom | E14: Jumlah penyehat tradisional yang didata memiliki STPT | F14: Jumlah seluruh Penyehat tradisional di wilayah kerja puskesmas | G14: Kelurahan Sungai Siring, Kelurahan Tanah Merah, Kelurahan Pampang | H14: 3 | I14: 3 | J14: 1 | K14: 0 | L14: 0 | M14: 0 | W14: =K14+L14+M14+N14+O14+P14+Q14+R14+S14+T14+U14+V14 -> 0 | Y14: 0
A15: II | B15: PELAYANAN KESEHATAN GIGI MASYARAKAT (UKGM) | Y15: =SUM(X16:X17)/2 -> 0.31362007
B16: 1 | C16: UKGM | D16: UKGM adalah suatu pendekatan edukatif yang bertujuan untuk meningkatkan kemampuan dan peran serta masyarakat dalam pemeliharaan kesehatan gigi, dengan mengintegrasikan upaya promotif, preventif kesehatan gigi pada berbagai Upaya Kesehatan Bersumber Daya Masyarakat yang berlandaskan pendekatan Primary Health Care (Posyandu, Bina Keluarga Balita, Polindes, ponstren, Taman Kanak-Kanak dsb). | E16: posyandu balita/posyandu lansia yang dilakukan pemeriksaan Kesgilut oleh petugas pada kurun waktu tertentu | F16: Jumlah seluruh posyandu balita dan lansia di wilayah kerja dalam kurun waktu tertentu | G16: posyandu | H16: Balita, masyarakat umum dan lansia | I16: 27 | J16: 1 | K16: 0 | L16: 3 | W16: =K16+L16+M16+N16+O16+P16+Q16+R16+S16+T16+U16+V16 -> 3 | X16: =W16/I16 -> 0.11111111 | Y16: =W16/I16 -> 0.11111111
B17: 2 | C17: UKGS | D17: UKGS adalah upaya kesehatan masyarakat yang ditujukan untuk memelihara, meningkatkan kesehatan gigi dan mulut seluruh peserta didik di sekolah binaan yang ditunjang dengan upaya kesehatan perorangan berupa upaya promotif dan preventif bagi peserta didik yang memerlukan perawatan kesehatan gigi dan mulut. | E17: Sekolah yang dilakukan pemeriksaan kesgilut dalam kurun waktu tertentu | F17: Jumlah seluruh sekolah di wilayah kerja dalam kurun waktu tertentu. | G17: sekolah | H17: Siswa TK dan siswa kelas SD, SMP, SMU | I17: 31 | J17: 1 | K17: 0 | L17: 16 | W17: =K17+L17+M17+N17+O17+P17+Q17+R17+S17+T17+U17+V17 -> 16 | X17: =W17/I17 -> 0.51612903 | Y17: =W17/I17 -> 0.51612903
A19: III | B19: PELAYANAN KESEHATAN KERJA | Y19: =SUM(X20:X29)/10 -> 0.016522989
B20: 1 | C20: Penyuluhan Kesehatan di tempat kerja | D20: Jumlah penyuluhan (kali) dalam 1 tahun di masing -masing tempat kerja sektor Informal di wil kerja | E20: Jumlah penyuluhan (kali) dalam 1 tahun di tempat kerja sektor informal di wil kerja | F20: Jumlah tempat kerja sektor informal yang ada diwilayah kerja pusk. | G20: Pekerja Sektor informal | H20: 0 | I20: 0 | J20: 1 | K20: 0 | L20: 0 | M20: 0 | X20: 0 | Y20: 0
B21: 2 | C21: Cakupan Pembinaan Pos Upaya Kesehatan Kerja (UKK) | D21: Persentase Pos UKK yang mendapatkan pembinaan kesehatan kerja dari petugas Puskesmas di wilayah kerja Puskesmas dalam kurun waktu satu tahun. | E21: Jumlah Pos UKK yang mendapat pembinaan kesehatan kerja dari petugas Puskesmas | F21: Jumlah Pos UKK yang ada di wilayah kerja Puskesmas dalam kurun waktu satu tahun di Kali 100% | G21: Pos UKK | H21: 0 | I21: 0 | J21: 1 | K21: 0 | L21: 0 | M21: 0 | X21: 0 | Y21: 0
B22: 3 | C22: Puskesmas yang menyelenggarakan Kesehatan Kerja Dasar | W22: =K22+L22+M22+N22+O22+P22+Q22+R22+S22+T22+U22+V22 -> 0 | X22: 0
B23: 3a. | C23: Pekerja sektor Informal Sakit yang dilayani | D23: Prosentase Pekerja Sektor Informal Sakit yang dilayani dalam kurun waktu satu tahun | E23: Jumlah Pekerja Sektor Informal sakit yang dilayani di puskesmas | F23: Jumlah Pekerja Sakit yang dilayani di kali 100% | G23: Pekerja | H23: 0 | I23: 0 | J23: 1 | K23: 0 | L23: 0 | M23: 0 | W23: =K23+L23+M23+N23+O23+P23+Q23+R23+S23+T23+U23+V23 -> 0 | X23: 0 | Y23: 0
B24: 3b. | C24: Kasus Penyakit Akibat Kerja yang dilayani | D24: Jumlah kasus Penyakit Akibat Kerja dalam kurun waktu satu tahun | G24: pekerja | H24: 0 | I24: 0 | J24: 1 | K24: 0 | L24: 0 | M24: 0 | W24: =K24+L24+M24+N24+O24+P24+Q24+R24+S24+T24+U24+V24 -> 0 | X24: 0 | Y24: 0
B25: 3c | C25: Kasus Kecelakaan Akibat Kerja yang dilayani | D25: Jumlah kasus Kecelakaan Kerja dalam kurun waktu satu tahun | G25: pekerja | H25: 0 | I25: 0 | J25: 1 | K25: 0 | L25: 0 | M25: 0 | W25: =K25+L25+M25+N25+O25+P25+Q25+R25+S25+T25+U25+V25 -> 0 | X25: 0 | Y25: 0
B26: 3d | C26: Prosentase Pekerja Perempuan yang di layani kesehatan dasar | D26: Prosentase Pekerja Perempuan (Formal/Informal) yang dilayani kesehatan dasar dalam kurun waktu satu tahun | E26: Prosentase Pekerja Perempuan (Formal/Informal) yang dilayani kesehatan dasar | F26: Jumlah Pekerja Perempuan yang ada terdaftar x 100% | G26: pekerja perempuan | H26: Pekerja Formal dan Informal | I26: 0 | J26: 1 | K26: 0 | L26: 0 | M26: 0 | W26: =K26+L26+M26+N26+O26+P26+Q26+R26+S26+T26+U26+V26 -> 0 | X26: 0 | Y26: 0
B27: 4 | C27: Keselamatan dan Kesehatan Kerja di Puskesmas | W27: =K27+L27+M27+N27+O27+P27+Q27+R27+S27+T27+U27+V27 -> 0 | X27: 0
B28: 4a | C28: Prosentase Puskesmas yang melaksanakan K3 di Puskesmas | G28: Petugas Puskesmas | H28: Puskesmas Sungai Siring | I28: 12 | J28: 1 | K28: 1 | L28: 1 | M28: 1 | W28: =K28+L28+M28+N28+O28+P28+Q28+R28+S28+T28+U28+V28 -> 3 | X28: 0 | Y28: =W28/I28 -> 0.25
B29: 4b | C29: Prosentase Petugas Puskesmas yang memakai Alat Pelindung Diri (APD) | D29: Prosentase Petugas yang memakai APD pada saat bekerja | E29: jumlah Petugas yang mematuhi pemakaian APD | F29: Jumlah petugas yang ada di Puskesmas dikali 100% | G29: orang | H29: Pegawai Puskesmas | I29: 696 | J29: 1 | K29: 58 | L29: 57 | W29: =K29+L29+M29+N29+O29+P29+Q29+R29+S29+T29+U29+V29 -> 115 | X29: =W29/I29 -> 0.16522989 | Y29: =W29/I29 -> 0.16522989
A31: IV | B31: PELAYANAN KESEHATAN OLAH RAGA | Y31: =SUM(X32:X36)/3 -> #DIV/0!
B32: 1 | C32: Pembinaan Kelompok /Klub OR | J32: 1 | W32: =K32+L32+M32+N32+O32+P32+Q32+R32+S32+T32+U32+V32 -> 0
C33: Pemeriksaan Kesehatan | D33: Pemeriksaan kesehatan secara menyeluruh yang bertujuan untuk memastikan kondisi kesehatan dan mengantisipasi gangguan yg timbul pada diri kita sendiri . | E33: Jumlah orang yang melakukan pemeriksaan kesehatan | F33: Jumlah orang yang membutuhkan pemeriksaan kesehatan | G33: orang | H33: Petugas Puskesmas | I33: 60 | J33: 1 | K33: 0 | L33: 0 | M33: 0 | W33: =K33+L33+M33+N33+O33+P33+Q33+R33+S33+T33+U33+V33 -> 0 | X33: =W33/I33 -> 0 | Y33: =W33/I33 -> 0
C34: Penyuluhan Kesehatan | D34: Kegiatan penambahan pengetahuan yg diperuntukan bagi masyarakat melalui penyebaran pesan . Untuk mencapai tujuan hidup sehat dengan cara mempengaruhi perilaku masyarakat baik secara individu ataupu kelompok dengan penyampaian pesan | E34: Jumlah orang yang mendapatkan penyuluhan kesehatan | F34: Jumlah orang yang membutuhkan penyuluhan kesehatan | G34: orang | H34: Masyarakat umum | I34: 0 | J34: 1 | K34: 0 | L34: 0 | M34: 0 | X34: =W34/I34 -> #DIV/0! | Y34: 0
B35: 2 | C35: Pendataan Kel Olah Raga
C36: Kelompok Kelas Ibu Hamil | D36: jumlah peserta kelas ibu hamil diwilayah kerja puskesmas dalam bentuk kelompok belajar untuk meningkatkan pengetahuan dan merubah sikap | E36: jumlah kelompok ibu hamil yg melaksanakan senam | F36: jumlah ibu hamil yg datang dan melakukan senam | G36: 0 | H36: 0 | I36: 0 | J36: 1 | K36: 0 | L36: 0 | M36: 0 | W36: =K36+L36+M36+N36+O36+P36+Q36+R36+S36+T36+U36+V36 -> 0 | X36: =W36/I36 -> #DIV/0! | Y36: 0
C37: Kelompok sekolah melalui UKS | D37: Membina dan mengembangkan kebiasaan hidup sehat yg dilakukan secara terpadu melamui program pendidikan dan pelayanan kesehatan olahraga dilingkungan sekolah | E37: jumlah kelompok sekolah yg melaksanakan senam/ aktifitas fisik setiap 5- 10 menit | F37: jumlah Sekolah yg sudah melaksanakan aktifitas fisik setiap hari | G37: Sekolah | H37: 5 sekolah (3 di Kelurahan Tanah Merah, 2 di Kelurahan Sungai Siring) | I37: 5 | J37: 1 | K37: 0 | L37: 0 | M37: 0 | W37: =K37+L37+M37+N37+O37+P37+Q37+R37+S37+T37+U37+V37 -> 0 | X37: =W37/I37 -> 0 | Y37: 0
C38: Kelompok lanjut Usia | D38: Seseorang yg sudah memasuki tahapan akhir dari fase kehidupan, menjadi tua yang merupakan proses alamiah yg berarti sesorang telah melalui tiga tahap kehidupan dari anak,dewasa dan tua. | E38: jumlah kelompok lanjut usia yang terdaftar diwilayah nya | F38: Jumlah kelompok lanjut usia yang melakukan aktifitas fisik | G38: kelompok | H38: 6 kelompok (2 kelompok di Kelurahan Sungai Siring, 2 kelompok di Kelurahan Tanah Merah dan 2 kelompok di Kelurahan Pampang) | I38: 1166 | J38: 1 | K38: 87 | L38: 78 | M38: 0 | W38: =K38+L38+M38+N38+O38+P38+Q38+R38+S38+T38+U38+V38 -> 165 | X38: =W38/I38 -> 0.14150943 | Y38: 0
C39: Pelayanan Kesehatan Olah Raga
C40: Pengukuran Kebugaran Jasmani | D40: kemampuan seseorang dalam melakukan aktivitas keseharian tanpa mengalami kelelahan yg berarti dan masih mempunyai cadangan sisa tenaga utk melakukan aktifitas yg lain. | E40: jumlah kelompok olahraga yg terdaftar diwilayahnya | F40: Jumlah kelompok olahraga yg melakukan pengukuran kebugaran | G40: kelompok | H40: Pegawai Puskesmas, Pegawai Kelurahan (Kel. Sungai Siring, Kel. Tanah Merah, Kel. Pampang) dan Sekolah Menengah Atas di Wilayah Kerja | I40: 9 | J40: 1 | K40: 0 | L40: 0 | M40: 0 | X40: =W40/I40 -> 0 | Y40: =W40/I40 -> 0
B41: DST
C43: Total Nilai Kinerja UpayaKesehatan Pengembangan | Y43: =SUM(Y9:Y31) -> #DIV/0!
C44: Rata-rata Kinerja Upaya Kesehatan Pengembangan | Y44: =Y43/4 -> #DIV/0!
C45: Hasil rata-rata tingkat kinerja puskesmas:
B46: 1 | C46: Baik = Nilai rata-rata > 91 %
B47: 2 | C47: Cukup = Nilai rata-rata 81 - 90 %
B48: 3 | C48: Kurang = Nilai Rata-rata < 80 %

Sheet mutu pelayanan
A1: PENGHITUNGAN PENILAIAN MUTU PELAYANAN PUSKESMAS TAHUN 2025
A3: No | B3: JENIS KEGIATAN | C3: Definisi Operasional | D3: Pembilang | E3: Penyebut | F3: Satuan | G3: Sasaran | H3: TERGET SASARAN (T) | J3: PENCAPAIAN (H) | K3: CAKUPAN
H4: Abs | I4: % | J4: Abs | K4: SUBVARIABEL (%) | L4: VARIABEL (%)
A5: 1 | B5: 2 | C5: 3 | D5: 4 | E5: 5 | F5: 6 | G5: 7 | H5: 8 | I5: 9 | J5: 10 | K5: 11 =(10/8) | L5: 12
A6: MUTU PELAYANAN PUSKESMAS
A7: I | B7: SASARAN KESELAMATAN PASIEN | L7: =SUM(L8:L20)/6 -> 0.83333333
B8: 1. Identifikasi Pasien dengan benar | L8: =K9 -> 1
B9: Kepatuhan petugas melakukan indentifikasi dengan menggunakan minimal dua penanda identitas yang relatif tidak berubah seperti nama lengkap, tanggal lahir,nomor rekam medis, NIK . | C9: identifikasi pasien secara benar adalah proses identifikasi yang dilakukan pemberi pelayanan dengan menggunakan minimal dua penanda identitas seperti: nama lengkap, tanggal lahir, nomor rekam medik, NIK sesuai dengan yang ditetapkan di Puskesmas, yang dilakukan pada saat :a) Tindakanpemberian obat, pemberian cairan IV b). Prosedur tindakan c). Prosedur diagnostik d). Pengambilan sampel. Identifikasi dapat dilakukan secaravisual ataupun verbal | D9: Jumlah pemberi pelayanan yang melakukan identifikasi secara benar dalam periode observasi ---inm | E9: Jumlah pemberi pelayanan yang diobservasi dalam periode observasi | F9: petugas | G9: 46 | H9: 46 | I9: 1 | J9: 46 | K9: =J9/H9 -> 1
B10: 2. Komunikasi efektif dalam pelayanan | L10: =SUM(K11:K12)/2 -> 1
B11: a. Kepatuhan petugas melakukan komunikasi efektif TBK (TulisBaca Konfirmasi )pada rawat inap dan atau rawat jalan | C11: Kepatuhan petugas melaksanaan TBK ( Tulis Baca Konfirmasi) pada saat melakukan konsultasi on call atau melaporkan hasil lab kritis kepada dokter pada periode observasi | D11: Jumlah petugas yang melakukan TBK pada saat konsultasi on caal atau pelaporan hasil lab kritis pada periode observasi | E11: Jumlah seluruh petugas pemberi pelayanan pada periode observasi | F11: petugas | G11: =7+12+1+6+3+9+20+11 -> 69 | H11: =7+12+1+6+3+9+20+11 -> 69 | I11: 1 | J11: =7+12+1+6+3+9+20+11 -> 69 | K11: =J11/H11 -> 1
B12: b. Kepatuhan petugas melakukan komunikasi efektif metode SBAR (Situastion, Background, Assesment,Recommendation)pada saat serah terima pasien pergantian shift di rawat inap | C12: Kepatuhan petugas melakukan komunikasi efektif metode SBAR (Situastion, Background, Assesment,Recommendation)pada saat serah terima pasien pergantian shift di rawat inap oada periode observasi | D12: Jumlah petugas pemberi pelayanan yang melakukan komunikasi SBAR pada saat terima pasien pergantiaan shift di rawatinap pada periode observasi | E12: Jumlah seluruh petugas pemberi pelayanan yang ditetapkan melakukan komunikasi SBAR pada saat terima pasien pergantiaan shift di rawatinap pada periode observasi | F12: Kali | G12: =7+12+1+6+3+9+20+11 -> 69 | H12: =7+12+1+6+3+9+20+11 -> 69 | I12: 1 | J12: =7+12+1+6+3+9+20+11 -> 69 | K12: =J12/H12 -> 1
B13: 3. Keamanan obat yang perlu diwaspadai | L13: =K14 -> 1
B14: Pelaksanaan pengelolaan obat LASA dan high alert di ruang farmasi dan gudang obat | C14: Pelaksanaan identifikasi, penyimpanan dan pelabelan obat LASA dan Obat Hight Alert di ruang farmasi dan gudang obat di Puskesmas | D14: Jumlah obatLASA dan high alert yang dikelola pada periode observasi | E14: Jumlah seluruh obat LASA dan high alert diruang farmasi dangudang obat pada periode observasi | F14: item | G14: 5 | H14: 5 | I14: 1 | J14: 5 | K14: =J14/H14 -> 1
B15: 4. Memastikan lokasi pembedahan yang benar, prosedur yang benar, pembedahan pada pasien yang benar (penetapan di puskesmas jenis tindakan yang akan dimonitor) | L15: =K16 -> 1
B16: Kepatuhan petugas melakukan 'Surgical Check List' pada saat melakukan tindakan pembedahan di puskesmas (dilakukan inventarisasi tindakan pembedahan yang dilayani dipuskesmas) | C16: Kepatuhan petugas melakukan 'Surgical Check List' pada saat melakukan tindakan pembedahan di puskesmas (dilakukan inventarisasi tindakan pembedahan yang dilayani dipuskesmas) | D16: Jumlah petugas yang melaksanakan surgical check list pada saat melakukan tindakan pembedahan pada periode observasi | E16: Jumlah seluruh petugas yang melaksanakan tindakan pembedahan sesuai kompetensi pada periode observasi | F16: petugas | G16: 21 | H16: 21 | I16: 1 | J16: 21 | K16: =J16/H16 -> 1
B17: 5. Kepatuhan Kebersihan Tangan | L17: =K18 -> 0
B18: Kepatuhan petugas melakukan kebersihan tangan | C18: Kepatuhan petugas melakukanan kebersihan tangan yang dilakukan dengan cara monitoring kepatuhan petugas pada 5 moment untuk cuci tangan yaitu : sebelum kontak dengan pasien,sesudah kontak dengan pasien, sebelum melakukan prosedur aseptik, setelah bersentuhan dengan cairan tubuh pasien dan setelah bersentuhan dengan lingkungan pasien , dengan metode 6 langkah cuci tangan menurut WHO | D18: Jumlah tindakan kebersihan tangan | E18: Jumlah total peluang kebersihan tangan yang seharusnya dilakukan dalam periode observasi | F18: org | G18: 2400 | H18: 1920 | I18: 0.8 | K18: =J18/H18 -> 0
B19: 6. Mengurangi risiko cedera pasien akibat terjatuh | L19: =K20 -> 1
B20: Kepatuhan petugas melakukan asesmen jatuh pada pasien rawat inap dan rawat jalan | C20: Kepatuhan petugas melakukan assesment resiko jatuh pada pasien yang beresiko jatuh dengan menggunakan metode yang ditetapkan puskesmas. Penetapan kasus resiko jatuh ditetapkan oleh Puskesmas | D20: Jumlah petugas yang melakukan identifikasi risiko jatuh pada periode observasi | E20: Jumlah seluruh petugas yang memberikan pelayanan kepada pasien pada periode observasi | F20: petugas | G20: 13 | H20: 13 | I20: 1 | J20: 13 | K20: =J20/H20 -> 1
A21: II | B21: PPI (PENCEGAHAN DAN PENGENDALIAN INFEKSI) | L21: =L22+L41+L50+L52+L55+L58+L61/7 -> #DIV/0!
A22: a | B22: Kewaspadaan standar | L22: =SUM(L23:L40)/8 -> 0.375
B23: 1. Kebersihan tangan | L23: =SUM(K24:K25)/2 -> 0
B24: a. Dilakukan sosialisas cara cuci tangan yang benar minimal 1 kali/thn baik pada petugas dan pengunjung | C24: Pelaksanaan sosialisasi cuci tangan kepada petugas dan pengunjung puskesmas minimal 1 kali/thn | D24: Jumlah pelaksanaan sosialisasi cara cuci tangan yang benar kepada petugas dan pengunjung puskesmas minimal 1 kali /thn | F24: kali | G24: 1 | H24: 1 | I24: 1 | J24: 0 | K24: =J24/H24 -> 0
B25: Kepatuhan petugas melakukan kebersihan tangan | C25: Kepatuhan petugas melakukanan kebersihan tangan yang dilakukan dengan cara monitoring kepatuhan petugas pada 5 moment untuk cuci tangan yaitu : sebelum kontak dengan pasien,sesudah kontak dengan pasien, sebelum melakukan prosedur aseptik, setelah bersentuhan dengan cairan tubuh pasien dan setelah bersentuhan dengan lingkungan pasien , dengan metode 6 langkah cuci tangan menurut WHO | D25: Jumlah tindakan kebersihan tangan yang dilakukan oleh petugas | E25: Jumlah total peluang kebersihan tangan yang seharusnya dilakukan dalam periode observasi | F25: petugas | G25: 2400 | H25: 2400 | I25: 1 | K25: =J25/H25 -> 0 | M25: idem dengan SKP 5
B26: 2. Penerapan PPI kewaspadaan standar Penggunaan APD | L26: =K27 -> 0
B27: a. Dilakukan pemantauan kepatuhan petugas terhadap pemakaian APD minimal setiap 3 bulan sekali | C27: Pelaksanaan pemantauan kepatuhan petugas terhadap pemakaian APD (Alat Pelindung Diri) pada kondisi yang ditetapkan Puskesmas memerlukan pemakaian APD sesuai PMK 27 tahun 2017 | D27: Jumlah petugas yang patuh terhadap pemakaian APD pada kondisi yang telah ditetapkan Puskesmas memerlukan pemakaian APD yang dipantau minimal 3 bulan sekali | E27: Jumlah petugas yang berada pada kondisi yang mengharuskan pemakaian APD yang telah ditetapkan Puskesmas memerlukan pemakaian APD yang dipantau minimal 3 bulan sekali | F27: petugas | G27: 612 | H27: 612 | I27: 1 | K27: =J27/H27 -> 0
B28: 3. Penerapan PPI kewaspadaan standar Dekontaminasi Peralatan Standar Perawatan Pasien | L28: =K29 -> 0.5
B29: a. kepatuhan petugas terhadap prosedur sterilisasi peralatan minimal setiap 3 bulan sekali | C29: kepatuhan petugas terhadap prosedur sterilisasi peralatan secara berkala dan dievaluasi maksimal 3 bulan sekali. | D29: Kepatuhan petugas terhadap prosedur sterilisasi peralatan pada kurun waktu tertentu | F29: petugas | G29: 12 | H29: 12 | I29: 1 | J29: 6 | K29: =J29/H29 -> 0.5
B30: 4. Penerapan PPI kewaspadaan standar Pengendalian Lingkungan | L30: =K31 -> 0.5
B31: Kepatuhan petugas melakukan pembersihan, desinfeksi permukaan lingkungan di sekitar pengguna dan pemberi layanan dari kemungkinan kontaminasi darah, produk darah atau cairan tubuh | C31: Pelaksanaan penilaian kepatuhan petugas melakukan desinfeksi permukaan lingkungan minimal 2 kali sehari di sekitar pengguna dan pemberi layanan dari kemungkinan kontaminasi darah, produk darah atau cairan tubuh | D31: Jumlah moment pelaksanaan pembersihan, desinfeksi permukaan lingkungan sekitar pengguna dan pemberi layanan yang kemungkinan kontaminasi darah,produk darah dan cairan tubuh minimal 2 kali sehari | E31: Jumlah seluruh moment kemungkinan diperlukan pembersihan,desinfeksi permukaan lingkungan dalam sehari | F31: petugas | G31: 612 | H31: 612 | I31: 1 | J31: 306 | K31: =J31/H31 -> 0.5
B32: 5. Pengelolaan Limbah | L32: =K33 -> 0.5
B33: a. Dilakukan pemantauan pemilahan limbah infeksius dan non infeksius setiap bulan sekali | C33: Pelaksanaan pemantauan pemilahan limbah infeksius dan non infeksius di masing -masing ruangan pelayanan | D33: Jumlah ruangan yang patuh melakukan pemilahan limbah infeksius dan non infeksius pada kurun waktu tertentu | E33: Jumlah seluruh ruangan puskesmas yang mengharuskan dilakukan pemilahan limbah infkesius dan non infeksius | F33: ruangan | G33: 60 | H33: 60 | I33: 1 | J33: 30 | K33: =J33/H33 -> 0.5
B34: 6. Pengelolaan linen | L34: =K35 -> 0.5
B35: a. kepatuhan petugas terhadap prosedur pengelolaan linen | C35: Pelaksanaan pemantauan prosedur terhadap prosedur pengelolaan liner secara berkala | D35: Kepatuhan petugas terhadap prosedur pengelolaan linen dalam masa observasi | F35: petugas | G35: 24 | H35: 24 | I35: 1 | J35: 12 | K35: =J35/H35 -> 0.5
B36: 7. Penerapan PPI kewaspadaan standar Etika batuk dan bersin | L36: =SUM(K37:K38)/2 -> 0.75
B37: b. Dilakukan sosialisasi etika batuk dan bersin pada pasien/pengunjung minimal 4 kali dalam setahun | C37: Pelaksanaan sosialisasi etika batuk dan bersin pada pasien/pengunjung minimal 4 kali dalam setahun | D37: Jumlah pelaksanaan sosialisasi etika batuk dan bersin pada pasien/pengunjung | E37: Jumlah pelaksanaan sosialisasi etika batuk dan bersin pada pasien/ pengunjung 4 kali dalam satu tahun di kali 100 % | F37: Kali | G37: 4 | H37: 4 | I37: 1 | J37: 2 | K37: =J37/H37 -> 0.5
B38: b. Tersedia poster etika batuk dan bersin minimal 2 poster di ruang tunggu pelayanan | C38: Pemasangan poster etika batuk minimal 2 poster di ruang tunggu pelayanan | D38: Jumlah poster etika batuk di ruang tunggu pelayanan Puskesmas dibagia 2, dikali 100% | F38: buah | G38: 2 | H38: 2 | I38: 1 | J38: 2 | K38: =J38/H38 -> 1
B39: 8. Penerapan PPI kewaspadaan standar Penempatan Pasien | L39: =SUM(K40)/2 -> 0.25
B40: a. Dilakukan pemantauan pelaksanaan pemilahan pasien di bagian pendaftaran untuk pasien yang infeksius tertentu dan non infeksius,contoh : kasus susp TB, varicella, sakit mata,dll (penetapan kasus infeksius dilakukan oleh puskesmas dari hasil kesepakatan dalam rapat PPI) | C40: Pelaksanaan monitroing kepatuhan petugas terhadap pemilahan pasin di bagian pendaftaran untuk pasien yang infeksius tertetnu dan non infkesius, dimonitor berkala | D40: Kepatuhan petugas terhadap prosedur pemilahan pasien infeksius dan non infeksiu di bagian pendaftaran dalam masa observasi | F40: petugas | G40: 12 | H40: 12 | I40: 1 | J40: 6 | K40: =J40/H40 -> 0.5
A41: b | B41: Kewaspadaan berdasarkan transmisi | L41: =SUM(L42:L49)/3 -> 0.38888889
B42: 1. Berdasarkan kontak | L42: =K43 -> 0
B43: Kepatuhan petugas melakukan kebersihan tangan | C43: Kepatuhan petugas melakukanan kebersihan tangan yang dilakukan dengan cara monitoring kepatuhan petugas pada 5 moment untuk cuci tangan yaitu : sebelum kontak dengan pasien,sesudah kontak dengan pasien, sebelum melakukan prosedur aseptik, setelah bersentuhan dengan cairan tubuh pasien dan setelah bersentuhan dengan lingkungan pasien , dengan metode 6 langkah cuci tangan menurut WHO | D43: Jumlah tindakan kebersihan tangan yang dilakukan oleh petugas | E43: Jumlah total peluang kebersihan tangan yang seharusnya dilakukan dalam periode observasi | F43: Petugas | G43: 2400 | H43: 2400 | I43: 1 | K43: =J43/H43 -> 0 | M43: idem dengan SKP 5
B44: 2. Berdasarkan droplet | L44: =SUM(K45:K47)/3 -> 0.66666667
B45: a. Dilakukan pemantauan kepatuhan petugas terhadap pemakaian APD minimal setiap 3 bulan sekali | C45: Pelaksanaan pemantauan kepatuhan petugas terhadap pemakaian APD (Alat Pelindung Diri) pada kondisi yang ditetapkan Puskesmas memerlukan pemakaian APD sesuai PMK 27 tahun 2017 | D45: Jumlah petugas yang patuh terhadap pemakaian APD pada kondisi yang telah ditetapkan Puskesmas memerlukan pemakaian APD yang dipantau minimal 3 bulan sekali | E45: Jumlah petugas yang berada pada kondisi yang mengharuskan pemakaian APD yang telah ditetapkan Puskesmas memerlukan pemakaian APD yang dipantau minimal 3 bulan sekali | F45: petugas | G45: 612 | H45: 612 | I45: 1 | J45: 306 | K45: =J45/H45 -> 0.5
B46: b. Dilakukan sosialisasi etika batuk dan bersin pada pasien/pengunjung minimal 4 kali dalam setahun | C46: Pelaksanaan sosialisasi etika batuk dan bersin pada pasien/pengunjung minimal 4 kali dalam setahun | D46: Jumlah pelaksanaan sosialisasi etika batuk dan bersin pada pasien/pengunjung | E46: Jumlah pelaksanaan sosialisasi etika batuk dan bersin pada pasien/ pengunjung 4 kali dalam satu tahun di kali 100 % | F46: kali | G46: 4 | H46: 4 | I46: 1 | J46: 2 | K46: =J46/H46 -> 0.5
B47: c. Tersedia poster etika batuk dan bersin minimal 2 poster di ruang tunggu pelayanan | C47: Pemasangan poster etika batuk minimal 2 poster di ruang tunggu pelayanan | D47: Jumlah poster etika batuk di ruang tunggu pelayanan Puskesmas | E47: Jumlah poster etika batuk di ruang tunggu pelayanan Puskesmas minimal 2 dikali 100% | F47: buah | G47: 2 | H47: 2 | I47: 1 | J47: 2 | K47: =J47/H47 -> 1
B48: 3. Berdasarkan udara/air borne precaution | L48: =K49 -> 0.5
B49: a. Dilakukan alur pelayanan khusus bagi pasien TBC ( sama dengan indikator kwaspadaan standr) | C49: Kepatuhan petugas melaksanakan alur pelayanan khusus bagi pasien TBC | D49: Kepatuhan petugas terhadap prosedur pelayanan pasien TBC dalam waktu observasi (dimonitoring secara berkala) | F49: petugas | G49: 12 | H49: 12 | I49: 1 | J49: 6 | K49: =J49/H49 -> 0.5
A50: c | B50: Penerapan PPI terkait pelayanan kesehatan dengan Bundles Hais | L50: =K51 -> 0.5
B51: kepatuhan petugas terhadap bundles H'Ais yang ditetapkan | C51: Pelaksanaan monitoring kepatuhan petugas terhadap bundles H'Ais yang ditetapkan | D51: Jumlah petugas yang melaksanakan bundles H'Ais sesuaiindikasi pada periode observasi | E51: Jumlah petugas yang memberikan pelayanan yang berindikasi bundleH'Ais yang ditetapkan | F51: bundles | G51: 24 | H51: 24 | I51: 1 | J51: 12 | K51: =J51/H51 -> 0.5
A52: d | B52: Surveilans PPI | L52: =SUM(K53:K54)/2 -> #DIV/0!
B53: 1. Dilakukan surveilans kejadian phlebitis di Puskesmas rawat inap setiap 6 bulan sekali sampai dengan analisa, RTL dan TL | C53: Pelaksanaan surveilans Phlebitis dalam kurun waktu tertentu | D53: Jumlah kejadian phlebitis pada kurun waktu tertetnu | E53: Jumlah pasien yang diberikan perawatan cairan IV dalam kurun waktu tertentu | F53: kasus | G53: 0 | H53: 0 | I53: < 5% | J53: 0 | K53: =J53/H53 -> #DIV/0!
B54: 2. Dilakukan surveilans infeksi daerah operasi bagi Puskesmas rawat jalan & rawat inap setiap 6 bulan sekali sampai dengan RTL dan TL | C54: Pelaksanaan surveilans IDO dalam kurun waktu tertentu | D54: Jumlah kejadian IDO pada kurun waktu tertetnu | E54: Jumlah pasien yang dilakukan tindakan dalam kurun waktu tertentu | F54: pasien | G54: 0 | H54: 0 | I54: < 5% | J54: 0 | K54: =J54/H54 -> #DIV/0!
A55: e | B55: Audit dan monitroing berkala | L55: =SUM(K56:K57)/2 -> 0.5
B56: 1. Dilakukan audit PPI secara berkala per triwulan | C56: Pelaksanaan audit PPI secara berkala per triwulan | D56: Jumlah pelaksanaan audit PPI dibagi 4 , dikali 100% | F56: kali | G56: 2 | H56: 2 | I56: 1 | J56: 1 | K56: =J56/H56 -> 0.5
B57: 2. Dilakukan monitoring berkala pelaksanaan PPI tiap 6 bulan sekali dan pertemuan berkala hasil monitoring pelaksanaan PPI | C57: Monitoring pelaksanaan PPI secara berkala minimal setiap 6 bulan sekali | D57: Jumlah pelaksanaan monitoring pelaksanaan PPI dibagi 2, dikali 100% | F57: kali | G57: 4 | H57: 4 | I57: 1 | J57: 2 | K57: =J57/H57 -> 0.5
A58: f | B58: Penggunaan antimikroba yang bijak | L58: =SUM(K59:K60)/2 -> 0.51149425
B59: 1. Penggunaan antibiotik pada kasus ISPA non pneumoni | C59: Penilaian penggunaan antibiotik pada kasus ISPA non penumonia , dengan metode sampling resep dalam 1 bulan | D59: Jumlah resep ISPA non pneumonia yang tidak menggunakan antibiotik | E59: Jumlah sampling resep terplih ISPA non penumonia dalam 1 bulan | F59: resep | G59: 87 | H59: 87 | I59: 1 | J59: 2 | K59: =J59/H59 -> 0.022988506
B60: 2. Penggunaan antibiotik pada kasus diare non spesifik | C60: Penilaian penggunaan antibiotik pada kasus Diare Non Spesifik , dengan metode sampling resep dalam 1 bulan | D60: Jumlah resep Diare Non Spesifik yang tidak menggunakan antibiotik | E60: Jumlah sampling resep Diare Non Spesifik terplih dalam 1 bulan | F60: resep | G60: 12 | H60: 12 | I60: 1 | J60: 12 | K60: =J60/H60 -> 1
A61: g | B61: Pendidikan dan Pelatihan | L61: =K62 -> 1
B62: 1. Dilakukan sosialisasi/workshop PPI di Puskesmas | C62: Sosialisasi /workshop PPI di Puskesmas minimal 1 thn sekali | D62: Jumlah pelaksanaan sosialisasi/workshop dibagi 1 , dikali 100% | F62: kali | G62: 1 | H62: 1 | I62: 1 | J62: 1 | K62: =J62/H62 -> 1
A63: III | B63: INDIKATOR NASIONAL MUTU | L63: =SUM(K64:K75)/6 -> #DIV/0!
A64: a. | B64: Kepatuhan Kebersihan Tangan | H64: =316+245+264+216+243+221+268 -> 1773 | I64: 0.8 | J64: =316+245+264+216+243+221+267 -> 1772 | K64: =J64/H64 -> 0.99943598
B65: Sama dengan indikator PPI
A66: b. | B66: Kepatuhan Penggunaan Alat Pelindung Diri | H66: =89+62+59+60+60+57+65 -> 452 | I66: 1 | J66: =86+60+58+58+58+55+64 -> 439 | K66: =J66/H66 -> 0.97123894
B67: Sama dengan indikator PPI
A68: c. | B68: Kepatuhan Identifikasi Pasien | H68: =49+63+45+34+32+42+45 -> 310 | I68: 1 | J68: =49+63+45+34+32+42+45 -> 310 | K68: =J68/H68 -> 1
B69: Sama dengan indikaotr keselamatan pasien
A70: d. | B70: Keberhasilan pengobatan pasien TB semua kasus sensitif obat | H70: 1 | I70: 0.9 | J70: 1 | K70: =J70/H70 -> 1
B71: keberhasilan pengobatan pasien TB semua kasus sensitif obat untuk mengurangi angka penularan penyakit TB | C71: Jumlah pasien TB SO yang sembuh dan pengobatan lengkap sesuai ketentuan pada tahun berjalan di wilayah kerja puskesmas | D71: Jumlah semua pasien TB SO yang sembuh dan pengobatan lengkap pada tahun berjalan di wilayah kerja Puskesmas | E71: Jumlah semua kasus TB SO yang diobati pada tahun berjalan di wilayah kerja Puskesmas | F71: Rekam medis kasus TB SO pada tahun berjalan
A72: e. | B72: Ibu hamil yang mendapatkan pelayanan ANC sesuai standar | H72: 33 | I72: 1 | J72: 33 | K72: =J72/H72 -> 1
B73: Pelayananan seluruh ibu hamil yang telah bersalin dan mendapatkan pelayanan ANC sesuai standar di wilayah kerja puskesmas | C73: Pelayananan seluruh ibu hamil yang telah bersalin dan mendapatkan pelayanan ANC sesuai standar di wilayah kerja puskesmas pada tahun berjalan | D73: Jumlah ibu hamil yang telah mendapatkan pelayanan ANC lengkap sesuai standar di wilayah kerja Puskesmas tahun berjalan | E73: Jumlah seluruh ibu hamil yang telah bersalin yang mendapatkan pelayanan ANC di wilayah kerja Puskesmas pada tahun berjalan | F73: Rekam medis ibu hamil yang telah bersalin yang mendapatkan ANC di wilker pada tahun ebrjalan | H73: 33 | J73: 33
A74: f. | B74: Kepuasan pasien
B75: Kepuasan pasien adalah hasil pendapat dan penilaian pasien terhadap kinerja pelayanan yang diberikan oleh failitas pelayanan kesehatan | C75: Mengukur secara komprehensif tentang tingkat kepuasan pasien terhadapkualitas layanan yang diberikan oleh failitas pelayanan kesehatan kepada pasien setiap 6 bulan sekali menggunakan kuesionir Permenpan sesuai ketentuan perhitungan yang ditetapkan | D75: Penjumlahan Hasil persentase capaian survei kepuasan pasiendengan menggunakan kuesionir Permenpan Nomor 14 tahun 2017 (semester 1 & 2 ) dibagi 2 dikali 100% | H75: 0 | I75: > 76,61% | J75: 0 | K75: =J75/H75 -> #DIV/0!
B76: Total nilai kinerja Mutu Pelayanan Puskesmas (I - III) | L76: =L7+L21+L63 -> #DIV/0!
B77: Rata- rata kinerja Mutu | L77: =L76/3 -> #DIV/0!
A79: OUTPUT KINERJA MUTU PELAYANAN PUSKESMAS : | D79: rata- rata nilai
A80: 1 | B80: Kinerja Sasaran Keselamatan Pasien | D80: =L7 -> 0.83333333
A81: 2 | B81: Kinerja PPI | D81: =L21 -> #DIV/0!
A82: 3 | B82: Indikator Nasional Mutu | D82: =L63 -> #DIV/0!
A83: Ket : | B83: Interpretasi rata2 kinerja Mutu : | D83: =SUM(D80:D82)/3 -> #DIV/0!
B84: 1. Baik bila nilai rata-rata | C84: > 91%
B85: 2. Cukup bila nilai rata-rata | C85: 81 - 90 %
B86: 3. Rendah bila nilai rata-rata | C86: < 80%

Sheet  chart manajemen
A2: No | B2: KINERJA MUTU MANAJEMEN | C2: Target | D2: capaian
A3: 1 | B3: Manajemen Umum | C3: 10 | D3: ='L2. MANAJEMEN 19'!H26 -> 10
A4: 2 | B4: Manajemen Peralatan dan Sarana Prasarana | C4: 10 | D4: ='L2. MANAJEMEN 19'!H34 -> 10
A5: 3 | B5: Manajemen Keuangan | C5: 10 | D5: ='L2. MANAJEMEN 19'!H42
A6: 4 | B6: Manajemen Sumber Daya Manusia | C6: 10 | D6: ='L2. MANAJEMEN 19'!H47 -> 10
A7: 5 | B7: Manajemen Pelayanan Kefarmasian | C7: 10 | D7: ='L2. MANAJEMEN 19'!H53 -> 10
A8: 6 | B8: Manajemen Pengelolaan Data dan Informasi di Puskesmas (Puskesmas sebagai bank data) | C8: 10 | D8: ='L2. MANAJEMEN 19'!H61 -> 8.75
O22: 10 | P22: ='L2. MANAJEMEN 19'!H26 -> 10
O23: 10 | P23: ='L2. MANAJEMEN 19'!H34 -> 10
O24: 10 | P24: ='L2. MANAJEMEN 19'!H41 -> 10
O25: 10 | P25: ='L2. MANAJEMEN 19'!H47 -> 10
O26: 10 | P26: ='L2. MANAJEMEN 19'!H53 -> 10
O27: 10 | P27: ='L2. MANAJEMEN 19'!H61 -> 8.75

Sheet  chart UKM esen
B1: SPIDER CHART
B2: PKP PUSKESMAS | E2: No | F2: KINERJA UKM ESENSIAL | G2: Target | H2: Capaian
B3: TAHUN 2024 | E3: 1 | F3: Promosi Kesehatan | G3: 1 | H3: =ESENSIAL!Z7 -> 0.23333333
E4: 2 | F4: Kesehatan Lingkungan | G4: 1 | H4: =ESENSIAL!Z28 -> 0
E5: 3 | F5: Pencegahan dan Pengendalian Penyakit | G5: 1 | H5: =ESENSIAL!Z51 -> #DIV/0!
E6: 4 | F6: Pelayanan Kesehatan keluarga | G6: 1 | H6: =ESENSIAL!Z110 -> 0.043313535
E7: 5 | F7: pelayanan Gizi | G7: 1 | H7: =ESENSIAL!Z136 -> #DIV/0!
E8: 6 | F8: Perkesmas | G8: 1 | H8: =ESENSIAL!Z152 -> 0

Sheet chart pengembangan
B2: KINERJA UKM PENGEMBANGAN | C2: Target | D2: capaian
A3: 1 | B3: pelayanan kesehatan tradisional | C3: 1 | D3: =PENGEMBANGAN!#REF! -> #ERROR!
A4: 2 | B4: pelayanan kesehatan gigi | C4: 1 | D4: =PENGEMBANGAN!#REF! -> #ERROR!
A5: 3 | B5: pelayanan kesehatan kerja | C5: 1 | D5: =PENGEMBANGAN!#REF! -> #ERROR!

Sheet UKP
Y1: PENILAIAN KINERJA UPAYA KESEHATAN PERSEORANGAN (UKP) PUSKESMAS TAHUN 2023
A3: NO | B3: JENIS KEGIATAN | D3: DEFINISI OPRESIONAL | E3: CARA PERHITUNGAN | G3: SATUAN | H3: SASARAN | I3: TARGET SASARAN (T) | K3: PENCAPAIAN PER BULAN(H) | W3: CAKUPAN
E4: PEMBILANG | F4: PENYEBUT | I4: Abs | J4: % | K4: 1 | L4: 2 | M4: 3 | N4: 4 | O4: 5 | P4: 6 | Q4: 7 | R4: 8 | S4: 9 | T4: 10 | U4: 11 | V4: 12 | W4: SUBVARIABEL (%) | X4: VARIABEL (%)
A5: 1 | B5: 2 | D5: 3 | E5: 4 | F5: 5 | G5: 6 | H5: 7 | I5: 8 | J5: 9 | K5: 10 | W5: 11 =(10/8) | X5: 12
A6: UPAYA KESEHATAN PERORANGAN
A7: 1 | B7: RAWAT JALAN | X7: =SUM(W8:W15)/7 -> 0.72927145
B8: 1 | C8: Kelengkapan pengisian rekam medik | D8: Pelaksanaan monitoring kelengkapan rekam medik | E8: Jumkah rekam medik yg lengkap pengisianya | F8: Jumkah rekam medik yang diperiksa pada kurun waktu tertentu | G8: RM | H8: 100 | I8: 100 | J8: 1 | K8: 100 | L8: 100 | M8: 100 | N8: 100 | O8: 100 | P8: 100 | Q8: 100 | R8: 100 | S8: 100 | T8: 100 | U8: 100 | V8: 100 | W8: =(AVERAGE(K8:V8))/I8 -> 1
B9: 2 | C9: Cakupan pemakaian obat generik | D9: Jumlah item obat generik yang diresepkan di puskesmas dan pusban | E9: Jumlah obat generik dalam resep | F9: Jumlah obat dalam resep | G9: item obat | H9: 100 | I9: =H9*J9 -> 85 | J9: 0.85 | K9: 98.1 | L9: 98.05 | M9: 94.67 | N9: 95.24 | O9: 98.92 | P9: 99.51 | Q9: 98.65 | R9: 89.38 | S9: 89.52 | T9: 92.11 | U9: 95.19 | V9: 94.9 | W9: =(AVERAGE(K9:V9))/I9 -> 1.1218039
B10: 3 | C10: Pelaksanaan PME | D10: PME adalah kegiatan pemantapan mutu yang diselenggaralan secara periodik oleh pihak lain di luar laboratorium yang bersangkutan untuk memantau dan menilai penampilan suatu laboratorium di bidang pemeriksaan tertentu. | E10: Jumlah PME dengan nilai baik | F10: Jumlah PME yang diikuti DIKALI 100% | G10: Kali | H10: 4 | I10: =H10*J10 -> 4 | J10: 1 | K10: 0 | L10: 0 | M10: 0 | N10: 0 | O10: 0 | P10: 0 | Q10: 1 | R10: 0 | S10: 0 | T10: 1 | U10: 0 | V10: 0 | W10: =(AVERAGE(K10:V10))/I10 -> 0.041666667
B11: 4 | C11: Pelaksanaan PMI | D11: Kegiatan pencegahan dan pengawasan yang dilaksanakan oleh setiap Lab secara terus menerus agar diperoleh hasil pemeriksaan yang tepat serta mendeteksi adanya kesalahan dan memperbaikinya dengan tahapan praanalitik, analiti dan pasca analitik | E11: Jumlah PMI dengan nilai baik | F11: Jumlah PMI yang di lakukan DIKALI 100% | G11: Kali | H11: 12 | I11: =H11*J11 -> 12 | J11: 1 | K11: 1 | L11: 1 | M11: 1 | N11: 1 | O11: 1 | P11: 1 | Q11: 1 | R11: 1 | S11: 1 | T11: 1 | U11: 1 | V11: 1 | W11: =(SUM(K11:V11))/I11 -> 1
B12: 5 | C12: Capaian kbk
C13: 1. Angka Kontak | D13: merupakan indikator untuk mengetahui tingkat aksesabilitas dan pemanfaatan pelayanan primer di FKTP oleh Peserta berdasarkan jumlah peserta JKN (per nomor identitas peserta) yang mendapatkan pelayanan kesehatan di FKTP per bulan baik di dalam gedung maupun di luar gedung tanpa memperhitungkan frekuensi kedatangan peserta dalam satu bulan. dengan target angka kontak >150 ‰ | E13: Jumlah peserta JKN yang melakukan kontak dalam satu tahun | F13: Jumlah peserta JKN terdaftar di FKTP dalam satu tahun di kali 1000 | G13: peserta | H13: 100 | I13: 100 | J13: 1 | K13: =888/9840*1000 -> 90.243902 | L13: =683/9884*1000 -> 69.101578 | M13: 64.97 | N13: 67.75 | O13: 75.87 | P13: 67.56 | Q13: 92.55 | R13: 96.06 | S13: 92.74 | T13: 95.93 | U13: 92.04 | V13: 89.1 | W13: =(AVERAGE(K13:V13))/I13 -> 0.8282629
C14: 2. Rujukan RNS | D14: merupakan indikator untuk mengetahui kualitas pelayanan di FKTP, sehingga sistem rujukan terselenggara sesuai indikasi medis dan kompetensinya. Dengan target < 2 % | E14: Jumlah rujukan Non spesialistik dengan jenis penyakit yang sesui ketentuan perundang undangan dalam satu tahun | F14: Jumlah Total rujukan FKTP Ke FKRTL di kali 100 % | G14: Rujukan | H14: 0 | I14: =H14*J14 -> 0 | J14: 1 | K14: 0 | L14: 0 | M14: 0 | N14: 0.73 | O14: 0 | P14: 0 | Q14: 0 | R14: 0 | S14: 0 | T14: 0 | U14: 0.63 | V14: 0 | W14: 1
C15: 3. HT/DM terkendali | D15: merupakan indikator untuk mengetahui optimalisasi penatalaksanaan Prolanis oleh FKTP dalam menjaga kadar gula darah puasa bagi pasien Diabetes Mellitus tipe 2 (DM) atau tekanan darah bagi pasien Hipertensi Essensial (HT) dengan target > 5 % | E15: Jumlah peserta prolanis DM terkendali dan Rasio HT terkendali dalam satu tahun | F15: Jumlah peserta terdaftar di FKTP dengan Diagnosa DM Dan HT dalam satu tahun di kali 100 % | G15: peserta | H15: 5 | I15: 5 | J15: 1 | K15: 1.59 | L15: 0.6 | M15: 0.42 | N15: 0.35 | O15: 0.6 | P15: 0.26 | Q15: 0.39 | R15: 0.75 | S15: 0.48 | T15: 0.5 | U15: 0.37 | V15: 0.48 | W15: =(AVERAGE(K15:V15))/I15 -> 0.11316667
A16: 2 | B16: RAWAT INAP | X16: =SUM(W17:W18)/2 -> 0.63453283
B17: 1 | C17: BOR (Bed Occupation Rate) | D17: Pemakaian tempat tidur di Puskesmas RI dalam kurun waktu tertentu dengan target penggunaan tempat tidur 60 - 85 % | E17: Jumlah hari perawatan dalam 1 bulan | F17: Hasil kali jumlah tempat tidur dengan jumlah hari dalam satu bulan dikali 100% | G17: persen | H17: 60 | I17: 60 | J17: 1 | K17: 10.22 | L17: 18.97 | M17: 1.61 | N17: 11.67 | O17: 5.38 | P17: 12.78 | Q17: 33.33 | R17: 16.67 | S17: 15.56 | T17: 11.83 | U17: 4.44 | V17: 27.96 | W17: =(AVERAGE(K17:V17))/I17 -> 0.23295455
B18: 2 | C18: AVLOS (Average Lengt Of Stay) | D18: Rata-rata lamanya seorang pasien dirawat dengan lama hari rawat 3-5 hari | E18: Jumlah lama dirawat | F18: Jumlah pasien keluar | G18: hari | H18: 5 | I18: 3 | J18: 1 | K18: 2.7 | L18: 2.8 | M18: 3 | N18: 3.5 | O18: 3.3 | P18: 2.6 | Q18: 3.1 | R18: 2.8 | S18: 3.1 | T18: 3.1 | U18: 4 | V18: 3.3 | W18: =(AVERAGE(K18:V18))/I18 -> 1.0361111
C19: Total nilai kinerja Upaya kesehatan perseorangan (UKP) | X19: =SUM(X7:X18) -> 1.3638043
C20: Rata- rata kinerja UKP | X20: =X19/2 -> 0.68190214
B21: 1 | C21: Baik = Nilai rata-rata > 91 %
B22: 2 | C22: Cukup = Nilai rata-rata 81 - 90 %
B23: 3 | C23: Kurang = Nilai Rata-rata < 80 %

Sheet SPM
A1: STANDAR PELAYANAN MINIMAL (SPM)
A2: PUSKESMAS SUNGAI SIRING TAHUN 2024
A4: NO | B4: JENIS PELAYANAN | C4: TARGET | D4: SASARAN | E4: CAPAIAN | Q4: TOTAL
E5: 1 | F5: 2 | G5: 3 | H5: 4 | I5: 5 | J5: 6 | K5: 7 | L5: 8 | M5: 9 | N5: 10 | O5: 11 | P5: 12 | Q5: ABS | R5: %
A6: 1 | B6: PELAYANAN KESEHATAN IBU HAMIL | C6: 1 | D6: 287 | Q6: =SUM(E6:P6) -> 0 | R6: =Q6/D6 -> 0
A7: 2 | B7: PELYANAN KESEHATAN IBU BERSALIN | C7: 1 | D7: 274 | Q7: =SUM(E7:P7) -> 0 | R7: =Q7/D7 -> 0
A8: 3 | B8: PELAYANAN KESEHAAN BAYI BARU LAHIR | C8: 1 | D8: 251 | E8: 14 | F8: 16 | Q8: =SUM(E8:P8) -> 30 | R8: =Q8/D8 -> 0.11952191
A9: 4 | B9: PELAYANAN KESEHATAN BALITA | C9: 1 | D9: 881 | E9: 23 | F9: 27 | Q9: =SUM(E9:P9) -> 50 | R9: =Q9/D9 -> 0.056753689
A10: 5 | B10: PELAYANAN KESEHATAN PADA USIA PENDIDIKAN DASAR | C10: 1 | D10: 3027 | Q10: =SUM(E10:P10) -> 0 | R10: =Q10/D10 -> 0
A11: 6 | B11: PELAYANAN KESEHATAN PADA USIA PRODUKTIF | C11: 1 | D11: 11069 | Q11: =SUM(E11:P11) -> 0 | R11: =Q11/D11 -> 0
A12: 7 | B12: PELAYANAN KESEHATAN PADA USIA LANJUT | C12: 1 | D12: 1166 | E12: 87 | F12: 78 | Q12: =SUM(E12:P12) -> 165 | R12: =Q12/D12 -> 0.14150943
A13: 8 | B13: PELAYANAN KESEHATAN PADA PENDERITA HIPERTENSI | C13: 1 | D13: 4432 | Q13: =SUM(E13:P13) -> 0 | R13: =Q13/D13 -> 0
A14: 9 | B14: PELAYANA KESEHATAN PADA PENDERITA DIABETES MILITUS | C14: 1 | D14: 439 | Q14: =SUM(E14:P14) -> 0 | R14: =Q14/D14 -> 0
A15: 10 | B15: PELAYANAN KESEHATAN PADA ORANG DENGAN GANGGUAN JIWA (odgj) | C15: 1 | D15: 22 | E15: 7 | F15: 1 | Q15: =SUM(E15:P15) -> 8 | R15: =Q15/D15 -> 0.36363636
A16: 11 | B16: PELAYANAN KESEHATAN ORANG TERDUGA TUBERKOLOSIS | C16: 1 | D16: 467 | Q16: =SUM(E16:P16) -> 0 | R16: =Q16/D16 -> 0
A17: 12 | B17: PELAYANAN KESEHATAN ORANG DENGAN RESIKO TERINFEKSI VIRUS YANG MELEMAHKAN DAYA TAHAN TUBUH MANUSIA (HIV) | C17: 1 | D17: 498 | E17: 15 | F17: 17 | Q17: =SUM(E17:P17) -> 32 | R17: =Q17/D17 -> 0.064257028

Sheet Sheet1
